Workbook

Sheet Лист1
B1: библиотеки 2019 | E1: ИТОГО | G1: 2018 | H1: 2019
A2: 1 | B2: Число посещений библиотеки | C2: ='биб-ки'!DZ34 -> 3848.278 | D2: 3.241 | E2: =C2+D2 -> 3851.519
B3: б-ки кду | C3: ='биб-ки'!#REF! -> #REF! | E3: =C3+D3 -> #REF!
B4: ВСЕГО | E4: =SUM(E2:E3) -> #REF! | H4: =E4 -> #REF!
B5: число посещений КИБО | C5: 3.241 | E5: =C5+D5 -> 3.241
B6: библиотеки 2018
B7: Число посещений библиотеки | C7: ='биб-ки'!DY34 -> 3339.593 | D7: 3.121 | E7: =C7+D7 -> 3342.714
B8: б-ки кду | C8: ='биб-ки'!#REF! -> #REF! | E8: =C8+D8 -> #REF!
B9: ВСЕГО | E9: =SUM(E7:E8) -> #REF! | G9: =E9 -> #REF!
B10: число посещений КИБО | C10: 3.121 | E10: =C10+D10 -> 3.121
B12: КДУ 2019
A13: 2 | B13: к-во посещений плат.меропр. | C13: =#REF!/1000 -> #REF! | E13: =C13+D13 -> #REF! | H13: =E13 -> #REF!
B14: к-во уч. КДФ | C14: =#REF!/1000 -> #REF! | E14: =C14+D14 -> #REF! | H14: =E14 -> #REF!
B15: к-во посещ.меропр.с пр.сп.тр. Из общего числа | C15: =1838/1000 -> 1.838 | E15: =C15+D15 -> 1.838
B16: КДУ 2018
A17: 2 | B17: к-во посещений плат.меропр. | C17: =#REF!/1000 -> #REF! | E17: =C17+D17 -> #REF! | G17: =E17 -> #REF!
B18: к-во уч. КДФ | C18: =#REF!/1000 -> #REF! | E18: =C18+D18 -> #REF! | G18: =E18 -> #REF!
B19: к-во посещ.меропр.с пр.сп.тр. Из общего числа | C19: =2456/1000 -> 2.456 | E19: =C19+D19 -> 2.456
B21: музеи 2019
B22: Число посещений музея - всего | C22: =#REF! -> #REF! | E22: =C22+D22 -> #REF! | H22: =E22 -> #REF!
B23: музеи 2018
B24: Число посещений музея - всего | C24: =#REF! -> #REF! | E24: =C24+D24 -> #REF! | G24: =E24 -> #REF!
B26: театры 2019
B27: Численность зрителей на мероп, провед.собств.силами | C27: =#REF! -> #REF! | E27: =C27+D27 -> #REF! | F27: 330.2
B28: негос театры | D28: 34.3 | E28: =C28+D28 -> 34.3
B29: ИТОГО | C29: =C27+C28 -> #REF! | D29: =D27+D28 -> 34.3 | E29: =C29+D29 -> #REF! | H29: =E29 -> #REF!
B30: театры 2018
B31: Численность зрителей на мероп, провед.собств.силами | C31: =#REF! -> #REF! | E31: =C31+D31 -> #REF! | F31: 399.4
B32: негос театры | D32: 36.7 | E32: =C32+D32 -> 36.7
B33: ИТОГО | C33: =C31+C32 -> #REF! | D33: =D31+D32 -> 36.7 | E33: =C33+D33 -> #REF! | G33: =E33 -> #REF!
B35: Концертн.орг.2019
B36: Число зрителей на мер-х, провед.в пред.своего субъекта РФ | C36: =Конц.!AK12 -> 178.5 | E36: =C36+D36 -> 178.5 | H36: =E36 -> 178.5
B37: Концертн.орг.2018
B38: Число зрителей на мер-х, провед.в пред.своего субъекта РФ | C38: =Конц.!AJ12 -> 253.9 | E38: =C38+D38 -> 253.9 | G38: =E38 -> 253.9
B40: зоопарки 2019
B41: Число посещений - всего | C41: =зоопарк!N9 -> 66.3 | E41: =C41+D41 -> 66.3 | H41: =E41 -> 66.3
B42: зоопарки 2019
B43: Число посещений - всего | C43: =зоопарк!M9 -> 61.7 | E43: =C43+D43 -> 61.7 | G43: =E43 -> 61.7
G44: =SUM(G2:G43) -> #REF! | H44: =SUM(H2:H43) -> #REF!
B45: числ.насел получ.услуги автоклубов
...

Sheet УК гг
A1: Количество учреждений культуры и образования сферы культуры Томской области (сет.ед.)
A2: Наименование учреждений | B2: Количество муниципальных учреждений (МУ) | D2: Количество областных учреждений (ОУ) | F2: ВСЕГО
B3: 2022 | C3: 2023 | D3: 2022 | E3: 2023 | F3: 2022 | G3: 2023
A4: Клубы | B4: 272 | C4: 269 | D4: 4 | E4: 4 | F4: =B4+D4 -> 276 | G4: =C4+E4 -> 273
A5: Библиотеки | B5: 318 | C5: 317 | D5: 2 | E5: 2 | F5: =B5+D5 -> 320 | G5: =C5+E5 -> 319
A6: ДМШ, ДШИ, ДХШ | B6: 24 | C6: 24 | D6: 6 | E6: 6 | F6: =B6+D6 -> 30 | G6: =C6+E6 -> 30
A7: Музеи (всего / в т.ч. филиалы / в т.ч.структурные подразделения) | B7: 9/1/1 | C7: 10/1/1 | D7: 8/6 | E7: 8/6 | F7: 17/7/1 | G7: 18/7/1
A8: Театры | B8: 2 | C8: 2 | D8: 3 | E8: 3 | F8: =B8+D8 -> 5 | G8: =C8+E8 -> 5
A9: Филармония | D9: 1 | E9: 1 | F9: =B9+D9 -> 1 | G9: =C9+E9 -> 1
A10: Учреждения среднего профессионального образования | D10: 2 | E10: 2 | F10: =B10+D10 -> 2 | G10: =C10+E10 -> 2
A11: ТОИУМЦКИ | D11: 1 | E11: 1 | F11: =B11+D11 -> 1 | G11: =C11+E11 -> 1
A12: Центр по охране памятников | D12: 1 | E12: 1 | F12: =B12+D12 -> 1 | G12: =C12+E12 -> 1
A13: Северский природный парк (зоопарк) | B13: 1 | C13: 1 | F13: =B13+D13 -> 1 | G13: =C13+E13 -> 1
A14: Архивы | B14: 1 | C14: 1 | D14: 2 | E14: 2 | F14: =B14+D14 -> 3 | G14: =C14+E14 -> 3
A15: Итого учреждений культуры (в т.ч. филиалы и структурные подразделения): | B15: =SUM(B4:B6)+9+SUM(B8:B14) -> 627 | C15: =SUM(C4:C6)+10+SUM(C8:C14) -> 624 | D15: =SUM(D4:D6)+SUM(D8:D14)+8 -> 30 | E15: =SUM(E4:E6)+SUM(E8:E14)+8 -> 30 | F15: =SUM(F4:F6)+SUM(F8:F14)+17 -> 657 | G15: =SUM(G4:G6)+SUM(G8:G14)+18 -> 654
A16: ЦДСО "Томь" * | D16: 1 | F16: =B16+D16 -> 1 | G16: =C16+E16 -> 0
A17: ВСЕГО: | B17: =B15+B16 -> 627 | C17: =C15+C16 -> 624 | D17: =D15+D16 -> 31 | E17: =E15+E16 -> 30 | F17: =F15+F16 -> 658 | G17: =G15+G16 -> 654
A19: В том числе: Структурные подразделения учр-ний культуры, осуществляющие библиотечную деятельность (справочно) | B19: 2 | C19: 2 | F19: =B19+D19 -> 2
A21: *) ЦДСО "Томь"- основной ОКВЭД: 55.90 (Деятельность по предоставлению прочих мест для временного проживания)

Sheet Кол-во УК
A1: Количество учреждений культуры, искусства и образования сферы культуры Томской области в разрезе муниципальных образований
A3: Наименование | B3: Код стр. | C3: Количество учреждений культуры, искусства и образования сферы культуры , сет.ед.
C4: ВСЕГО | E4: в том числе:
E5: культурно-досуговые учреждения | G5: библиотеки | I5: ДМШ, ДШИ, ДХШ | K5: музеи (всего / в т.ч. филиалы / в т.ч.структурные подразделения) | M5: театрально-зрелищные учреждения | O5: учреждения среднего профессионального образования | Q5: ТОИУМЦКИ | S5: зоопарк | U5: архивы | W5: Центр по охране памятников
C6: 2022 | D6: 2023 | E6: 2022 | F6: 2023 | G6: 2022 | H6: 2023 | I6: 2022 | J6: 2023 | K6: 2022 | L6: 2023 | M6: 2022 | N6: 2023 | O6: 2022 | P6: 2023 | Q6: 2022 | R6: 2023 | S6: 2022 | T6: 2023 | U6: 2022 | V6: 2023 | W6: 2022 | X6: 2023
B7: 1 | C7: 2 | D7: 3 | E7: 4 | F7: 5 | G7: 6 | H7: 7 | I7: 8 | J7: 9 | K7: 10 | L7: 11 | M7: 12 | N7: 13 | O7: 14 | P7: 15 | Q7: 16 | R7: 17 | S7: 18 | T7: 19 | U7: 20 | V7: 21 | W7: 22 | X7: 23
A8: Александровский | B8: 01 | C8: =E8+G8+I8+K8+M8+O8+Q8+S8+U8+W8 -> 17 | D8: =F8+H8+J8+L8+N8+P8+R8+T8+V8+X8 -> 17 | E8: 8 | F8: 7 | G8: 8 | H8: 8 | I8: 1 | J8: 1 | L8: 1
A9: Асиновский | B9: 02 | C9: =E9+G9+I9+K9+M9+O9+Q9+S9+U9+W9 -> 37 | D9: =F9+H9+J9+L9+N9+P9+R9+T9+V9+X9 -> 37 | E9: 17 | F9: 17 | G9: 20 | H9: 20
A10: Бакчарский | B10: 03 | C10: =E10+G10+I10+K10+M10+O10+Q10+S10+U10+W10 -> 32 | D10: =F10+H10+J10+L10+N10+P10+R10+T10+V10+X10 -> 32 | E10: 18 | F10: 18 | G10: 13 | H10: 13 | K10: 1 | L10: 1
A11: Верхнекетский | B11: 04 | C11: =E11+G11+I11+K11+M11+O11+Q11+S11+U11+W11 -> 22 | D11: =F11+H11+J11+L11+N11+P11+R11+T11+V11+X11 -> 21 | E11: 9 | F11: 9 | G11: 13 | H11: 12
A12: Зырянский | B12: 05 | C12: =E12+G12+I12+K12+M12+O12+Q12+S12+U12+W12 -> 40 | D12: =F12+H12+J12+L12+N12+P12+R12+T12+V12+X12 -> 40 | E12: 21 | F12: 21 | G12: 18 | H12: 18 | K12: 1 | L12: 1
A13: Каргасокский | B13: 06 | C13: =E13+G13+I13+K13+M13+O13+Q13+S13+U13+W13 -> 41 | D13: =F13+H13+J13+L13+N13+P13+R13+T13+V13+X13 -> 41 | E13: 18 | F13: 18 | G13: 22 | H13: 22 | I13: 1 | J13: 1
A14: Кожевниковский | B14: 07 | C14: =E14+G14+I14+K14+M14+O14+Q14+S14+U14+W14 -> 45 | D14: =F14+H14+J14+L14+N14+P14+R14+T14+V14+X14 -> 45 | E14: 24 | F14: 24 | G14: 21 | H14: 21
A15: Колпашевский | B15: 08 | C15: =E15+G15+I15+K15+M15+O15+Q15+S15+U15+W15 -> 43 | D15: =F15+H15+J15+L15+N15+P15+R15+T15+V15+X15 -> 43 | E15: 17 | F15: 17 | G15: 25 | H15: 25 | U15: 1 | V15: 1
A16: Кривошеинский | B16: 09 | C16: =E16+G16+I16+K16+M16+O16+Q16+S16+U16+W16 -> 28 | D16: =F16+H16+J16+L16+N16+P16+R16+T16+V16+X16 -> 28 | E16: 15 | F16: 15 | G16: 13 | H16: 13
A17: Молчановский | B17: 10 | C17: =E17+G17+I17+K17+M17+O17+Q17+S17+U17+W17 -> 22 | D17: =F17+H17+J17+L17+N17+P17+R17+T17+V17+X17 -> 22 | E17: 8 | F17: 8 | G17: 13 | H17: 13 | I17: 1 | J17: 1
A18: Парабельский | B18: 11 | C18: =E18+G18+I18+K18+M18+O18+Q18+S18+U18+W18 -> 31 | D18: =F18+H18+J18+L18+N18+P18+R18+T18+V18+X18 -> 31 | E18: 12 | F18: 12 | G18: 17 | H18: 17 | I18: 1 | J18: 1 | K18: 1 | L18: 1
A19: Первомайский | B19: 12 | C19: =E19+G19+I19+2+M19+O19+Q19+S19+U19+W19 -> 45 | D19: =F19+H19+J19+2+N19+P19+R19+T19+V19+X19 -> 45 | E19: 22 | F19: 22 | G19: 20 | H19: 20 | I19: 1 | J19: 1 | K19: 2/1ф | L19: 2/1ф
A20: Тегульдетский | B20: 13 | C20: =E20+G20+I20+K20+M20+O20+Q20+S20+U20+W20 -> 12 | D20: =F20+H20+J20+L20+N20+P20+R20+T20+V20+X20 -> 12 | E20: 6 | F20: 6 | G20: 6 | H20: 6
A21: Томский | B21: 14 | C21: =E21+G21+I21+K21+M21+O21+Q21+S21+U21+W21 -> 82 | D21: =F21+H21+J21+L21+N21+P21+R21+T21+V21+X21 -> 82 | E21: 39 | F21: 39 | G21: 39 | H21: 39 | I21: 4 | J21: 4
A22: Чаинский | B22: 15 | C22: =E22+G22+I22+K22+M22+O22+Q22+S22+U22+W22 -> 32 | D22: =F22+H22+J22+L22+N22+P22+R22+T22+V22+X22 -> 32 | E22: 14 | F22: 14 | G22: 16 | H22: 16 | I22: 2 | J22: 2
A23: Шегарский | B23: 16 | C23: =E23+G23+I23+K23+M23+O23+Q23+S23+U23+W23 -> 31 | D23: =F23+H23+J23+L23+N23+P23+R23+T23+V23+X23 -> 29 | E23: 14 | F23: 12 | G23: 16 | H23: 16 | K23: 1 | L23: 1
A24: г.Кедровый | B24: 17 | C24: =E24+G24+I24+K24+M24+O24+Q24+S24+U24+W24 -> 5 | D24: =F24+H24+J24+L24+N24+P24+R24+T24+V24+X24 -> 5 | E24: 2 | F24: 2 | G24: 2 | H24: 2 | I24: 1 | J24: 1
A25: г.Стрежевой | B25: 18 | C25: =E25+G25+I25+1+M25+O25+Q25+S25+U25+W25 -> 5 | D25: =F25+H25+J25+1+N25+P25+R25+T25+V25+X25 -> 5 | E25: 1 | F25: 1 | G25: 2 | H25: 2 | I25: 1 | J25: 1 | K25: 1стр.подр. | L25: 1стр.подр.
A26: г.Томск | B26: 19 | C26: =E26+G26+I26+K26+M26+O26+Q26+S26+U26+W26 -> 40 | D26: =F26+H26+J26+L26+N26+P26+R26+T26+V26+X26 -> 40 | E26: 5 | F26: 5 | G26: 26 | H26: 26 | I26: 8 | J26: 8 | K26: 1 | L26: 1
A27: ЗАТО Северск | B27: 20 | C27: =E27+G27+I27+K27+M27+O27+Q27+S27+U27+W27 -> 17 | D27: =F27+H27+J27+L27+N27+P27+R27+T27+V27+X27 -> 17 | E27: 2 | F27: 2 | G27: 8 | H27: 8 | I27: 3 | J27: 3 | K27: 1 | L27: 1 | M27: 2 | N27: 2 | S27: 1 | T27: 1
A28: Итого МУ: | B28: 21 | C28: =SUM(C8:C27) -> 627 | D28: =SUM(D8:D27) -> 624 | E28: =SUM(E8:E27) -> 272 | F28: =SUM(F8:F27) -> 269 | G28: =SUM(G8:G27) -> 318 | H28: =SUM(H8:H27) -> 317 | I28: =SUM(I8:I27) -> 24 | J28: =SUM(J8:J27) -> 24 | K28: 9/1/1 | L28: 10/1/1 | M28: =SUM(M8:M27) -> 2 | N28: =SUM(N8:N27) -> 2 | O28: =SUM(O8:O27) -> 0 | P28: =SUM(P8:P27) -> 0 | Q28: =SUM(Q8:Q27) -> 0 | R28: =SUM(R8:R27) -> 0 | S28: =SUM(S8:S27) -> 1 | T28: =SUM(T8:T27) -> 1 | ... X28: =SUM(X8:X27) -> 0
A29: Областные учреждения | B29: 22 | C29: =E29+G29+I29+8+M29+O29+Q29+S29+U29+W29 -> 30 | D29: =F29+H29+J29+8+N29+P29+R29+T29+V29+X29 -> 30 | E29: 4 | F29: 4 | G29: 2 | H29: 2 | I29: 6 | J29: 6 | K29: 8/6 | L29: 8/6 | M29: 4 | N29: 4 | O29: 2 | P29: 2 | Q29: 1 | R29: 1 | U29: 2 | V29: 2 | W29: 1 | X29: 1
A30: ВСЕГО: | B30: 23 | C30: =C28+C29 -> 657 | D30: =D28+D29 -> 654 | E30: =E28+E29 -> 276 | F30: =F28+F29 -> 273 | G30: =G28+G29 -> 320 | H30: =H28+H29 -> 319 | I30: =I28+I29 -> 30 | J30: =J28+J29 -> 30 | K30: 17/7/1 | L30: 18/7/1 | M30: =M28+M29 -> 6 | N30: =N28+N29 -> 6 | O30: =O28+O29 -> 2 | P30: =P28+P29 -> 2 | Q30: =Q28+Q29 -> 1 | R30: =R28+R29 -> 1 | S30: =S28+S29 -> 1 | T30: =T28+T29 -> 1 | ... X30: =X28+X29 -> 1
A31: Кроме того:
A32: Сторонние учреждения культуры | C32: =E32+G32+I32+K32+M32+O32+Q32+S32+U32+W32 -> 7 | D32: =F32+H32+J32+L32+N32+P32+R32+T32+V32+X32 -> 5 | E32: 2 | F32: 2 | G32: 1 | H32: 0 | K32: 1 | L32: 1 | M32: 3 | N32: 2
D34: =D30+D32 -> 659
A36: ВСЕГО: | C36: =C30+C35 -> 657 | D36: =D30+D35 -> 654
C37: =C36-'[1]УК гг '!F17 -> 2 | D37: =D36-'[1]УК гг '!G17 -> -4

Sheet биб-ки
A1: Общие сведения по библиотекам | AL1: Электронные ресурсы библиотек | BM1: Среднее количество населения на одну библиотеку в муниципальных образованиях (тыс.чел.) | CF1: Движение библиотечного фонда | DI1: Работа с пользователями | DV1: 13.07.2023 разговаривала с Курто Е.В. - общее число посещений нужно добавить в ст.сборник; далее решить самим: что оставить, что убрать | FA1: Персонал библиотек | FY1: Поступление и использование финансовых средств библиотек за 2023 г.
A3: N п/п | B3: Наименование | C3: Код стр. | D3: Общее число библиотек и библиотек-филиалов на конец отч. года, всего (сет. ед.) | J3: из общего числа библиотек имеют помещения | T3: Число детских библиотек, сет. ед. | V3: из общего числа библиотек имеют | AH3: Число пунктов вне стационарного обслуживания пользователей б-ки, ед. | AL3: N п/п | AM3: Наименование | AN3: Код стр. | AO3: Из общего числа библиотек | BF3: Объем электронного каталога на конец отчетного года, тыс. ед. | BM3: N п/п | BN3: Наименование районов и городов | BO3: Код стр. | BP3: Численность постоянного населения на 1 января соотв. года | BV3: Среднее число жителей на одну библиотеку | CF3: N п/п | CG3: Наименование | CH3: Код стр. | CI3: Библиотечный фонд (состоит документов на конец отчетного года), тыс.экз. | CR3: Поступило документов за отчетный год, тыс.экз. | DA3: Поступило документов за год в среднем на 1000 жителей, ед. | DD3: Обеспеченность жителей фондами библиотек (на 1 жителя), экз. | DG3: Место среди районов | DI3: N п/п | DJ3: Наименование | DK3: Код стр. | DL3: Число зарегистрированных пользователей библиотеки - всего, тыс. чел. | DO3: из них пользователей, обслуженных в стационарных условиях | DR3: % охвата населения библиотечным обслуживанием | DU3: Место среди районов | DV3: Число посещений библиотеки - всего, тыс.ед | DY3: в том числе в стационарных условиях - всего | EB3: Число обращений к библиотеке удаленных пользователей - всего, тыс. ед. | EE3: Обеспеченность пользователей фондами библиотек, экз. | EH3: Число библиотечных мероприятий, ед. | EK3: Выдано (просмотрено) документов из фондов данной библиотеки - ВСЕГО (в стационарном, во внестационарном и удаленном режиме), тыс.ед. | EN3: Читаемость | EQ3: Обращаемость | ET3: Выполнено справок и консультаций - ВСЕГО (в стационарном, во внестационарном и удаленном режиме), тыс.ед. | EW3: Выдано (просмотрено) документов из фондов других библиотек - ВСЕГО (в стационарном, во внестационарном и удаленном режиме), тыс.ед. | FA3: N п/п | FB3: Наименование | FC3: Код стр. | FD3: Численность работников - всего, чел. | FG3: из общей численности работников - основной персонал | FJ3: из численности работников, относящихся к основному персоналу, имеют образование | FP3: % работников осн. перс. с высш. и ср.професс. образованием 2023 г. | FQ3: Место среди районов | FR3: Нагрузка на одного библиотечного работника | FY3: N п/п | FZ3: Наименование | GA3: Код стр. | GB3: Поступило за год - всего, тыс. руб. | GC3: В сред-нем на 1 библиотеку, тыс. руб. | GD3: Место среди районов | GE3: из общей суммы поступлений | GK3: Израсходовано за год - всего, тыс. руб. | GL3: из них расходы на: | GS3: Количество финансовых средств
J4: в оперативном управлении | L4: из них | R4: % библиотек, работающих в помещениях, находящихся в неудовлетв. состоянии | V4: пункты вне стационарного обслуживания пользователей библиотеки | Y4: посадочные места для пользователей | AO4: имеют доступ в Интернет | AR4: из них имеют доступ посетители | AU4: % библиотек, имеющих доступ в Интернет | AW4: имеют собственный Интернет-сайт или Интернет-страницу | AZ4: создают, приобретают электронные каталогии | BC4: из них доступных в Интернете | GE4: бюджетные ассигнования учредителя | GF4: финансирование из бюджетов других уровней | GG4: поступл. от оказания услуг (выполнения работ) на платной основе и от иной приносящей доход деят-сти, всего | GH4: из них | GJ4: % бюджетного финансирования | GL4: оплату труда | GM4: кап. ремонт и реконструкцию | GN4: приобретение (замену) оборудования | GO4: из них для улучш. условий доступности для инвалидов и лиц с ОВЗ | GP4: комплектование фонда | GQ4: организацию и провед. мероприятий | GR4: информатизацию библ-ной деят-сти
L5: требуют капитального ремонта | O5: аварийные | Y5: всего | AB5: из них компьютеризированные (из гр.23 и гр.24 соотв-но) | AE5: из них с возможностью выхода в Интернет (из гр.26 и гр.27 соотв-но) | BF5: общее число записей | BI5: из них число записей, доступных в Интернете | BP5: 2022* | BS5: 2023 | BV5: 2022 | BY5: 2023 г. | CB5: Отклонения к 2022 г. | CI5: Всего | CL5: Город | CO5: Село | CR5: Всего | CU5: Город | CX5: Село | FJ5: высшее | FM5: среднее профессиональное | FR5: Число пользователей, чел. | FU5: Выдача фонда, тыс.экз. | GH5: благотворительные и спонсорские вклады | GI5: от сдачи имущества в аренду | GS5: на 1 жителя, руб. | GT5: Место среди районов | GU5: на 1 читателя, руб. | GV5: Место среди районов
D6: 2022 | G6: 2023
D8: Всего | E8: Город | F8: Село | G8: Всего | H8: Город | I8: Село | J8: 2022 | K8: 2023 | L8: 2022 | M8: 2023 | N8: отк. | O8: 2022 | P8: 2023 | Q8: отк. | R8: 2022 | S8: 2023 | T8: 2022 | U8: 2023 | V8: 2022 | W8: 2023 | X8: отк. | Y8: 2022 | Z8: 2023 | AA8: отк. | AB8: 2022 | AC8: 2023 | AD8: отк. | AE8: 2022 | AF8: 2023 | AG8: отк. | AH8: 2022 | AI8: 2023 | AJ8: отк. | AO8: 2022 | AP8: 2023 | AQ8: отк. | AR8: 2022 | AS8: 2023 | AT8: отк. | AU8: 2022 | AV8: 2023 | AW8: 2022 | AX8: 2023 | AY8: отк. | AZ8: 2022 | BA8: 2023 | BB8: отк. | BC8: 2022 | BD8: 2023 | BE8: отк. | BF8: 2022 | BG8: 2023 | BH8: отк. | BI8: 2022 | BJ8: 2023 | BK8: отк. | BP8: Всего | BQ8: Город | BR8: Село | BS8: Всего | BT8: Город | BU8: Село | BV8: Всего | BW8: Город | BX8: Село | BY8: Всего | BZ8: Город | CA8: Село | CB8: Всего | CC8: Город | CD8: Село | CI8: 2022 | CJ8: 2023 | CK8: отк. | CL8: 2022 | CM8: 2023 | CN8: отк. | CO8: 2022 | CP8: 2023 | CQ8: отк. | CR8: 2022 | CS8: 2023 | CT8: отк. | CU8: 2022 | CV8: 2023 | CW8: отк. | CX8: 2022 | CY8: 2023 | CZ8: отк. | DA8: 2022 | DB8: 2023 | DC8: отк. | DD8: 2022 | DE8: 2023 | DF8: отк. | DL8: 2022 | DM8: 2023 | DN8: отк. | DO8: 2022 | DP8: 2023 | DQ8: отк. | DR8: 2022 | DS8: 2023 | DT8: отк. | DV8: 2022 | DW8: 2023 | DX8: отк. | DY8: 2022 | DZ8: 2023 | EA8: отк. | EB8: 2022 | EC8: 2023 | ED8: отк. | EE8: 2022 | EF8: 2023 | EG8: отк. | EH8: 2022 | EI8: 2023 | EJ8: отк. | EK8: 2022 | EL8: 2023 | EM8: отк. | EN8: 2022 | EO8: 2023 | EP8: отк. | EQ8: 2022 | ER8: 2023 | ES8: отк. | ET8: 2022 | EU8: 2023 | EV8: отк. | EW8: 2022 | EX8: 2023 | EY8: отк. | FD8: 2022 | FE8: 2023 | FF8: отк. | FG8: 2022 | FH8: 2023 | FI8: отк. | FJ8: 2022 | FK8: 2023 | FL8: отк. | FM8: 2022 | FN8: 2023 | FO8: отк. | FR8: 2022 | FS8: 2023 | FT8: отк. | FU8: 2022 | FV8: 2023 | FW8: отк.
C9: 1 | D9: 2 | E9: 3 | F9: 4 | G9: 5 | H9: 6 | I9: 7 | J9: 8 | K9: 9 | L9: 10 | M9: 11 | N9: 12 | O9: 13 | P9: 14 | Q9: 15 | R9: 16 | S9: 17 | T9: 18 | U9: 19 | V9: 20 | W9: 21 | X9: 22 | Y9: 23 | Z9: 24 | AA9: 25 | AB9: 26 | AC9: 27 | AD9: 28 | AE9: 29 | AF9: 30 | AG9: 31 | AH9: 32 | AI9: 33 | AJ9: 34 | AN9: 1 | AO9: 2 | AP9: 3 | AQ9: 4 | AR9: 5 | AS9: 6 | AT9: 7 | AU9: 8 | AV9: 9 | AW9: 10 | AX9: 11 | AY9: 12 | AZ9: 13 | BA9: 14 | BB9: 15 | BC9: 16 | BD9: 17 | BE9: 18 | BF9: 19 | BG9: 20 | BH9: 21 | BI9: 22 | BJ9: 23 | BK9: 24 | BO9: 1 | BP9: 2 | BQ9: 3 | BR9: 4 | BS9: 5 | BT9: 6 | BU9: 7 | BV9: 8 | BW9: 9 | BX9: 10 | BY9: 11 | BZ9: 12 | CA9: 13 | CB9: 14 | CC9: 15 | CD9: 16 | CH9: 1 | CI9: 2 | CJ9: 3 | CK9: 4 | CL9: 5 | CM9: 6 | CN9: 7 | CO9: 8 | CP9: 9 | CQ9: 10 | CR9: 11 | CS9: 12 | CT9: 13 | CU9: 14 | CV9: 15 | CW9: 16 | CX9: 17 | CY9: 18 | CZ9: 19 | DA9: 20 | DB9: 21 | DC9: 22 | DD9: 23 | DE9: 24 | DF9: 25 | DG9: 26 | DK9: 1 | DL9: 2 | DM9: 3 | DN9: 4 | DO9: 5 | DP9: 6 | DQ9: 7 | DR9: 8 | DS9: 9 | DT9: 10 | DU9: 11 | DV9: 12 | DW9: 13 | DX9: 14 | DY9: 15 | DZ9: 16 | EA9: 17 | EB9: 18 | EC9: 19 | ED9: 20 | EE9: 21 | EF9: 22 | EG9: 23 | EH9: 24 | EI9: 25 | EJ9: 26 | EK9: 27 | EL9: 28 | EM9: 29 | EN9: 30 | EO9: 31 | EP9: 32 | EQ9: 33 | ER9: 34 | ES9: 35 | ET9: 36 | EU9: 37 | EV9: 38 | EW9: 39 | EX9: 40 | EY9: 41 | FC9: 1 | FD9: 2 | FE9: 3 | FF9: 4 | FG9: 5 | FH9: 6 | FI9: 7 | FJ9: 8 | FK9: 9 | FL9: 10 | FM9: 11 | FN9: 12 | FO9: 13 | FP9: 14 | FQ9: 15 | FR9: 16 | FS9: 17 | FT9: 18 | FU9: 19 | FV9: 20 | FW9: 21 | GA9: 1 | GB9: 2 | GC9: 3 | GD9: 4 | GE9: 5 | GF9: 6 | GG9: 7 | GH9: 8 | GI9: 9 | GJ9: 10 | GK9: 11 | GL9: 12 | GM9: 13 | GN9: 14 | GO9: 15 | GP9: 16 | GQ9: 17 | GR9: 18 | GS9: 19 | GT9: 20 | GU9: 21 | GV9: 22
A10: 1 | B10: Александровский | C10: 01 | D10: =E10+F10 -> 8 | F10: 8 | G10: =H10+I10 -> 8 | I10: 8 | J10: 8 | K10: 8 | N10: =M10-L10 -> 0 | Q10: =P10-O10 -> 0 | R10: =ROUND((L10+O10)/D10*100,1) -> 0 | S10: =ROUND((M10+P10)/G10*100,1) -> 0 | T10: 1 | U10: 1 | X10: =W10-V10 -> 0 | Y10: 7 | Z10: 7 | AA10: =Z10-Y10 -> 0 | AB10: 2 | AC10: 3 | AD10: =AC10-AB10 -> 1 | AE10: 1 | AF10: 1 | AG10: =AF10-AE10 -> 0 | AJ10: =AI10-AH10 -> 0 | AL10: 1 | AM10: Александровский | AN10: 01 | AO10: 2 | AP10: 2 | AQ10: =AP10-AO10 -> 0 | AR10: 2 | AS10: 2 | AT10: =AS10-AR10 -> 0 | AU10: =ROUND(AO10/D10*100,1) -> 25 | AV10: =ROUND(AP10/G10*100,1) -> 25 | AW10: 2 | AX10: 2 | AY10: =AX10-AW10 -> 0 | AZ10: 2 | BA10: 2 | BB10: =BA10-AZ10 -> 0 | BC10: 2 | BD10: 2 | BE10: =BD10-BC10 -> 0 | BF10: 19.698 | BG10: 21.075 | BH10: =BG10-BF10 -> 1.377 | BI10: 19.698 | BJ10: 21.075 | BK10: =BJ10-BI10 -> 1.377 | BM10: 1 | BN10: Александровский | BO10: 01 | BP10: =BQ10+BR10 -> 7.598 | BR10: 7.598 | BS10: =BT10+BU10 -> 7.4 | BU10: 7.4 | BV10: =ROUND(BP10/D10,2) -> 0.95 | BX10: =ROUND(BR10/F10,2) -> 0.95 | BY10: =ROUND(BS10/G10,2) -> 0.93 | CA10: =ROUND(BU10/I10,2) -> 0.93 | CB10: =BY10-BV10 -> -0.02 | CC10: =BZ10-BW10 -> 0 | CD10: =CA10-BX10 -> -0.02 | CF10: 1 | CG10: Александровский | CH10: 01 | CI10: =CL10+CO10 -> 69.352 | CJ10: =CM10+CP10 -> 68.563 | CK10: =CJ10-CI10 -> -0.789 | CN10: =CM10-CL10 -> 0 | CO10: 69.352 | CP10: 68.563 | CQ10: =CP10-CO10 -> -0.789 | CR10: =CU10+CX10 -> 2.729 | CS10: =CV10+CY10 -> 2.606 | CT10: =CS10-CR10 -> -0.123 | CW10: =CV10-CU10 -> 0 | CX10: 2.729 | CY10: 2.606 | CZ10: =CY10-CX10 -> -0.123 | DA10: =ROUND(CR10*1000/BP10,0) -> 359 | DB10: =ROUND(CS10*1000/BS10,0) -> 352 | DC10: =DB10-DA10 -> -7 | DD10: =ROUND(CI10/BP10,1) -> 9.1 | DE10: =ROUND(CJ10/BS10,1) -> 9.3 | DF10: =DE10-DD10 -> 0.2 | DG10: 9 | DI10: 1 | DJ10: Александровский | DK10: 01 | DL10: 2.364 | DM10: 2.353 | DN10: =DM10-DL10 -> -0.011 | DO10: 2.361 | DP10: 2.344 | DQ10: =DP10-DO10 -> -0.017 | DR10: =ROUND(DL10/BP10*100,1) -> 31.1 | DS10: =ROUND(DM10/BS10*100,1) -> 31.8 | DT10: =DS10-DR10 -> 0.7 | DU10: 18 | DV10: 23.834 | DW10: 42.163 | DX10: =DW10-DV10 -> 18.329 | DY10: 23.744 | DZ10: 41.081 | EA10: =DZ10-DY10 -> 17.337 | EB10: 3.98 | EC10: 2.559 | ED10: =EC10-EB10 -> -1.421 | EE10: =ROUND(CI10/DL10,1) -> 29.3 | EF10: =ROUND(CJ10/DM10,1) -> 29.1 | EG10: =EF10-EE10 -> -0.2 | EH10: 294 | EI10: 377 | EJ10: =EI10-EH10 -> 83 | EK10: 105.52 | EL10: 103.819 | EM10: =EL10-EK10 -> -1.701 | EN10: =ROUND(EK10/DL10,1) -> 44.6 | EO10: =ROUND(EL10/DM10,1) -> 44.1 | EP10: =EO10-EN10 -> -0.5 | EQ10: =ROUND(EK10/CI10,1) -> 1.5 | ER10: =ROUND(EL10/CJ10,1) -> 1.5 | ES10: =ER10-EQ10 -> 0 | ET10: 1.267 | EU10: 1.268 | EV10: =EU10-ET10 -> 0.001 | EW10: 0.01 | EX10: 0.006 | EY10: =EX10-EW10 -> -0.004 | FA10: 1 | FB10: Александровский | FC10: 01 | FD10: 19 | FE10: 18 | FF10: =FE10-FD10 -> -1 | FG10: 11 | FH10: 11 | FI10: =FH10-FG10 -> 0 | FJ10: 4 | FK10: 4 | FL10: =FK10-FJ10 -> 0 | FM10: 6 | FN10: 5 | FO10: =FN10-FM10 -> -1 | FP10: =ROUND((FK10+FN10)/FH10*100,1) -> 81.8 | FQ10: 12 | FR10: =ROUND(DL10*1000/FG10,0) -> 215 | FS10: =ROUND(DM10*1000/FH10,0) -> 214 | FT10: =FS10-FR10 -> -1 | FU10: =ROUND(EK10/FG10,1) -> 9.6 | FV10: =ROUND(EL10/FH10,1) -> 9.4 | FW10: =FV10-FU10 -> -0.2 | FY10: 1 | FZ10: Александровский | GA10: 01 | GB10: =GE10+GF10+GG10 -> 20044.3 | GC10: =ROUND(GB10/G10,0) -> 2506 | GD10: 7 | GE10: 9672.4 | GF10: 10371.9 | GJ10: =ROUND((GE10+GF10)/GB10*100,1) -> 100 | GK10: 20034.1 | GL10: 15337.8 | GN10: 2005.5 | GP10: 424.9 | GS10: =ROUND(GB10/BS10,0) -> 2709 | GT10: 6 | GU10: =ROUND(GB10/DM10,0) -> 8519 | GV10: 1
A11: 2 | B11: Асиновский | C11: 02 | D11: =E11+F11 -> 20 | E11: 6 | F11: 14 | G11: =H11+I11 -> 20 | H11: 6 | I11: 14 | J11: 20 | K11: 20 | N11: =M11-L11 -> 0 | Q11: =P11-O11 -> 0 | R11: =ROUND((L11+O11)/D11*100,1) -> 0 | S11: =ROUND((M11+P11)/G11*100,1) -> 0 | T11: 1 | U11: 1 | V11: 3 | W11: 3 | X11: =W11-V11 -> 0 | Y11: 20 | Z11: 20 | AA11: =Z11-Y11 -> 0 | AB11: 18 | AC11: 18 | AD11: =AC11-AB11 -> 0 | AE11: 18 | AF11: 18 | AG11: =AF11-AE11 -> 0 | AH11: 3 | AI11: 3 | AJ11: =AI11-AH11 -> 0 | AL11: 2 | AM11: Асиновский | AN11: 02 | AO11: 18 | AP11: 18 | AQ11: =AP11-AO11 -> 0 | AR11: 18 | AS11: 18 | AT11: =AS11-AR11 -> 0 | AU11: =ROUND(AO11/D11*100,1) -> 90 | AV11: =ROUND(AP11/G11*100,1) -> 90 | AW11: 17 | AX11: 18 | AY11: =AX11-AW11 -> 1 | AZ11: 1 | BA11: 1 | BB11: =BA11-AZ11 -> 0 | BC11: 1 | BD11: 1 | BE11: =BD11-BC11 -> 0 | BF11: 96.311 | BG11: 102.496 | BH11: =BG11-BF11 -> 6.185 | BI11: 96.311 | BJ11: 102.496 | BK11: =BJ11-BI11 -> 6.185 | BM11: 2 | BN11: Асиновский | BO11: 02 | BP11: =BQ11+BR11 -> 33.733 | BQ11: 24.818 | BR11: 8.915 | BS11: =BT11+BU11 -> 33.5 | BT11: 24.7 | BU11: 8.8 | BV11: =ROUND(BP11/D11,2) -> 1.69 | BW11: =ROUND(BQ11/E11,2) -> 4.14 | BX11: =ROUND(BR11/F11,2) -> 0.64 | BY11: =ROUND(BS11/G11,2) -> 1.68 | BZ11: =ROUND(BT11/H11,2) -> 4.12 | CA11: =ROUND(BU11/I11,2) -> 0.63 | CB11: =BY11-BV11 -> -0.01 | CC11: =BZ11-BW11 -> -0.02 | CD11: =CA11-BX11 -> -0.01 | CF11: 2 | CG11: Асиновский | CH11: 02 | CI11: =CL11+CO11 -> 212.768 | CJ11: =CM11+CP11 -> 211.056 | CK11: =CJ11-CI11 -> -1.712 | CL11: 89.13 | CM11: 88.799 | CN11: =CM11-CL11 -> -0.331 | CO11: 123.638 | CP11: 122.257 | CQ11: =CP11-CO11 -> -1.381 | CR11: =CU11+CX11 -> 6.032 | CS11: =CV11+CY11 -> 3.346 | CT11: =CS11-CR11 -> -2.686 | CU11: 4.506 | CV11: 1.839 | CW11: =CV11-CU11 -> -2.667 | CX11: 1.526 | CY11: 1.507 | CZ11: =CY11-CX11 -> -0.019 | DA11: =ROUND(CR11*1000/BP11,0) -> 179 | DB11: =ROUND(CS11*1000/BS11,0) -> 100 | DC11: =DB11-DA11 -> -79 | DD11: =ROUND(CI11/BP11,1) -> 6.3 | DE11: =ROUND(CJ11/BS11,1) -> 6.3 | DF11: =DE11-DD11 -> 0 | DG11: 15 | DI11: 2 | DJ11: Асиновский | DK11: 02 | DL11: 20.005 | DM11: 20.006 | DN11: =DM11-DL11 -> 0.001 | DO11: 19.624 | DP11: 19.587 | DQ11: =DP11-DO11 -> -0.037 | DR11: =ROUND(DL11/BP11*100,1) -> 59.3 | DS11: =ROUND(DM11/BS11*100,1) -> 59.7 | DT11: =DS11-DR11 -> 0.4 | DU11: 5 | DV11: 219.795 | DW11: 239.367 | DX11: =DW11-DV11 -> 19.572 | DY11: 206.144 | DZ11: 217.613 | EA11: =DZ11-DY11 -> 11.469 | EB11: 37.079 | EC11: 29.157 | ED11: =EC11-EB11 -> -7.922 | EE11: =ROUND(CI11/DL11,1) -> 10.6 | EF11: =ROUND(CJ11/DM11,1) -> 10.5 | EG11: =EF11-EE11 -> -0.1 | EH11: 2728 | EI11: 3172 | EJ11: =EI11-EH11 -> 444 | EK11: 521.183 | EL11: 517.395 | EM11: =EL11-EK11 -> -3.788 | EN11: =ROUND(EK11/DL11,1) -> 26.1 | EO11: =ROUND(EL11/DM11,1) -> 25.9 | EP11: =EO11-EN11 -> -0.2 | EQ11: =ROUND(EK11/CI11,1) -> 2.4 | ER11: =ROUND(EL11/CJ11,1) -> 2.5 | ES11: =ER11-EQ11 -> 0.1 | ET11: 26.465 | EU11: 28.047 | EV11: =EU11-ET11 -> 1.582 | EW11: 0.299 | EX11: 0.221 | EY11: =EX11-EW11 -> -0.078 | FA11: 2 | FB11: Асиновский | FC11: 02 | FD11: 57 | FE11: 57 | FF11: =FE11-FD11 -> 0 | FG11: 47 | FH11: 47 | FI11: =FH11-FG11 -> 0 | FJ11: 25 | FK11: 25 | FL11: =FK11-FJ11 -> 0 | FM11: 22 | FN11: 21 | FO11: =FN11-FM11 -> -1 | FP11: =ROUND((FK11+FN11)/FH11*100,1) -> 97.9 | FQ11: 2 | FR11: =ROUND(DL11*1000/FG11,0) -> 426 | FS11: =ROUND(DM11*1000/FH11,0) -> 426 | FT11: =FS11-FR11 -> 0 | FU11: =ROUND(EK11/FG11,1) -> 11.1 | FV11: =ROUND(EL11/FH11,1) -> 11 | FW11: =FV11-FU11 -> -0.1 | FY11: 2 | FZ11: Асиновский | GA11: 02 | GB11: =GE11+GF11+GG11 -> 38754.7 | GC11: =ROUND(GB11/G11,0) -> 1938 | GD11: 11 | GE11: 21292.7 | GF11: 17267.3 | GG11: 194.7 | GJ11: =ROUND((GE11+GF11)/GB11*100,1) -> 99.5 | GK11: 38814.8 | GL11: 33352.5 | GN11: 210.5 | GO11: 35.3 | GP11: 887.4 | GQ11: 304.4 | GS11: =ROUND(GB11/BS11,0) -> 1157 | GT11: 15 | GU11: =ROUND(GB11/DM11,0) -> 1937 | GV11: 18
A12: 3 | B12: Бакчарский | C12: 03 | D12: =E12+F12 -> 13 | F12: 13 | G12: =H12+I12 -> 13 | I12: 13 | J12: 2 | K12: 2 | N12: =M12-L12 -> 0 | Q12: =P12-O12 -> 0 | R12: =ROUND((L12+O12)/D12*100,1) -> 0 | S12: =ROUND((M12+P12)/G12*100,1) -> 0 | T12: 1 | U12: 1 | V12: 5 | W12: 13 | X12: =W12-V12 -> 8 | Y12: 13 | Z12: 13 | AA12: =Z12-Y12 -> 0 | AB12: 12 | AC12: 10 | AD12: =AC12-AB12 -> -2 | AE12: 11 | AF12: 9 | AG12: =AF12-AE12 -> -2 | AH12: 28 | AI12: 23 | AJ12: =AI12-AH12 -> -5 | AL12: 3 | AM12: Бакчарский | AN12: 03 | AO12: 12 | AP12: 13 | AQ12: =AP12-AO12 -> 1 | AR12: 12 | AS12: 13 | AT12: =AS12-AR12 -> 1 | AU12: =ROUND(AO12/D12*100,1) -> 92.3 | AV12: =ROUND(AP12/G12*100,1) -> 100 | AW12: 1 | AX12: 1 | AY12: =AX12-AW12 -> 0 | AZ12: 1 | BA12: 1 | BB12: =BA12-AZ12 -> 0 | BC12: 1 | BD12: 1 | BE12: =BD12-BC12 -> 0 | BF12: 18.79 | BG12: 19.472 | BH12: =BG12-BF12 -> 0.682 | BI12: 18.79 | BJ12: 19.472 | BK12: =BJ12-BI12 -> 0.682 | BM12: 3 | BN12: Бакчарский | BO12: 03 | BP12: =BQ12+BR12 -> 11.313 | BR12: 11.313 | BS12: =BT12+BU12 -> 11.2 | BU12: 11.2 | BV12: =ROUND(BP12/D12,2) -> 0.87 | BX12: =ROUND(BR12/F12,2) -> 0.87 | BY12: =ROUND(BS12/G12,2) -> 0.86 | CA12: =ROUND(BU12/I12,2) -> 0.86 | CB12: =BY12-BV12 -> -0.01 | CC12: =BZ12-BW12 -> 0 | CD12: =CA12-BX12 -> -0.01 | CF12: 3 | CG12: Бакчарский | CH12: 03 | CI12: =CL12+CO12 -> 74.812 | CJ12: =CM12+CP12 -> 75.033 | CK12: =CJ12-CI12 -> 0.221 | CN12: =CM12-CL12 -> 0 | CO12: 74.812 | CP12: 75.033 | CQ12: =CP12-CO12 -> 0.221 | CR12: =CU12+CX12 -> 3.25 | CS12: =CV12+CY12 -> 1.504 | CT12: =CS12-CR12 -> -1.746 | CW12: =CV12-CU12 -> 0 | CX12: 3.25 | CY12: 1.504 | CZ12: =CY12-CX12 -> -1.746 | DA12: =ROUND(CR12*1000/BP12,0) -> 287 | DB12: =ROUND(CS12*1000/BS12,0) -> 134 | DC12: =DB12-DA12 -> -153 | DD12: =ROUND(CI12/BP12,1) -> 6.6 | DE12: =ROUND(CJ12/BS12,1) -> 6.7 | DF12: =DE12-DD12 -> 0.1 | DG12: 14 | DI12: 3 | DJ12: Бакчарский | DK12: 03 | DL12: 5.128 | DM12: 5.157 | DN12: =DM12-DL12 -> 0.029 | DO12: 5.025 | DP12: 4.71 | DQ12: =DP12-DO12 -> -0.315 | DR12: =ROUND(DL12/BP12*100,1) -> 45.3 | DS12: =ROUND(DM12/BS12*100,1) -> 46 | DT12: =DS12-DR12 -> 0.7 | DU12: 12 | DV12: 80.511 | DW12: 98.251 | DX12: =DW12-DV12 -> 17.74 | DY12: 74.366 | DZ12: 88.716 | EA12: =DZ12-DY12 -> 14.35 | EB12: 8.05 | EC12: 16.243 | ED12: =EC12-EB12 -> 8.193 | EE12: =ROUND(CI12/DL12,1) -> 14.6 | EF12: =ROUND(CJ12/DM12,1) -> 14.5 | EG12: =EF12-EE12 -> -0.1 | EH12: 2472 | EI12: 2304 | EJ12: =EI12-EH12 -> -168 | EK12: 126.055 | EL12: 127.356 | EM12: =EL12-EK12 -> 1.301 | EN12: =ROUND(EK12/DL12,1) -> 24.6 | EO12: =ROUND(EL12/DM12,1) -> 24.7 | EP12: =EO12-EN12 -> 0.1 | EQ12: =ROUND(EK12/CI12,1) -> 1.7 | ER12: =ROUND(EL12/CJ12,1) -> 1.7 | ES12: =ER12-EQ12 -> 0 | ET12: 2.166 | EU12: 4.22 | EV12: =EU12-ET12 -> 2.054 | EY12: =EX12-EW12 -> 0 | FA12: 3 | FB12: Бакчарский | FC12: 03 | FD12: 24 | FE12: 23 | FF12: =FE12-FD12 -> -1 | FG12: 21 | FH12: 20 | FI12: =FH12-FG12 -> -1 | FJ12: 11 | FK12: 15 | FL12: =FK12-FJ12 -> 4 | FM12: 5 | FN12: 4 | FO12: =FN12-FM12 -> -1 | FP12: =ROUND((FK12+FN12)/FH12*100,1) -> 95 | FQ12: 8 | FR12: =ROUND(DL12*1000/FG12,0) -> 244 | FS12: =ROUND(DM12*1000/FH12,0) -> 258 | FT12: =FS12-FR12 -> 14 | FU12: =ROUND(EK12/FG12,1) -> 6 | FV12: =ROUND(EL12/FH12,1) -> 6.4 | FW12: =FV12-FU12 -> 0.4 | FY12: 3 | FZ12: Бакчарский | GA12: 03 | GB12: =GE12+GF12+GG12 -> 19445.4 | GC12: =ROUND(GB12/G12,0) -> 1496 | GD12: 16 | GE12: 19261.3 | GG12: 184.1 | GJ12: =ROUND((GE12+GF12)/GB12*100,1) -> 99.1 | GK12: 19445.4 | GL12: 16725.7 | GN12: 293.1 | GP12: 409.5 | GQ12: 118.7 | GS12: =ROUND(GB12/BS12,0) -> 1736 | GT12: 11 | GU12: =ROUND(GB12/DM12,0) -> 3771 | GV12: 11
A13: 4 | B13: Верхнекетский | C13: 04 | D13: =E13+F13 -> 13 | E13: 2 | F13: 11 | G13: =H13+I13 -> 12 | H13: 2 | I13: 10 | J13: 11 | K13: 12 | L13: 1 | M13: 1 | N13: =M13-L13 -> 0 | Q13: =P13-O13 -> 0 | R13: =ROUND((L13+O13)/D13*100,1) -> 7.7 | S13: =ROUND((M13+P13)/G13*100,1) -> 8.3 | T13: 1 | U13: 1 | V13: 8 | W13: 7 | X13: =W13-V13 -> -1 | Y13: 12 | Z13: 12 | AA13: =Z13-Y13 -> 0 | AB13: 6 | AC13: 6 | AD13: =AC13-AB13 -> 0 | AE13: 6 | AF13: 6 | AG13: =AF13-AE13 -> 0 | AH13: 33 | AI13: 28 | AJ13: =AI13-AH13 -> -5 | AL13: 4 | AM13: Верхнекетский | AN13: 04 | AO13: 11 | AP13: 11 | AQ13: =AP13-AO13 -> 0 | AR13: 6 | AS13: 6 | AT13: =AS13-AR13 -> 0 | AU13: =ROUND(AO13/D13*100,1) -> 84.6 | AV13: =ROUND(AP13/G13*100,1) -> 91.7 | AW13: 1 | AX13: 1 | AY13: =AX13-AW13 -> 0 | AZ13: 1 | BA13: 1 | BB13: =BA13-AZ13 -> 0 | BE13: =BD13-BC13 -> 0 | BF13: 38.594 | BG13: 43.413 | BH13: =BG13-BF13 -> 4.819 | BK13: =BJ13-BI13 -> 0 | BM13: 4 | BN13: Верхнекетский | BO13: 04 | BP13: =BQ13+BR13 -> 14.766 | BQ13: 7.882 | BR13: 6.884 | BS13: =BT13+BU13 -> 14.6 | BT13: 7.8 | BU13: 6.8 | BV13: =ROUND(BP13/D13,2) -> 1.14 | BW13: =ROUND(BQ13/E13,2) -> 3.94 | BX13: =ROUND(BR13/F13,2) -> 0.63 | BY13: =ROUND(BS13/G13,2) -> 1.22 | BZ13: =ROUND(BT13/H13,2) -> 3.9 | CA13: =ROUND(BU13/I13,2) -> 0.68 | CB13: =BY13-BV13 -> 0.08 | CC13: =BZ13-BW13 -> -0.04 | CD13: =CA13-BX13 -> 0.05 | CF13: 4 | CG13: Верхнекетский | CH13: 04 | CI13: =CL13+CO13 -> 106.657 | CJ13: =CM13+CP13 -> 104.484 | CK13: =CJ13-CI13 -> -2.173 | CL13: 41.813 | CM13: 41.141 | CN13: =CM13-CL13 -> -0.672 | CO13: 64.844 | CP13: 63.343 | CQ13: =CP13-CO13 -> -1.501 | CR13: =CU13+CX13 -> 4.759 | CS13: =CV13+CY13 -> 3.687 | CT13: =CS13-CR13 -> -1.072 | CU13: 1.402 | CV13: 1.381 | CW13: =CV13-CU13 -> -0.021 | CX13: 3.357 | CY13: 2.306 | CZ13: =CY13-CX13 -> -1.051 | DA13: =ROUND(CR13*1000/BP13,0) -> 322 | DB13: =ROUND(CS13*1000/BS13,0) -> 253 | DC13: =DB13-DA13 -> -69 | DD13: =ROUND(CI13/BP13,1) -> 7.2 | DE13: =ROUND(CJ13/BS13,1) -> 7.2 | DF13: =DE13-DD13 -> 0 | DG13: 12 | DI13: 4 | DJ13: Верхнекетский | DK13: 04 | DL13: 6.796 | DM13: 6.828 | DN13: =DM13-DL13 -> 0.032 | DO13: 6.223 | DP13: 6.216 | DQ13: =DP13-DO13 -> -0.007 | DR13: =ROUND(DL13/BP13*100,1) -> 46 | DS13: =ROUND(DM13/BS13*100,1) -> 46.8 | DT13: =DS13-DR13 -> 0.8 | DU13: 11 | DV13: 142.606 | DW13: 151.37 | DX13: =DW13-DV13 -> 8.764 | DY13: 129.501 | DZ13: 135.236 | EA13: =DZ13-DY13 -> 5.735 | EB13: 32.244 | EC13: 56.811 | ED13: =EC13-EB13 -> 24.567 | EE13: =ROUND(CI13/DL13,1) -> 15.7 | EF13: =ROUND(CJ13/DM13,1) -> 15.3 | EG13: =EF13-EE13 -> -0.4 | EH13: 1789 | EI13: 1846 | EJ13: =EI13-EH13 -> 57 | EK13: 224.808 | EL13: 222.318 | EM13: =EL13-EK13 -> -2.49 | EN13: =ROUND(EK13/DL13,1) -> 33.1 | EO13: =ROUND(EL13/DM13,1) -> 32.6 | EP13: =EO13-EN13 -> -0.5 | EQ13: =ROUND(EK13/CI13,1) -> 2.1 | ER13: =ROUND(EL13/CJ13,1) -> 2.1 | ES13: =ER13-EQ13 -> 0 | ET13: 1.58 | EU13: 1.548 | EV13: =EU13-ET13 -> -0.032 | EY13: =EX13-EW13 -> 0 | FA13: 4 | FB13: Верхнекетский | FC13: 04 | FD13: 33 | FE13: 33 | FF13: =FE13-FD13 -> 0 | FG13: 24 | FH13: 24 | FI13: =FH13-FG13 -> 0 | FJ13: 10 | FK13: 9 | FL13: =FK13-FJ13 -> -1 | FM13: 14 | FN13: 15 | FO13: =FN13-FM13 -> 1 | FP13: =ROUND((FK13+FN13)/FH13*100,1) -> 100 | FQ13: 1 | FR13: =ROUND(DL13*1000/FG13,0) -> 283 | FS13: =ROUND(DM13*1000/FH13,0) -> 285 | FT13: =FS13-FR13 -> 2 | FU13: =ROUND(EK13/FG13,1) -> 9.4 | FV13: =ROUND(EL13/FH13,1) -> 9.3 | FW13: =FV13-FU13 -> -0.1 | FY13: 4 | FZ13: Верхнекетский | GA13: 04 | GB13: =GE13+GF13+GG13 -> 28470.2 | GC13: =ROUND(GB13/G13,0) -> 2373 | GD13: 9 | GE13: 28199.3 | GG13: 270.9 | GJ13: =ROUND((GE13+GF13)/GB13*100,1) -> 99 | GK13: 28460.9 | GL13: 24811.4 | GN13: 214.4 | GP13: 626.1 | GQ13: 76 | GS13: =ROUND(GB13/BS13,0) -> 1950 | GT13: 9 | GU13: =ROUND(GB13/DM13,0) -> 4170 | GV13: 9
A14: 5 | B14: Зырянский | C14: 05 | D14: =E14+F14 -> 18 | F14: 18 | G14: =H14+I14 -> 18 | I14: 18 | J14: 18 | K14: 18 | N14: =M14-L14 -> 0 | Q14: =P14-O14 -> 0 | R14: =ROUND((L14+O14)/D14*100,1) -> 0 | S14: =ROUND((M14+P14)/G14*100,1) -> 0 | X14: =W14-V14 -> 0 | Y14: 18 | Z14: 18 | AA14: =Z14-Y14 -> 0 | AB14: 16 | AC14: 16 | AD14: =AC14-AB14 -> 0 | AE14: 16 | AF14: 16 | AG14: =AF14-AE14 -> 0 | AJ14: =AI14-AH14 -> 0 | AL14: 5 | AM14: Зырянский | AN14: 05 | AO14: 16 | AP14: 16 | AQ14: =AP14-AO14 -> 0 | AR14: 16 | AS14: 16 | AT14: =AS14-AR14 -> 0 | AU14: =ROUND(AO14/D14*100,1) -> 88.9 | AV14: =ROUND(AP14/G14*100,1) -> 88.9 | AW14: 3 | AX14: 3 | AY14: =AX14-AW14 -> 0 | AZ14: 1 | BA14: 1 | BB14: =BA14-AZ14 -> 0 | BC14: 1 | BD14: 1 | BE14: =BD14-BC14 -> 0 | BF14: 17.472 | BG14: 19.061 | BH14: =BG14-BF14 -> 1.589 | BI14: 17.472 | BJ14: 19.061 | BK14: =BJ14-BI14 -> 1.589 | BM14: 5 | BN14: Зырянский | BO14: 05 | BP14: =BQ14+BR14 -> 11.232 | BR14: 11.232 | BS14: =BT14+BU14 -> 11.1 | BU14: 11.1 | BV14: =ROUND(BP14/D14,2) -> 0.62 | BX14: =ROUND(BR14/F14,2) -> 0.62 | BY14: =ROUND(BS14/G14,2) -> 0.62 | CA14: =ROUND(BU14/I14,2) -> 0.62 | CB14: =BY14-BV14 -> 0 | CC14: =BZ14-BW14 -> 0 | CD14: =CA14-BX14 -> 0 | CF14: 5 | CG14: Зырянский | CH14: 05 | CI14: =CL14+CO14 -> 166.707 | CJ14: =CM14+CP14 -> 164.386 | CK14: =CJ14-CI14 -> -2.321 | CN14: =CM14-CL14 -> 0 | CO14: 166.707 | CP14: 164.386 | CQ14: =CP14-CO14 -> -2.321 | CR14: =CU14+CX14 -> 4.691 | CS14: =CV14+CY14 -> 1.572 | CT14: =CS14-CR14 -> -3.119 | CW14: =CV14-CU14 -> 0 | CX14: 4.691 | CY14: 1.572 | CZ14: =CY14-CX14 -> -3.119 | DA14: =ROUND(CR14*1000/BP14,0) -> 418 | DB14: =ROUND(CS14*1000/BS14,0) -> 142 | DC14: =DB14-DA14 -> -276 | DD14: =ROUND(CI14/BP14,1) -> 14.8 | DE14: =ROUND(CJ14/BS14,1) -> 14.8 | DF14: =DE14-DD14 -> 0 | DG14: 1 | DI14: 5 | DJ14: Зырянский | DK14: 05 | DL14: 6.038 | DM14: 6.041 | DN14: =DM14-DL14 -> 0.003 | DO14: 6.038 | DP14: 6.041 | DQ14: =DP14-DO14 -> 0.003 | DR14: =ROUND(DL14/BP14*100,1) -> 53.8 | DS14: =ROUND(DM14/BS14*100,1) -> 54.4 | DT14: =DS14-DR14 -> 0.6 | DU14: 7 | DV14: 107.349 | DW14: 134.501 | DX14: =DW14-DV14 -> 27.152 | DY14: 102.546 | DZ14: 124.64 | EA14: =DZ14-DY14 -> 22.094 | EB14: 29.316 | EC14: 39.598 | ED14: =EC14-EB14 -> 10.282 | EE14: =ROUND(CI14/DL14,1) -> 27.6 | EF14: =ROUND(CJ14/DM14,1) -> 27.2 | EG14: =EF14-EE14 -> -0.4 | EH14: 1218 | EI14: 1543 | EJ14: =EI14-EH14 -> 325 | EK14: 179.854 | EL14: 183.364 | EM14: =EL14-EK14 -> 3.51 | EN14: =ROUND(EK14/DL14,1) -> 29.8 | EO14: =ROUND(EL14/DM14,1) -> 30.4 | EP14: =EO14-EN14 -> 0.6 | EQ14: =ROUND(EK14/CI14,1) -> 1.1 | ER14: =ROUND(EL14/CJ14,1) -> 1.1 | ES14: =ER14-EQ14 -> 0 | ET14: 4.467 | EU14: 4.804 | EV14: =EU14-ET14 -> 0.337 | EW14: 0.027 | EX14: 0.225 | EY14: =EX14-EW14 -> 0.198 | FA14: 5 | FB14: Зырянский | FC14: 05 | FD14: 30 | FE14: 31 | FF14: =FE14-FD14 -> 1 | FG14: 25 | FH14: 26 | FI14: =FH14-FG14 -> 1 | FJ14: 8 | FK14: 6 | FL14: =FK14-FJ14 -> -2 | FM14: 17 | FN14: 19 | FO14: =FN14-FM14 -> 2 | FP14: =ROUND((FK14+FN14)/FH14*100,1) -> 96.2 | FQ14: 4 | FR14: =ROUND(DL14*1000/FG14,0) -> 242 | FS14: =ROUND(DM14*1000/FH14,0) -> 232 | FT14: =FS14-FR14 -> -10 | FU14: =ROUND(EK14/FG14,1) -> 7.2 | FV14: =ROUND(EL14/FH14,1) -> 7.1 | FW14: =FV14-FU14 -> -0.1 | FY14: 5 | FZ14: Зырянский | GA14: 05 | GB14: =GE14+GF14+GG14 -> 14493 | GC14: =ROUND(GB14/G14,0) -> 805 | GD14: 19 | GE14: 8372 | GF14: 6090 | GG14: 31 | GJ14: =ROUND((GE14+GF14)/GB14*100,1) -> 99.8 | GK14: 14499 | GL14: 12013 | GM14: 234 | GN14: 30 | GP14: 1062 | GQ14: 20 | GS14: =ROUND(GB14/BS14,0) -> 1306 | GT14: 13 | GU14: =ROUND(GB14/DM14,0) -> 2399 | GV14: 13
A15: 6 | B15: Каргасокский | C15: 06 | D15: =E15+F15 -> 22 | F15: 22 | G15: =H15+I15 -> 22 | I15: 22 | J15: 22 | K15: 22 | N15: =M15-L15 -> 0 | Q15: =P15-O15 -> 0 | R15: =ROUND((L15+O15)/D15*100,1) -> 0 | S15: =ROUND((M15+P15)/G15*100,1) -> 0 | T15: 1 | U15: 1 | V15: 13 | W15: 16 | X15: =W15-V15 -> 3 | Y15: 22 | Z15: 22 | AA15: =Z15-Y15 -> 0 | AB15: 7 | AC15: 7 | AD15: =AC15-AB15 -> 0 | AE15: 7 | AF15: 7 | AG15: =AF15-AE15 -> 0 | AH15: 26 | AI15: 30 | AJ15: =AI15-AH15 -> 4 | AL15: 6 | AM15: Каргасокский | AN15: 06 | AO15: 15 | AP15: 15 | AQ15: =AP15-AO15 -> 0 | AR15: 7 | AS15: 7 | AT15: =AS15-AR15 -> 0 | AU15: =ROUND(AO15/D15*100,1) -> 68.2 | AV15: =ROUND(AP15/G15*100,1) -> 68.2 | AW15: 11 | AX15: 12 | AY15: =AX15-AW15 -> 1 | AZ15: 1 | BA15: 1 | BB15: =BA15-AZ15 -> 0 | BC15: 1 | BD15: 1 | BE15: =BD15-BC15 -> 0 | BF15: 28.765 | BG15: 32.407 | BH15: =BG15-BF15 -> 3.642 | BI15: 28.765 | BJ15: 32.407 | BK15: =BJ15-BI15 -> 3.642 | BM15: 6 | BN15: Каргасокский | BO15: 06 | BP15: =BQ15+BR15 -> 17.642 | BR15: 17.642 | BS15: =BT15+BU15 -> 17.5 | BU15: 17.5 | BV15: =ROUND(BP15/D15,2) -> 0.8 | BX15: =ROUND(BR15/F15,2) -> 0.8 | BY15: =ROUND(BS15/G15,2) -> 0.8 | CA15: =ROUND(BU15/I15,2) -> 0.8 | CB15: =BY15-BV15 -> 0 | CC15: =BZ15-BW15 -> 0 | CD15: =CA15-BX15 -> 0 | CF15: 6 | CG15: Каргасокский | CH15: 06 | CI15: =CL15+CO15 -> 163.249 | CJ15: =CM15+CP15 -> 160.354 | CK15: =CJ15-CI15 -> -2.895 | CN15: =CM15-CL15 -> 0 | CO15: 163.249 | CP15: 160.354 | CQ15: =CP15-CO15 -> -2.895 | CR15: =CU15+CX15 -> 5.51 | CS15: =CV15+CY15 -> 8.73 | CT15: =CS15-CR15 -> 3.22 | CW15: =CV15-CU15 -> 0 | CX15: 5.51 | CY15: 8.73 | CZ15: =CY15-CX15 -> 3.22 | DA15: =ROUND(CR15*1000/BP15,0) -> 312 | DB15: =ROUND(CS15*1000/BS15,0) -> 499 | DC15: =DB15-DA15 -> 187 | DD15: =ROUND(CI15/BP15,1) -> 9.3 | DE15: =ROUND(CJ15/BS15,1) -> 9.2 | DF15: =DE15-DD15 -> -0.1 | DG15: 10 | DI15: 6 | DJ15: Каргасокский | DK15: 06 | DL15: 18.878 | DM15: 9.354 | DN15: =DM15-DL15 -> -9.524 | DO15: 7.805 | DP15: 8.825 | DQ15: =DP15-DO15 -> 1.02 | DR15: =ROUND(DL15/BP15*100,1) -> 107 | DS15: =ROUND(DM15/BS15*100,1) -> 53.5 | DT15: =DS15-DR15 -> -53.5 | DU15: 8 | DV15: 137.373 | DW15: 193.302 | DX15: =DW15-DV15 -> 55.929 | DY15: 133.089 | DZ15: 190.922 | EA15: =DZ15-DY15 -> 57.833 | EB15: 10.242 | EC15: 3.698 | ED15: =EC15-EB15 -> -6.544 | EE15: =ROUND(CI15/DL15,1) -> 8.6 | EF15: =ROUND(CJ15/DM15,1) -> 17.1 | EG15: =EF15-EE15 -> 8.5 | EH15: 2111 | EI15: 5198 | EJ15: =EI15-EH15 -> 3087 | EK15: 214.189 | EL15: 228.589 | EM15: =EL15-EK15 -> 14.4 | EN15: =ROUND(EK15/DL15,1) -> 11.3 | EO15: =ROUND(EL15/DM15,1) -> 24.4 | EP15: =EO15-EN15 -> 13.1 | EQ15: =ROUND(EK15/CI15,1) -> 1.3 | ER15: =ROUND(EL15/CJ15,1) -> 1.4 | ES15: =ER15-EQ15 -> 0.1 | ET15: 4.965 | EU15: 6.092 | EV15: =EU15-ET15 -> 1.127 | EY15: =EX15-EW15 -> 0 | FA15: 6 | FB15: Каргасокский | FC15: 06 | FD15: 54 | FE15: 56 | FF15: =FE15-FD15 -> 2 | FG15: 39 | FH15: 39 | FI15: =FH15-FG15 -> 0 | FJ15: 16 | FK15: 16 | FL15: =FK15-FJ15 -> 0 | FM15: 20 | FN15: 20 | FO15: =FN15-FM15 -> 0 | FP15: =ROUND((FK15+FN15)/FH15*100,1) -> 92.3 | FQ15: 10 | FR15: =ROUND(DL15*1000/FG15,0) -> 484 | FS15: =ROUND(DM15*1000/FH15,0) -> 240 | FT15: =FS15-FR15 -> -244 | FU15: =ROUND(EK15/FG15,1) -> 5.5 | FV15: =ROUND(EL15/FH15,1) -> 5.9 | FW15: =FV15-FU15 -> 0.4 | FY15: 6 | FZ15: Каргасокский | GA15: 06 | GB15: =GE15+GF15+GG15 -> 52544.7 | GC15: =ROUND(GB15/G15,0) -> 2388 | GD15: 8 | GE15: 51727.9 | GF15: 297.1 | GG15: 519.7 | GH15: 105 | GJ15: =ROUND((GE15+GF15)/GB15*100,1) -> 99 | GK15: 52274.3 | GL15: 44272.6 | GN15: 0 | GP15: 1094.5 | GQ15: 87.9 | GS15: =ROUND(GB15/BS15,0) -> 3003 | GT15: 4 | GU15: =ROUND(GB15/DM15,0) -> 5617 | GV15: 6
A16: 7 | B16: Кожевниковский | C16: 07 | D16: =E16+F16 -> 21 | F16: 21 | G16: =H16+I16 -> 21 | I16: 21 | J16: 2 | K16: 20 | N16: =M16-L16 -> 0 | Q16: =P16-O16 -> 0 | R16: =ROUND((L16+O16)/D16*100,1) -> 0 | S16: =ROUND((M16+P16)/G16*100,1) -> 0 | V16: 9 | W16: 10 | X16: =W16-V16 -> 1 | Y16: 20 | Z16: 20 | AA16: =Z16-Y16 -> 0 | AB16: 20 | AC16: 20 | AD16: =AC16-AB16 -> 0 | AE16: 15 | AF16: 14 | AG16: =AF16-AE16 -> -1 | AH16: 16 | AI16: 17 | AJ16: =AI16-AH16 -> 1 | AL16: 7 | AM16: Кожевниковский | AN16: 07 | AO16: 19 | AP16: 19 | AQ16: =AP16-AO16 -> 0 | AR16: 14 | AS16: 14 | AT16: =AS16-AR16 -> 0 | AU16: =ROUND(AO16/D16*100,1) -> 90.5 | AV16: =ROUND(AP16/G16*100,1) -> 90.5 | AW16: 19 | AX16: 19 | AY16: =AX16-AW16 -> 0 | AZ16: 1 | BA16: 1 | BB16: =BA16-AZ16 -> 0 | BC16: 1 | BD16: 1 | BE16: =BD16-BC16 -> 0 | BF16: 24.412 | BG16: 25.348 | BH16: =BG16-BF16 -> 0.936 | BI16: 24.412 | BJ16: 25.348 | BK16: =BJ16-BI16 -> 0.936 | BM16: 7 | BN16: Кожевниковский | BO16: 07 | BP16: =BQ16+BR16 -> 20.366 | BR16: 20.366 | BS16: =BT16+BU16 -> 20.3 | BU16: 20.3 | BV16: =ROUND(BP16/D16,2) -> 0.97 | BX16: =ROUND(BR16/F16,2) -> 0.97 | BY16: =ROUND(BS16/G16,2) -> 0.97 | CA16: =ROUND(BU16/I16,2) -> 0.97 | CB16: =BY16-BV16 -> 0 | CC16: =BZ16-BW16 -> 0 | CD16: =CA16-BX16 -> 0 | CF16: 7 | CG16: Кожевниковский | CH16: 07 | CI16: =CL16+CO16 -> 192.397 | CJ16: =CM16+CP16 -> 189.634 | CK16: =CJ16-CI16 -> -2.763 | CN16: =CM16-CL16 -> 0 | CO16: 192.397 | CP16: 189.634 | CQ16: =CP16-CO16 -> -2.763 | CR16: =CU16+CX16 -> 1.693 | CS16: =CV16+CY16 -> 1.531 | CT16: =CS16-CR16 -> -0.162 | CW16: =CV16-CU16 -> 0 | CX16: 1.693 | CY16: 1.531 | CZ16: =CY16-CX16 -> -0.162 | DA16: =ROUND(CR16*1000/BP16,0) -> 83 | DB16: =ROUND(CS16*1000/BS16,0) -> 75 | DC16: =DB16-DA16 -> -8 | DD16: =ROUND(CI16/BP16,1) -> 9.4 | DE16: =ROUND(CJ16/BS16,1) -> 9.3 | DF16: =DE16-DD16 -> -0.1 | DG16: 9 | DI16: 7 | DJ16: Кожевниковский | DK16: 07 | DL16: 14.048 | DM16: 13.977 | DN16: =DM16-DL16 -> -0.071 | DO16: 12.445 | DP16: 12.577 | DQ16: =DP16-DO16 -> 0.132 | DR16: =ROUND(DL16/BP16*100,1) -> 69 | DS16: =ROUND(DM16/BS16*100,1) -> 68.9 | DT16: =DS16-DR16 -> -0.1 | DU16: 3 | DV16: 160.331 | DW16: 227.355 | DX16: =DW16-DV16 -> 67.024 | DY16: 147.011 | DZ16: 165.168 | EA16: =DZ16-DY16 -> 18.157 | EB16: 25.531 | EC16: 4.346 | ED16: =EC16-EB16 -> -21.185 | EE16: =ROUND(CI16/DL16,1) -> 13.7 | EF16: =ROUND(CJ16/DM16,1) -> 13.6 | EG16: =EF16-EE16 -> -0.1 | EH16: 1504 | EI16: 1406 | EJ16: =EI16-EH16 -> -98 | EK16: 209.799 | EL16: 232.536 | EM16: =EL16-EK16 -> 22.737 | EN16: =ROUND(EK16/DL16,1) -> 14.9 | EO16: =ROUND(EL16/DM16,1) -> 16.6 | EP16: =EO16-EN16 -> 1.7 | EQ16: =ROUND(EK16/CI16,1) -> 1.1 | ER16: =ROUND(EL16/CJ16,1) -> 1.2 | ES16: =ER16-EQ16 -> 0.1 | ET16: 67.336 | EU16: 78.565 | EV16: =EU16-ET16 -> 11.229 | EW16: 0.528 | EX16: 0.737 | EY16: =EX16-EW16 -> 0.209 | FA16: 7 | FB16: Кожевниковский | FC16: 07 | FD16: 34 | FE16: 36 | FF16: =FE16-FD16 -> 2 | FG16: 31 | FH16: 32 | FI16: =FH16-FG16 -> 1 | FJ16: 9 | FK16: 9 | FL16: =FK16-FJ16 -> 0 | FM16: 21 | FN16: 21 | FO16: =FN16-FM16 -> 0 | FP16: =ROUND((FK16+FN16)/FH16*100,1) -> 93.8 | FQ16: 9 | FR16: =ROUND(DL16*1000/FG16,0) -> 453 | FS16: =ROUND(DM16*1000/FH16,0) -> 437 | FT16: =FS16-FR16 -> -16 | FU16: =ROUND(EK16/FG16,1) -> 6.8 | FV16: =ROUND(EL16/FH16,1) -> 7.3 | FW16: =FV16-FU16 -> 0.5 | FY16: 7 | FZ16: Кожевниковский | GA16: 07 | GB16: =GE16+GF16+GG16 -> 21102.6 | GC16: =ROUND(GB16/G16,0) -> 1005 | GD16: 18 | GE16: 21102.6 | GJ16: =ROUND((GE16+GF16)/GB16*100,1) -> 100 | GK16: 20999.4 | GL16: 18244.4 | GN16: 46.4 | GP16: 513.4 | GQ16: 30.9 | GS16: =ROUND(GB16/BS16,0) -> 1040 | GT16: 16 | GU16: =ROUND(GB16/DM16,0) -> 1510 | GV16: 19
A17: 8 | B17: Колпашевский | C17: 08 | D17: =E17+F17 -> 25 | E17: 5 | F17: 20 | G17: =H17+I17 -> 25 | H17: 6 | I17: 19 | J17: 24 | K17: 24 | N17: =M17-L17 -> 0 | Q17: =P17-O17 -> 0 | R17: =ROUND((L17+O17)/D17*100,1) -> 0 | S17: =ROUND((M17+P17)/G17*100,1) -> 0 | T17: 2 | U17: 2 | V17: 4 | W17: 4 | X17: =W17-V17 -> 0 | Y17: 25 | Z17: 25 | AA17: =Z17-Y17 -> 0 | AB17: 10 | AC17: 12 | AD17: =AC17-AB17 -> 2 | AE17: 10 | AF17: 12 | AG17: =AF17-AE17 -> 2 | AH17: 9 | AI17: 16 | AJ17: =AI17-AH17 -> 7 | AL17: 8 | AM17: Колпашевский | AN17: 08 | AO17: 25 | AP17: 25 | AQ17: =AP17-AO17 -> 0 | AR17: 25 | AS17: 25 | AT17: =AS17-AR17 -> 0 | AU17: =ROUND(AO17/D17*100,1) -> 100 | AV17: =ROUND(AP17/G17*100,1) -> 100 | AW17: 25 | AX17: 25 | AY17: =AX17-AW17 -> 0 | AZ17: 1 | BA17: 1 | BB17: =BA17-AZ17 -> 0 | BC17: 1 | BD17: 1 | BE17: =BD17-BC17 -> 0 | BF17: 97.495 | BG17: 101.561 | BH17: =BG17-BF17 -> 4.066 | BI17: 96.584 | BJ17: 100.65 | BK17: =BJ17-BI17 -> 4.066 | BM17: 8 | BN17: Колпашевский | BO17: 08 | BP17: =BQ17+BR17 -> 33.07 | BQ17: 20.677 | BR17: 12.393 | BS17: =BT17+BU17 -> 32.6 | BT17: 20.3 | BU17: 12.3 | BV17: =ROUND(BP17/D17,2) -> 1.32 | BW17: =ROUND(BQ17/E17,2) -> 4.14 | BX17: =ROUND(BR17/F17,2) -> 0.62 | BY17: =ROUND(BS17/G17,2) -> 1.3 | BZ17: =ROUND(BT17/H17,2) -> 3.38 | CA17: =ROUND(BU17/I17,2) -> 0.65 | CB17: =BY17-BV17 -> -0.02 | CC17: =BZ17-BW17 -> -0.76 | CD17: =CA17-BX17 -> 0.03 | CF17: 8 | CG17: Колпашевский | CH17: 08 | CI17: =CL17+CO17 -> 283.25 | CJ17: =CM17+CP17 -> 308.622 | CK17: =CJ17-CI17 -> 25.372 | CL17: 149.724 | CM17: 174.823 | CN17: =CM17-CL17 -> 25.099 | CO17: 133.526 | CP17: 133.799 | CQ17: =CP17-CO17 -> 0.273 | CR17: =CU17+CX17 -> 10.727 | CS17: =CV17+CY17 -> 25.457 | CT17: =CS17-CR17 -> 14.73 | CU17: 2.19 | CV17: 23.246 | CW17: =CV17-CU17 -> 21.056 | CX17: 8.537 | CY17: 2.211 | CZ17: =CY17-CX17 -> -6.326 | DA17: =ROUND(CR17*1000/BP17,0) -> 324 | DB17: =ROUND(CS17*1000/BS17,0) -> 781 | DC17: =DB17-DA17 -> 457 | DD17: =ROUND(CI17/BP17,1) -> 8.6 | DE17: =ROUND(CJ17/BS17,1) -> 9.5 | DF17: =DE17-DD17 -> 0.9 | DG17: 8 | DI17: 8 | DJ17: Колпашевский | DK17: 08 | DL17: 14.161 | DM17: 14.832 | DN17: =DM17-DL17 -> 0.671 | DO17: 13.027 | DP17: 13.596 | DQ17: =DP17-DO17 -> 0.569 | DR17: =ROUND(DL17/BP17*100,1) -> 42.8 | DS17: =ROUND(DM17/BS17*100,1) -> 45.5 | DT17: =DS17-DR17 -> 2.7 | DU17: 13 | DV17: 286.226 | DW17: 324.19 | DX17: =DW17-DV17 -> 37.964 | DY17: 241.176 | DZ17: 257.551 | EA17: =DZ17-DY17 -> 16.375 | EB17: 47.451 | EC17: 55.834 | ED17: =EC17-EB17 -> 8.383 | EE17: =ROUND(CI17/DL17,1) -> 20 | EF17: =ROUND(CJ17/DM17,1) -> 20.8 | EG17: =EF17-EE17 -> 0.8 | EH17: 2790 | EI17: 3168 | EJ17: =EI17-EH17 -> 378 | EK17: 492.973 | EL17: 466.623 | EM17: =EL17-EK17 -> -26.35 | EN17: =ROUND(EK17/DL17,1) -> 34.8 | EO17: =ROUND(EL17/DM17,1) -> 31.5 | EP17: =EO17-EN17 -> -3.3 | EQ17: =ROUND(EK17/CI17,1) -> 1.7 | ER17: =ROUND(EL17/CJ17,1) -> 1.5 | ES17: =ER17-EQ17 -> -0.2 | ET17: 38.989 | EU17: 39.048 | EV17: =EU17-ET17 -> 0.059 | EW17: 5.394 | EX17: 3.328 | EY17: =EX17-EW17 -> -2.066 | FA17: 8 | FB17: Колпашевский | FC17: 08 | FD17: 78 | FE17: 77 | FF17: =FE17-FD17 -> -1 | FG17: 55 | FH17: 54 | FI17: =FH17-FG17 -> -1 | FJ17: 29 | FK17: 29 | FL17: =FK17-FJ17 -> 0 | FM17: 26 | FN17: 25 | FO17: =FN17-FM17 -> -1 | FP17: =ROUND((FK17+FN17)/FH17*100,1) -> 100 | FQ17: 1 | FR17: =ROUND(DL17*1000/FG17,0) -> 257 | FS17: =ROUND(DM17*1000/FH17,0) -> 275 | FT17: =FS17-FR17 -> 18 | FU17: =ROUND(EK17/FG17,1) -> 9 | FV17: =ROUND(EL17/FH17,1) -> 8.6 | FW17: =FV17-FU17 -> -0.4 | FY17: 8 | FZ17: Колпашевский | GA17: 08 | GB17: =GE17+GF17+GG17 -> 74104.5 | GC17: =ROUND(GB17/G17,0) -> 2964 | GD17: 6 | GE17: 73394.8 | GF17: 303.1 | GG17: 406.6 | GJ17: =ROUND((GE17+GF17)/GB17*100,1) -> 99.5 | GK17: 74104.5 | GL17: 46395 | GN17: 1188 | GO17: 7.6 | GP17: 2300 | GQ17: 233.9 | GS17: =ROUND(GB17/BS17,0) -> 2273 | GT17: 7 | GU17: =ROUND(GB17/DM17,0) -> 4996 | GV17: 7
A18: 9 | B18: Кривошеинский | C18: 09 | D18: =E18+F18 -> 13 | F18: 13 | G18: =H18+I18 -> 13 | I18: 13 | J18: 13 | K18: 13 | L18: 1 | M18: 1 | N18: =M18-L18 -> 0 | Q18: =P18-O18 -> 0 | R18: =ROUND((L18+O18)/D18*100,1) -> 7.7 | S18: =ROUND((M18+P18)/G18*100,1) -> 7.7 | V18: 3 | W18: 3 | X18: =W18-V18 -> 0 | Y18: 13 | Z18: 13 | AA18: =Z18-Y18 -> 0 | AB18: 7 | AC18: 7 | AD18: =AC18-AB18 -> 0 | AE18: 7 | AF18: 7 | AG18: =AF18-AE18 -> 0 | AH18: 11 | AI18: 11 | AJ18: =AI18-AH18 -> 0 | AL18: 9 | AM18: Кривошеинский | AN18: 09 | AO18: 11 | AP18: 11 | AQ18: =AP18-AO18 -> 0 | AR18: 7 | AS18: 7 | AT18: =AS18-AR18 -> 0 | AU18: =ROUND(AO18/D18*100,1) -> 84.6 | AV18: =ROUND(AP18/G18*100,1) -> 84.6 | AW18: 10 | AX18: 10 | AY18: =AX18-AW18 -> 0 | AZ18: 1 | BA18: 1 | BB18: =BA18-AZ18 -> 0 | BC18: 1 | BD18: 1 | BE18: =BD18-BC18 -> 0 | BF18: 26.14 | BG18: 27.747 | BH18: =BG18-BF18 -> 1.607 | BI18: 26.14 | BJ18: 27.747 | BK18: =BJ18-BI18 -> 1.607 | BM18: 9 | BN18: Кривошеинский | BO18: 09 | BP18: =BQ18+BR18 -> 12.153 | BR18: 12.153 | BS18: =BT18+BU18 -> 12.1 | BU18: 12.1 | BV18: =ROUND(BP18/D18,2) -> 0.93 | BX18: =ROUND(BR18/F18,2) -> 0.93 | BY18: =ROUND(BS18/G18,2) -> 0.93 | CA18: =ROUND(BU18/I18,2) -> 0.93 | CB18: =BY18-BV18 -> 0 | CC18: =BZ18-BW18 -> 0 | CD18: =CA18-BX18 -> 0 | CF18: 9 | CG18: Кривошеинский | CH18: 09 | CI18: =CL18+CO18 -> 132.198 | CJ18: =CM18+CP18 -> 133.936 | CK18: =CJ18-CI18 -> 1.738 | CN18: =CM18-CL18 -> 0 | CO18: 132.198 | CP18: 133.936 | CQ18: =CP18-CO18 -> 1.738 | CR18: =CU18+CX18 -> 0.974 | CS18: =CV18+CY18 -> 2.789 | CT18: =CS18-CR18 -> 1.815 | CW18: =CV18-CU18 -> 0 | CX18: 0.974 | CY18: 2.789 | CZ18: =CY18-CX18 -> 1.815 | DA18: =ROUND(CR18*1000/BP18,0) -> 80 | DB18: =ROUND(CS18*1000/BS18,0) -> 230 | DC18: =DB18-DA18 -> 150 | DD18: =ROUND(CI18/BP18,1) -> 10.9 | DE18: =ROUND(CJ18/BS18,1) -> 11.1 | DF18: =DE18-DD18 -> 0.2 | DG18: 4 | DI18: 9 | DJ18: Кривошеинский | DK18: 09 | DL18: 8.983 | DM18: 9.152 | DN18: =DM18-DL18 -> 0.169 | DO18: 8.207 | DP18: 8.436 | DQ18: =DP18-DO18 -> 0.229 | DR18: =ROUND(DL18/BP18*100,1) -> 73.9 | DS18: =ROUND(DM18/BS18*100,1) -> 75.6 | DT18: =DS18-DR18 -> 1.7 | DU18: 1 | DV18: 112.497 | DW18: 187.455 | DX18: =DW18-DV18 -> 74.958 | DY18: 105.627 | DZ18: 180.175 | EA18: =DZ18-DY18 -> 74.548 | EB18: 4.438 | EC18: 0 | ED18: =EC18-EB18 -> -4.438 | EE18: =ROUND(CI18/DL18,1) -> 14.7 | EF18: =ROUND(CJ18/DM18,1) -> 14.6 | EG18: =EF18-EE18 -> -0.1 | EH18: 898 | EI18: 1072 | EJ18: =EI18-EH18 -> 174 | EK18: 262.783 | EL18: 265.578 | EM18: =EL18-EK18 -> 2.795 | EN18: =ROUND(EK18/DL18,1) -> 29.3 | EO18: =ROUND(EL18/DM18,1) -> 29 | EP18: =EO18-EN18 -> -0.3 | EQ18: =ROUND(EK18/CI18,1) -> 2 | ER18: =ROUND(EL18/CJ18,1) -> 2 | ES18: =ER18-EQ18 -> 0 | ET18: 6.24 | EU18: 6.461 | EV18: =EU18-ET18 -> 0.221 | EX18: 0.123 | EY18: =EX18-EW18 -> 0.123 | FA18: 9 | FB18: Кривошеинский | FC18: 09 | FD18: 26 | FE18: 26 | FF18: =FE18-FD18 -> 0 | FG18: 21 | FH18: 21 | FI18: =FH18-FG18 -> 0 | FJ18: 9 | FK18: 11 | FL18: =FK18-FJ18 -> 2 | FM18: 10 | FN18: 9 | FO18: =FN18-FM18 -> -1 | FP18: =ROUND((FK18+FN18)/FH18*100,1) -> 95.2 | FQ18: 7 | FR18: =ROUND(DL18*1000/FG18,0) -> 428 | FS18: =ROUND(DM18*1000/FH18,0) -> 436 | FT18: =FS18-FR18 -> 8 | FU18: =ROUND(EK18/FG18,1) -> 12.5 | FV18: =ROUND(EL18/FH18,1) -> 12.6 | FW18: =FV18-FU18 -> 0.1 | FY18: 9 | FZ18: Кривошеинский | GA18: 09 | GB18: =GE18+GF18+GG18 -> 22448 | GC18: =ROUND(GB18/G18,0) -> 1727 | GD18: 12 | GE18: 10326.4 | GF18: 12057.6 | GG18: 64 | GJ18: =ROUND((GE18+GF18)/GB18*100,1) -> 99.7 | GK18: 22448 | GL18: 17255.4 | GN18: 2508.1 | GP18: 918.6 | GS18: =ROUND(GB18/BS18,0) -> 1855 | GT18: 10 | GU18: =ROUND(GB18/DM18,0) -> 2453 | GV18: 12
A19: 10 | B19: Молчановский | C19: 10 | D19: =E19+F19 -> 13 | F19: 13 | G19: =H19+I19 -> 13 | I19: 13 | J19: 8 | K19: 8 | L19: 1 | N19: =M19-L19 -> -1 | Q19: =P19-O19 -> 0 | R19: =ROUND((L19+O19)/D19*100,1) -> 7.7 | S19: =ROUND((M19+P19)/G19*100,1) -> 0 | X19: =W19-V19 -> 0 | Y19: 12 | Z19: 12 | AA19: =Z19-Y19 -> 0 | AB19: 6 | AC19: 6 | AD19: =AC19-AB19 -> 0 | AE19: 6 | AF19: 6 | AG19: =AF19-AE19 -> 0 | AJ19: =AI19-AH19 -> 0 | AL19: 10 | AM19: Молчановский | AN19: 10 | AO19: 13 | AP19: 13 | AQ19: =AP19-AO19 -> 0 | AR19: 6 | AS19: 6 | AT19: =AS19-AR19 -> 0 | AU19: =ROUND(AO19/D19*100,1) -> 100 | AV19: =ROUND(AP19/G19*100,1) -> 100 | AW19: 1 | AX19: 1 | AY19: =AX19-AW19 -> 0 | AZ19: 1 | BA19: 1 | BB19: =BA19-AZ19 -> 0 | BC19: 1 | BD19: 1 | BE19: =BD19-BC19 -> 0 | BF19: 35.793 | BG19: 37.255 | BH19: =BG19-BF19 -> 1.462 | BI19: 35.793 | BJ19: 37.255 | BK19: =BJ19-BI19 -> 1.462 | BM19: 10 | BN19: Молчановский | BO19: 10 | BP19: =BQ19+BR19 -> 12.274 | BR19: 12.274 | BS19: =BT19+BU19 -> 12.2 | BU19: 12.2 | BV19: =ROUND(BP19/D19,2) -> 0.94 | BX19: =ROUND(BR19/F19,2) -> 0.94 | BY19: =ROUND(BS19/G19,2) -> 0.94 | CA19: =ROUND(BU19/I19,2) -> 0.94 | CB19: =BY19-BV19 -> 0 | CC19: =BZ19-BW19 -> 0 | CD19: =CA19-BX19 -> 0 | CF19: 10 | CG19: Молчановский | CH19: 10 | CI19: =CL19+CO19 -> 120.232 | CJ19: =CM19+CP19 -> 121.697 | CK19: =CJ19-CI19 -> 1.465 | CN19: =CM19-CL19 -> 0 | CO19: 120.232 | CP19: 121.697 | CQ19: =CP19-CO19 -> 1.465 | CR19: =CU19+CX19 -> 2.625 | CS19: =CV19+CY19 -> 2.574 | CT19: =CS19-CR19 -> -0.051 | CW19: =CV19-CU19 -> 0 | CX19: 2.625 | CY19: 2.574 | CZ19: =CY19-CX19 -> -0.051 | DA19: =ROUND(CR19*1000/BP19,0) -> 214 | DB19: =ROUND(CS19*1000/BS19,0) -> 211 | DC19: =DB19-DA19 -> -3 | DD19: =ROUND(CI19/BP19,1) -> 9.8 | DE19: =ROUND(CJ19/BS19,1) -> 10 | DF19: =DE19-DD19 -> 0.2 | DG19: 7 | DI19: 10 | DJ19: Молчановский | DK19: 10 | DL19: 8.586 | DM19: 8.793 | DN19: =DM19-DL19 -> 0.207 | DO19: 7.746 | DP19: 7.876 | DQ19: =DP19-DO19 -> 0.13 | DR19: =ROUND(DL19/BP19*100,1) -> 70 | DS19: =ROUND(DM19/BS19*100,1) -> 72.1 | DT19: =DS19-DR19 -> 2.1 | DU19: 2 | DV19: 123.78 | DW19: 132.395 | DX19: =DW19-DV19 -> 8.615 | DY19: 118.092 | DZ19: 123.413 | EA19: =DZ19-DY19 -> 5.321 | EB19: 10.596 | EC19: 12.823 | ED19: =EC19-EB19 -> 2.227 | EE19: =ROUND(CI19/DL19,1) -> 14 | EF19: =ROUND(CJ19/DM19,1) -> 13.8 | EG19: =EF19-EE19 -> -0.2 | EH19: 1420 | EI19: 1633 | EJ19: =EI19-EH19 -> 213 | EK19: 177.524 | EL19: 171.47 | EM19: =EL19-EK19 -> -6.054 | EN19: =ROUND(EK19/DL19,1) -> 20.7 | EO19: =ROUND(EL19/DM19,1) -> 19.5 | EP19: =EO19-EN19 -> -1.2 | EQ19: =ROUND(EK19/CI19,1) -> 1.5 | ER19: =ROUND(EL19/CJ19,1) -> 1.4 | ES19: =ER19-EQ19 -> -0.1 | ET19: 11.799 | EU19: 11.842 | EV19: =EU19-ET19 -> 0.043 | EY19: =EX19-EW19 -> 0 | FA19: 10 | FB19: Молчановский | FC19: 10 | FD19: 29 | FE19: 29 | FF19: =FE19-FD19 -> 0 | FG19: 23 | FH19: 23 | FI19: =FH19-FG19 -> 0 | FJ19: 12 | FK19: 11 | FL19: =FK19-FJ19 -> -1 | FM19: 11 | FN19: 12 | FO19: =FN19-FM19 -> 1 | FP19: =ROUND((FK19+FN19)/FH19*100,1) -> 100 | FQ19: 1 | FR19: =ROUND(DL19*1000/FG19,0) -> 373 | FS19: =ROUND(DM19*1000/FH19,0) -> 382 | FT19: =FS19-FR19 -> 9 | FU19: =ROUND(EK19/FG19,1) -> 7.7 | FV19: =ROUND(EL19/FH19,1) -> 7.5 | FW19: =FV19-FU19 -> -0.2 | FY19: 10 | FZ19: Молчановский | GA19: 10 | GB19: =GE19+GF19+GG19 -> 19812.9 | GC19: =ROUND(GB19/G19,0) -> 1524 | GD19: 15 | GE19: 19707 | GF19: 75 | GG19: 30.9 | GJ19: =ROUND((GE19+GF19)/GB19*100,1) -> 99.8 | GK19: 19791.7 | GL19: 17916.2 | GM19: 10 | GN19: 89.1 | GP19: 184.8 | GS19: =ROUND(GB19/BS19,0) -> 1624 | GT19: 12 | GU19: =ROUND(GB19/DM19,0) -> 2253 | GV19: 15
