Workbook

Sheet приложение 1 культура
H1: Приложение № 1
F2: к письму от _____________________№________________
A4: Мониторинг целевых показателей, установленных в плане мероприятий "дорожной карте" за 2015 год
A7: Наименование ОГУ/МУ | B7: Планируемая среднесписочная численность отдельной категории работников государственных и муниципальных учреждений, чел. | C7: Фактическая среднесписочная численность отдельной категории работников государственных и муниципальных учреждений на отчетный период, чел. | D7: Отношение средней заработной платы работников соответствующей категории к средней заработной плате в экономике Томской области, %* | E7: Средняя заработная плата отдельной категории работников списочного состава, руб. | G7: Плановое значение средней заработной платы отдельной категории работников на год, руб. | H7: Отклонение факта за отчетный период от планового значения на год, руб.
E8: план на отчетный период** | F8: факт за отчетный период
A9: 1 | B9: 2 | C9: 3 | D9: 4 | E9: 5 | F9: 6 | G9: 7 | H9: 8=6-7
A10: Работники учреждений культуры
A11: ОГУ 1
A12: ОГУ 2
A13: Всего по ОГУ, подведомственным Департаменту
A14: ОГАУК "ТОУНБ им.А.С.Пушкина" | B14: ='[1]Форма 2 ТОУНБ'!$AG$14 -> 143.3 | C14: ='[9]СВ Т-ст'!$F$9 -> 143.3 | D14: =F14/33998*100 -> 61.836873 | E14: =ROUND('[1]Форма 2 ТОУНБ'!$AH$14,1) -> 20750 | F14: =ROUND('[9]СВ Т-ст'!$Q$9,1) -> 21023.3 | G14: =E14 -> 20750 | H14: =F14-G14 -> 273.3
A15: ='[2]Sheet1 (2)'!$P$26 -> ОГАУК "ТОДЮБ" | B15: ='[1]Форма 2 ОДЮБ'!$AG$14 -> 49.7 | C15: ='[9]СВ Т-ст'!$F$10 -> 49.7 | D15: =F15/33998*100 -> 66.646862 | E15: =ROUND('[1]Форма 2 ОДЮБ'!$AH$14,1) -> 22658.7 | F15: =ROUND('[9]СВ Т-ст'!$Q$10,1) -> 22658.6 | G15: =E15 -> 22658.7 | H15: =ROUND(F15-G15,1) -> -0.1
A16: ОГАУК "Дом искусств" | B16: ='[1]Форма 2 ДИ'!$AG$14 -> 13.7 | C16: ='[9]СВ Т-ст'!$F$14 -> 13.7 | D16: =F16/33998*100 -> 45.048807 | E16: ='[1]Форма 2 ДИ'!$AH$14 -> 15315.458 | F16: ='[9]СВ Т-ст'!$Q$14 -> 15315.693 | G16: =E16 -> 15315.458 | H16: =F16-G16 -> 0.23586077
A17: ОГАУК "ТОХМ" | B17: ='[1]Форма 2 ТОХМ'!$AG$14 -> 72.2 | C17: ='[9]СВ Т-ст'!$F$16 -> 69.7 | D17: =F17/33998*100 -> 59.39634 | E17: ='[1]Форма 2 ТОХМ'!$AH$14 -> 20178.536 | F17: ='[9]СВ Т-ст'!$Q$16 -> 20193.568 | G17: =E17 -> 20178.536 | H17: =F17-G17 -> 15.031575
A18: ОГАУК "Томский областной краеведческий музей им.М.Б. Шатилова" | B18: ='[1]Форма 2 ТОКМ'!$AG$14 -> 145.3 | C18: ='[9]СВ Т-ст'!$F$15 -> 145 | D18: =F18/33998*100 -> 52.350104 | E18: ='[1]Форма 2 ТОКМ'!$AH$14 -> 17653.39 | F18: ='[9]СВ Т-ст'!$Q$15 -> 17797.989 | G18: =E18 -> 17653.39 | H18: =F18-G18 -> 144.59897
A19: ОГАУК "ДНТ "Авангард" | B19: ='[1]Форма 2 Аванг'!$AG$14 -> 79 | C19: ='[9]СВ Т-ст'!$F$11 -> 79 | D19: =F19/33998*100 -> 68.469528 | E19: ='[1]Форма 2 Аванг'!$AH$14 -> 23278.349 | F19: ='[9]СВ Т-ст'!$Q$11 -> 23278.27 | G19: 23278.3 | H19: =F19-G19 -> -0.029957806
A20: ОГАУК "ЦТК" | B20: ='[1]Форма 2 ЦТК'!$AG$14 -> 9.8 | C20: ='[9]СВ Т-ст'!$F$13 -> 9.8 | D20: =F20/33998*100 -> 65.882727 | E20: ='[1]Форма 2 ЦТК'!$AH$14 -> 21510.23 | F20: ='[9]СВ Т-ст'!$Q$13 -> 22398.81 | G20: =E20 -> 21510.23 | H20: =F20-G20 -> 888.57941
A21: ОГАУК "РНД" | B21: ='[1]Форма 2 РНД'!$AG$14 -> 13.7 | C21: ='[9]СВ Т-ст'!$F$12 -> 13.8 | D21: =F21/33998*100 -> 55.58369 | E21: ='[1]Форма 2 РНД'!$AH$14 -> 18896.997 | F21: ='[9]СВ Т-ст'!$Q$12 -> 18897.343 | G21: =E21 -> 18896.997 | H21: =F21-G21 -> 0.34587515
A22: ОГАУК "ТОТК Скоморох" | B22: ='[1]Форма 2 Скоморох'!$AG$14 -> 61.4 | C22: ='[9]СВ Т-ст'!$F$20 -> 61.5 | D22: =F22/33998*100 -> 62.486937 | E22: 21227.3 | F22: ='[9]СВ Т-ст'!$Q$20 -> 21244.309 | G22: =E22 -> 21227.3 | H22: =F22-G22 -> 17.008943
A23: ='[2]Sheet1 (2)'!$P$45 -> ОГАУК "Театр драмы" | B23: ='[1]Форма 2 Драма'!$AG$14 -> 144.3 | C23: ='[9]СВ Т-ст'!$F$18 -> 140 | D23: =F23/33998*100 -> 77.686993 | E23: ='[1]Форма 2 Драма'!$AH$14 -> 24581.105 | F23: ='[9]СВ Т-ст'!$Q$18 -> 26412.024 | G23: =E23 -> 24581.105 | H23: =F23-G23 -> 1830.9192
A24: ОГАУК ТО ТЮЗ | B24: ='[1]Форма 2 ТЮЗ'!$AG$14 -> 114.1 | C24: ='[9]СВ Т-ст'!$F$19 -> 110 | D24: =F24/33998*100 -> 59.640318 | E24: ='[1]Форма 2 ТЮЗ'!$AH$14 -> 18386.467 | F24: ='[9]СВ Т-ст'!$Q$19 -> 20276.515 | G24: =E24 -> 18386.467 | H24: =F24-G24 -> 1890.0479
A25: ОГАУК "ТОГФ" | B25: ='[1]Форма 2 Филарм'!$AG$14 -> 134.6 | C25: ='[9]СВ Т-ст'!$F$21 -> 153 | D25: =F25/33998*100 -> 83.934676 | E25: ='[1]Форма 2 Филарм'!$AH$14 -> 28536.167 | F25: ='[9]СВ Т-ст'!$Q$21 -> 28536.111 | G25: =E25 -> 28536.167 | H25: =F25-G25 -> -0.055510069
A26: ОГАУК "Центр по охране памятников" | B26: ='[1]Форма 2 ЦОП'!$AG$14 -> 14.5 | C26: ='[9]СВ Т-ст'!$F$17 -> 14.5 | D26: =F26/33998*100 -> 117.57453 | E26: ='[1]Форма 2 ЦОП'!$AH$14 -> 39973.047 | F26: ='[9]СВ Т-ст'!$Q$17 -> 39972.989 | G26: 39973 | H26: =F26-G26 -> -0.011494253
A27: ОГКУ "ГАТО" | B27: ='[1]Форма 2 ГАТО'!$AG$14 -> 69 | C27: ='[9]СВ Т-ст'!$F$22 -> 68.9 | D27: =F27/33998*100 -> 66.358595 | E27: ='[1]Форма 2 ГАТО'!$AH$14 -> 22617.16 | F27: ='[9]СВ Т-ст'!$Q$22 -> 22560.595 | G27: =E27 -> 22617.16 | H27: =F27-G27 -> -56.564552
A28: ='[2]Sheet1 (2)'!$P$314 -> ОГКУ ЦДНИ ТО | B28: ='[1]Форма 2 ЦДНИ'!$AG$14 -> 38 | C28: ='[9]СВ Т-ст'!$F$23 -> 39.9 | D28: =F28/33998*100 -> 68.915303 | E28: ='[1]Форма 2 ЦДНИ'!$AH$14 -> 24904.37 | F28: ='[9]СВ Т-ст'!$Q$23 -> 23429.825 | G28: =E28 -> 24904.37 | H28: =F28-G28 -> -1474.5457
A29: ИТОГО ОГУ: | B29: =SUM(B14:B28) -> 1102.6 | C29: =SUM(C14:C28) -> 1111.8 | D29: =F29/33998*100 -> 67.000768 | E29: =(B14*E14+E15*B15+B16*E16+E17*B17+B18*E18+E19*B19+B20*E20+E21*B21+B22*E22+E23*B23+B24*E24+E25*B25+B26*E26+E27*B27+B28*E28)/B29 -> 22234.603 | F29: =(F14*C14+C15*F15+F16*C16+C17*F17+F18*C18+C19*F19+F20*C20+C21*F21+F22*C22+C23*F23+F24*C24+C25*F25+F26*C26+C27*F27+F28*C28)/C29 -> 22778.921 | G29: =(G14*B14+B15*G15+G16*B16+B17*G17+G18*B18+B19*G19+G20*B20+B21*G21+G22*B22+B23*G23+G24*B24+B25*G25+G26*B26+B27*G27+G28*B28)/B29 -> 22234.599 | H29: =F29-G29 -> 544.32218
A30: Александровский район
A31: ='[3]СЗП15 ф14 юр.л.'!$B$6 -> МБУ "Культурно - спортивный комплекс" | B31: ='[1]Форма 2 Александ'!$AG$16 -> 83.2 | C31: ='[9]СВ Т-ст'!$F$25 -> 74.8 | D31: =F31/33998*100 -> 77.015776 | E31: ='[1]Форма 2 Александ'!$AH$15 -> 25949.935 | F31: ='[9]СВ Т-ст'!$Q$27 -> 26183.824 | G31: =E31 -> 25949.935 | H31: =F31-G31 -> 233.88833
A32: Всего по муниципальному образованию "Александровский район" | B32: =SUM(B31:B31) -> 83.2 | C32: =SUM(C31:C31) -> 74.8 | D32: =F32/33998*100 -> 77.015776 | E32: =E31 -> 25949.935 | F32: =F31 -> 26183.824 | G32: =G31 -> 25949.935 | H32: =H31 -> 233.88833
A33: Бакчарский район
A34: ОГУ 1
A35: ОГУ 2
A36: Всего по ОГУ, подведомственным Департаменту
A37: ='[4]СВ Т-ст'!$C$38 -> Муниципальное казённое учреждение "Бакчарский краеведческий музей северного садоводства" | B37: 2.4 | C37: ='[9]СВ Т-ст'!$F$33 -> 2.5 | D37: =F37/33998*100 -> 47.728298 | E37: ='[1]Форма 2 Бакчар '!$AH$23 -> 14062.888 | F37: ='[9]СВ Т-ст'!$Q$33 -> 16226.667 | G37: =E37 -> 14062.888 | H37: =F37-G37 -> 2163.7784
A38: ='[4]СВ Т-ст'!$C$39 -> Муниципальное бюджетное учреждение культуры "Бакчарская межпоселенческая централизованная библиотечная система" | B38: 0 | C38: ='[9]СВ Т-ст'!$F$34 -> 14 | D38: =F38/33998*100 -> 73.302631 | E38: 0 | F38: ='[9]СВ Т-ст'!$Q$34 -> 24921.429 | G38: =E38 -> 0 | H38: =F38-G38 -> 24921.429
A39: Муниципальное казённое учреждение культуры "Бакчарская центральная районная библиотека" | B39: 18.8 | C39: ='[9]СВ Т-ст'!$F$35 -> 4.2 | D39: =F39/33998*100 -> 84.061901 | E39: ='[1]Форма 2 Бакчар '!$AH$17 -> 23412.937 | F39: ='[9]СВ Т-ст'!$Q$35 -> 28579.365 | G39: =E39 -> 23412.937 | H39: =F39-G39 -> 5166.4276
A40: Муниципальное казённое учреждение "Плотниковская центральная библиотека" | B40: 0.8 | C40: ='[9]СВ Т-ст'!$F$36 -> 0.2 | D40: =F40/33998*100 -> 37.624762 | E40: ='[1]Форма 2 Бакчар '!$AH$18 -> 9948.9796 | F40: ='[9]СВ Т-ст'!$Q$36 -> 12791.667 | G40: =E40 -> 9948.9796 | H40: =F40-G40 -> 2842.6871
A41: Муниципальное казённое учреждение "Вавиловская центральная библиотека" | B41: 1 | C41: ='[9]СВ Т-ст'!$F$37 -> 0.2 | D41: =F41/33998*100 -> 74.269075 | E41: ='[1]Форма 2 Бакчар '!$AH$21 -> 12899.66 | F41: ='[9]СВ Т-ст'!$Q$37 -> 25250 | G41: =E41 -> 12899.66 | H41: =F41-G41 -> 12350.34
A42: Муниципальное казённое учреждение "Парбигская центральная библиотека" | B42: 2.9 | C42: ='[9]СВ Т-ст'!$F$38 -> 0.7 | D42: =F42/33998*100 -> 92.127268 | E42: ='[1]Форма 2 Бакчар '!$AH$22 -> 24731.725 | F42: ='[9]СВ Т-ст'!$Q$38 -> 31321.429 | G42: =E42 -> 24731.725 | H42: =F42-G42 -> 6589.7036
A43: Муниципальное казённое учреждение "Высокоярская центральная библиотека" | B43: 2.7 | C43: ='[9]СВ Т-ст'!$F$39 -> 0.7 | D43: =F43/33998*100 -> 71.432773 | E43: ='[1]Форма 2 Бакчар '!$AH$19 -> 16955.748 | F43: ='[9]СВ Т-ст'!$Q$39 -> 24285.714 | G43: =E43 -> 16955.748 | H43: =F43-G43 -> 7329.9658
A44: Муниципальное казённое учреждение "Поротниковская центральная библиотека" | B44: 1.5 | C44: ='[9]СВ Т-ст'!$F$40 -> 0.4 | D44: =F44/33998*100 -> 61.400671 | E44: ='[1]Форма 2 Бакчар '!$AH$20 -> 17060.506 | F44: ='[9]СВ Т-ст'!$Q$40 -> 20875 | G44: =E44 -> 17060.506 | H44: =F44-G44 -> 3814.4937
A45: Муниципальное бюджетное учреждение культуры "Бакчарская межпоселенческая централизованная клубная система" | B45: 0 | C45: ='[9]СВ Т-ст'!$F$41 -> 9.9 | D45: =F45/33998*100 -> 63.657438 | E45: 0 | F45: ='[9]СВ Т-ст'!$Q$41 -> 21642.256 | G45: =E45 -> 0 | H45: =F45-G45 -> 21642.256
A46: ='[4]СВ Т-ст'!$C$46 -> Муниципальное казённое учреждение культуры "Бакчарский районный Дом культуры" | B46: 26.6 | C46: ='[9]СВ Т-ст'!$F$42 -> 24.2 | D46: =F46/33998*100 -> 53.084066 | E46: ='[1]Форма 2 Бакчар '!$AH$25 -> 15239.247 | F46: ='[9]СВ Т-ст'!$Q$42 -> 18047.521 | G46: =E46 -> 15239.247 | H46: =F46-G46 -> 2808.2737
A47: ='[4]СВ Т-ст'!$C$47 -> Муниципальное казённое учреждение "Плотниковский сельский дом культуры" | B47: 3.9 | C47: ='[9]СВ Т-ст'!$F$43 -> 2 | D47: =F47/33998*100 -> 35.896719 | E47: ='[1]Форма 2 Бакчар '!$AH$26 -> 8161.0849 | F47: ='[9]СВ Т-ст'!$Q$43 -> 12204.167 | G47: =E47 -> 8161.0849 | H47: =F47-G47 -> 4043.0817
A48: ='[4]СВ Т-ст'!$C$48 -> Муниципальное казённое учреждение "Вавиловский сельский дом культуры" | B48: 1.9 | C48: ='[9]СВ Т-ст'!$F$44 -> 1 | D48: =F48/33998*100 -> 53.042336 | E48: ='[1]Форма 2 Бакчар '!$AH$29 -> 17856.8 | F48: ='[9]СВ Т-ст'!$Q$44 -> 18033.333 | G48: =E48 -> 17856.8 | H48: =F48-G48 -> 176.53376
A49: ='[4]СВ Т-ст'!$C$49 -> Муниципальное казённое учреждение "Парбигский сельский дом культуры" | B49: 12.5 | C49: ='[9]СВ Т-ст'!$F$45 -> 6.2 | D49: =F49/33998*100 -> 53.778464 | E49: ='[1]Форма 2 Бакчар '!$AH$30 -> 14915.678 | F49: ='[9]СВ Т-ст'!$Q$45 -> 18283.602 | G49: =E49 -> 14915.678 | H49: =F49-G49 -> 3367.9243
A50: ='[4]СВ Т-ст'!$C$50 -> Муниципальное казённое учреждение "Высокоярский сельский дом культуры" | B50: 9.1 | C50: ='[9]СВ Т-ст'!$F$46 -> 4.2 | D50: =F50/33998*100 -> 59.323051 | E50: ='[1]Форма 2 Бакчар '!$AH$27 -> 13730.872 | F50: ='[9]СВ Т-ст'!$Q$46 -> 20168.651 | G50: =E50 -> 13730.872 | H50: =F50-G50 -> 6437.7789
A51: ='[4]СВ Т-ст'!$C$51 -> Муниципальное казённое учреждение "Поротниковский сельский дом культуры" | B51: 3.9 | C51: ='[9]СВ Т-ст'!$F$47 -> 2 | D51: =F51/33998*100 -> 39.463106 | E51: ='[1]Форма 2 Бакчар '!$AH$28 -> 8751.6422 | F51: ='[9]СВ Т-ст'!$Q$47 -> 13416.667 | G51: =E51 -> 8751.6422 | H51: =F51-G51 -> 4665.0244
A52: Всего по муниципальному образованию "Бакчарский район" | B52: 87.9 | C52: =SUM(C37:C51) -> 72.4 | D52: =F52/33998*100 -> 60.238079 | E52: 16547.5 | F52: =(F37*C37+C38*F38+F39*C39+C40*F40+F41*C41+C42*F42+F43*C43+C44*F44+F45*C45+C46*F46+F47*C47+C48*F48+F49*C49+C50*F50+F51*C51)/C52 -> 20479.742 | G52: 16547.5 | H52: =F52-G52 -> 3932.2422
A53: Верхнекетский район
A54: ОГУ 1
A55: ОГУ 2
A56: Всего по ОГУ, подведомственным Департаменту
A57: ='[4]СВ Т-ст'!$C$53 -> Муниципальное автономное учреждение "Культура" | B57: ='[1]Форма 2 Верхнек'!$AG$14 -> 92.6 | C57: ='[9]СВ Т-ст'!$F$48 -> 92.6 | D57: =F57/33998*100 -> 78.499618 | E57: ='[1]Форма 2 Верхнек'!$AH$14 -> 26688.349 | F57: 26688.3 | G57: =E57 -> 26688.349 | H57: =F57-G57 -> -0.048542171
A58: Всего по муниципальному образованию "Верхнекетский район" | B58: =B57 -> 92.6 | C58: =C57 -> 92.6 | D58: =F58/33998*100 -> 78.499618 | E58: =E57 -> 26688.349 | F58: =F57 -> 26688.3 | G58: =G57 -> 26688.349 | H58: =F58-G58 -> -0.048542171
A59: Зырянский район
A60: ОГУ 1
A61: ОГУ 2
A62: Всего по ОГУ, подведомственным Департаменту
A63: ='[4]СВ Т-ст'!$C$56 -> Муниципальное автономное учреждение «Центр культуры" Зырянского района | B63: ='[1]Форма 2 Зырян'!$AG$21 -> 27.9 | C63: ='[9]СВ Т-ст'!$F$52 -> 33.5 | D63: =F63/33998*100 -> 48.988103 | E63: ='[1]Форма 2 Зырян'!$AH$21 -> 20137.729 | F63: ='[9]СВ Т-ст'!$Q$52 -> 16654.975 | G63: =E63 -> 20137.729 | H63: =F63-G63 -> -3482.7542
A64: ='[4]СВ Т-ст'!$C$57 -> Муниципальное бюджетное учреждение «Межпоселенческая централизованная библиотечная система Зырянского района» | B64: ='[1]Форма 2 Зырян'!$AG$16 -> 25 | C64: ='[9]СВ Т-ст'!$F$53 -> 21.9 | D64: =F64/33998*100 -> 60.775578 | E64: ='[1]Форма 2 Зырян'!$AH$16 -> 21227.779 | F64: ='[9]СВ Т-ст'!$Q$53 -> 20662.481 | G64: =E64 -> 21227.779 | H64: =F64-G64 -> -565.29782
A65: ='[4]СВ Т-ст'!$C$58 -> Муниципальное бюджетное учреждение культуры «Зырянский краеведческий музей» | B65: ='[1]Форма 2 Зырян'!$AG$17 -> 2.9 | C65: ='[9]СВ Т-ст'!$F$54 -> 3 | D65: =F65/33998*100 -> 74.849174 | E65: ='[1]Форма 2 Зырян'!$AH$17 -> 22325.599 | F65: ='[9]СВ Т-ст'!$Q$54 -> 25447.222 | G65: =E65 -> 22325.599 | H65: =F65-G65 -> 3121.6232
A66: ='[4]СВ Т-ст'!$C$59 -> Муниципальное бюджетное учреждение «Центр культуры» Высоковского сельского поселения | B66: ='[1]Форма 2 Зырян'!$AG$20 -> 9.8 | C66: ='[9]СВ Т-ст'!$F$55 -> 7 | D66: =F66/33998*100 -> 54.274901 | E66: ='[1]Форма 2 Зырян'!$AH$20 -> 9551.7889 | F66: ='[9]СВ Т-ст'!$Q$55 -> 18452.381 | G66: =E66 -> 9551.7889 | H66: =F66-G66 -> 8900.5921
A67: ='[4]СВ Т-ст'!$C$60 -> Муниципальное бюджетное учреждение «Центр культурно-досуговой деятельности населения Дубровского сельского поселения» | B67: ='[1]Форма 2 Зырян'!$AG$22 -> 6.8 | C67: ='[9]СВ Т-ст'!$F$56 -> 6.8 | D67: =F67/33998*100 -> 41.968299 | E67: ='[1]Форма 2 Зырян'!$AH$22 -> 12807.118 | F67: ='[9]СВ Т-ст'!$Q$56 -> 14268.382 | G67: =E67 -> 12807.118 | H67: =F67-G67 -> 1461.2645
A68: ='[4]СВ Т-ст'!$C$61 -> Муниципальное бюджетное учреждение «Центр культурно-досуговой деятельности населения Михайловского сельского поселения» | B68: ='[1]Форма 2 Зырян'!$AG$23 -> 8.3 | C68: ='[9]СВ Т-ст'!$F$57 -> 8.1 | D68: =F68/33998*100 -> 43.847895 | E68: ='[1]Форма 2 Зырян'!$AH$23 -> 13338.19 | F68: ='[9]СВ Т-ст'!$Q$57 -> 14907.407 | G68: =E68 -> 13338.19 | H68: =F68-G68 -> 1569.2171
A69: ='[4]СВ Т-ст'!$C$62 -> Муниципальное бюджетное учреждение «Центр культуры и досуга муниципального образования «Чердатское сельское поселение» | B69: ='[1]Форма 2 Зырян'!$AG$19 -> 5.4 | C69: ='[9]СВ Т-ст'!$F$58 -> 6.5 | D69: =F69/33998*100 -> 43.920381 | E69: ='[1]Форма 2 Зырян'!$AH$19 -> 12910.637 | F69: ='[9]СВ Т-ст'!$Q$58 -> 14932.051 | G69: =E69 -> 12910.637 | H69: =F69-G69 -> 2021.414
A70: Всего по муниципальному образованию "Зырянский район" | B70: =SUM(B63:B69) -> 86.1 | C70: =SUM(C63:C69) -> 86.8 | D70: =F70/33998*100 -> 51.873195 | E70: 17635.2 | F70: =(C63*F63+F64*C64+C65*F65+F66*C66+C67*F67+F68*C68+C69*F69)/C70 -> 17635.849 | G70: 17635.2 | H70: =F70-G70 -> 0.64869432
A71: Каргасокский район
A72: ОГУ 1
A73: ОГУ 2
A74: Всего по ОГУ, подведомственным Департаменту
A75: Муниципальное бюджетное учреждение культуры "Каргасокская центральная районная библиотека" | B75: ='[1]Форма 2 Каргасок'!$AG$61 -> 41.8 | C75: ='[9]СВ Т-ст'!$F$61 -> 42 | D75: =F75/33998*100 -> 75.281039 | E75: ='[1]Форма 2 Каргасок'!$AH$61 -> 26622.921 | F75: ='[9]СВ Т-ст'!$Q$61 -> 25594.048 | G75: =E75 -> 26622.921 | H75: =F75-G75 -> -1028.8733
A76: Муниципальное бюджетное учреждение культуры "Каргасокский районный дом культуры" | B76: ='[1]Форма 2 Каргасок'!$AG$46 -> 30 | C76: ='[9]СВ Т-ст'!$F$62 -> 30.1 | D76: =F76/33998*100 -> 88.577616 | E76: ='[1]Форма 2 Каргасок'!$AH$46 -> 29647.664 | F76: ='[9]СВ Т-ст'!$Q$62 -> 30114.618 | G76: =E76 -> 29647.664 | H76: =F76-G76 -> 466.95354
A77: Муниципальное казенное учреждение культуры "Сосновский центр культуры" | B77: ='[1]Форма 2 Каргасок'!$AG$57 -> 5.4 | C77: ='[9]СВ Т-ст'!$F$63 -> 5.1 | D77: =F77/33998*100 -> 80.041233 | E77: ='[1]Форма 2 Каргасок'!$AH$57 -> 22117.599 | F77: ='[9]СВ Т-ст'!$Q$63 -> 27212.418 | G77: =E77 -> 22117.599 | H77: =F77-G77 -> 5094.8194
A78: Муниципальное казенное учреждение культуры "Березовский библиотечно-досуговый центр" | B78: ='[1]Форма 2 Каргасок'!$AG$59 -> 1.7 | C78: ='[9]СВ Т-ст'!$F$65 -> 1.7 | D78: =F78/33998*100 -> 66.353384 | E78: ='[1]Форма 2 Каргасок'!$AH$59 -> 21565.726 | F78: ='[9]СВ Т-ст'!$Q$65 -> 22558.824 | G78: =E78 -> 21565.726 | H78: =F78-G78 -> 993.09724
A79: Муниципальное казенное учреждение культуры "Вертикосский библиотечно-досуговый центр" | B79: ='[1]Форма 2 Каргасок'!$AG$53 -> 3.4 | C79: ='[9]СВ Т-ст'!$F$66 -> 4.1 | D79: =F79/33998*100 -> 65.516766 | E79: ='[1]Форма 2 Каргасок'!$AH$53 -> 19336.935 | F79: ='[9]СВ Т-ст'!$Q$66 -> 22274.39 | G79: =E79 -> 19336.935 | H79: =F79-G79 -> 2937.4555
A80: Муниципальное казенное учреждение культуры "Культурно библиотечный центр Новоюгинского поселения" | B80: ='[1]Форма 2 Каргасок'!$AG$50 -> 5.1 | C80: ='[9]СВ Т-ст'!$F$67 -> 5.1 | D80: =F80/33998*100 -> 81.550356 | E80: ='[1]Форма 2 Каргасок'!$AH$50 -> 22140.49 | F80: ='[9]СВ Т-ст'!$Q$67 -> 27725.49 | G80: =E80 -> 22140.49 | H80: =F80-G80 -> 5585.0007
A81: Муниципальное казенное учреждение культуры "Тымский библиотечно-досуговый центр" | B81: ='[1]Форма 2 Каргасок'!$AG$48 -> 1.4 | C81: ='[9]СВ Т-ст'!$F$68 -> 2 | D81: =F81/33998*100 -> 79.710571 | E81: ='[1]Форма 2 Каргасок'!$AH$48 -> 23545.797 | F81: ='[9]СВ Т-ст'!$Q$68 -> 27100 | G81: =E81 -> 23545.797 | H81: =F81-G81 -> 3554.2031
A82: Муниципальное казенное учреждение "Культурно-досуговый центр Средневасюганского сельского поселения" | B82: ='[1]Форма 2 Каргасок'!$AG$52 -> 6.9 | C82: ='[9]СВ Т-ст'!$F$69 -> 6.9 | D82: =F82/33998*100 -> 74.134085 | E82: ='[1]Форма 2 Каргасок'!$AH$52 -> 28995.44 | F82: ='[9]СВ Т-ст'!$Q$69 -> 25204.106 | G82: =E82 -> 28995.44 | H82: =F82-G82 -> -3791.3339
A83: Муниципальное казенное учреждение культуры "Нововасюганский центр культуры" | B83: ='[1]Форма 2 Каргасок'!$AG$55 -> 6.4 | C83: ='[9]СВ Т-ст'!$F$70 -> 5.5 | D83: =F83/33998*100 -> 76.430521 | E83: ='[1]Форма 2 Каргасок'!$AH$55 -> 24780.612 | F83: ='[9]СВ Т-ст'!$Q$70 -> 25984.848 | G83: =E83 -> 24780.612 | H83: =F83-G83 -> 1204.2362
A84: Муниципальное казенное учреждение культуры "Каргасокский культурно-досуговый и библиотечный центр" | B84: ='[1]Форма 2 Каргасок'!$AG$56 -> 9.4 | C84: ='[9]СВ Т-ст'!$F$71 -> 8.6 | D84: =F84/33998*100 -> 83.725855 | E84: ='[1]Форма 2 Каргасок'!$AH$56 -> 23967.977 | F84: ='[9]СВ Т-ст'!$Q$71 -> 28465.116 | G84: =E84 -> 23967.977 | H84: =F84-G84 -> 4497.1397
A85: Муниципальное казенное учреждение культуры "Усть -Тымский библиотечно-досуговый центр" | B85: ='[1]Форма 2 Каргасок'!$AG$49 -> 4.4 | C85: ='[9]СВ Т-ст'!$F$72 -> 3.4 | D85: =F85/33998*100 -> 74.434886 | E85: ='[1]Форма 2 Каргасок'!$AH$49 -> 16028.293 | F85: ='[9]СВ Т-ст'!$Q$72 -> 25306.373 | G85: =E85 -> 16028.293 | H85: =F85-G85 -> 9278.0794
A86: Муниципальное казенное учреждение культуры "Киевский сельский библиотечно-досуговый центр" | B86: ='[1]Форма 2 Каргасок'!$AG$54 -> 3.6 | C86: ='[9]СВ Т-ст'!$F$73 -> 2.6 | D86: =F86/33998*100 -> 69.366825 | E86: ='[1]Форма 2 Каргасок'!$AH$54 -> 16091.317 | F86: ='[9]СВ Т-ст'!$Q$73 -> 23583.333 | G86: =E86 -> 16091.317 | H86: =F86-G86 -> 7492.0163
A87: Муниципальное казенное учреждение культуры "Тевризский культурно-досуговый библиотечный центр" | B87: ='[1]Форма 2 Каргасок'!$AG$58 -> 1.4 | C87: ='[9]СВ Т-ст'!$F$74 -> 1.1 | D87: =F87/33998*100 -> 81.5556 | E87: ='[1]Форма 2 Каргасок'!$AH$58 -> 20040.209 | F87: ='[9]СВ Т-ст'!$Q$74 -> 27727.273 | G87: =E87 -> 20040.209 | H87: =F87-G87 -> 7687.0638
A88: Муниципальное казенное учреждение культуры "Среднетымский центр культуры" | B88: ='[1]Форма 2 Каргасок'!$AG$51 -> 4.9 | C88: ='[9]СВ Т-ст'!$F$75 -> 4.9 | D88: =F88/33998*100 -> 77.250443 | E88: ='[1]Форма 2 Каргасок'!$AH$51 -> 22908.094 | F88: ='[9]СВ Т-ст'!$Q$75 -> 26263.605 | G88: =E88 -> 22908.094 | H88: =F88-G88 -> 3355.5116
A89: Всего по муниципальному образованию "Каргасокский район" | B89: =SUM(B75:B88) -> 125.8 | C89: =SUM(C75:C88) -> 123.1 | D89: =F89/33998*100 -> 79.175903 | E89: 25618 | F89: =(C75*F75+F76*C76+C77*F77+C78*F78+F79*C79+C80*F80+F81*C81+C82*F82+F83*C83+C84*F84+F85*C85+C86*F86+F87*C87+C88*F88)/C89 -> 26918.224 | G89: =E89 -> 25618 | H89: =F89-G89 -> 1300.2237
A90: Кожевниковский район
A91: ОГУ 1
A92: ОГУ 2
A93: Всего по ОГУ, подведомственным Департаменту
A94: Муниципальное бюджетное учреждение культуры «Кожевниковская межмуниципальная централизованная клубная система» | B94: ='[1]Форма 2 Кожевн'!$AG$17 -> 54 | C94: ='[9]СВ Т-ст'!$F$77 -> 50.9 | D94: =F94/33998*100 -> 60.766701 | E94: ='[1]Форма 2 Кожевн'!$AH$17 -> 18751.277 | F94: ='[9]СВ Т-ст'!$Q$77 -> 20659.463 | G94: =E94 -> 18751.277 | H94: =F94-G94 -> 1908.1855
A95: Муниципальное бюджетное учреждение «Межпоселенческая централизованная библиотечная система Кожевниковского района» | B95: ='[1]Форма 2 Кожевн'!$AG$16 -> 30 | C95: ='[9]СВ Т-ст'!$F$78 -> 25.5 | D95: =F95/33998*100 -> 62.494064 | E95: ='[1]Форма 2 Кожевн'!$AH$16 -> 18211.054 | F95: ='[9]СВ Т-ст'!$Q$78 -> 21246.732 | G95: =E95 -> 18211.054 | H95: =F95-G95 -> 3035.6784
A96: Всего по муниципальному образованию "Кожевниковский район" | B96: =SUM(B94:B95) -> 84 | C96: =SUM(C94:C95) -> 76.4 | D96: =F96/33998*100 -> 61.343242 | E96: 18558.2 | F96: =(F94*C94+C95*F95)/C96 -> 20855.476 | G96: =E96 -> 18558.2 | H96: =F96-G96 -> 2297.2756
A97: Кривошеинский район
A98: ОГУ 1
A99: ОГУ 2
A100: Всего по ОГУ, подведомственным Департаменту
A101: Муниципальное бюджетное учреждение "Кривошеинская центральная межпоселенческая библиотека" | B101: ='[1]Форма 2 Кривош'!$AG$16 -> 21.5 | C101: ='[9]СВ Т-ст'!$F$92 -> 21.8 | D101: =F101/33998*100 -> 73.678781 | E101: ='[1]Форма 2 Кривош'!$AH$16 -> 24496.996 | F101: ='[9]СВ Т-ст'!$Q$92 -> 25049.312 | G101: =E101 -> 24496.996 | H101: =F101-G101 -> 552.31604
A102: Муниципальное бюджетное учреждение культуры "Кривошеинская межпоселенческая централизованная клубная система" | B102: ='[1]Форма 2 Кривош'!$AG$17 -> 38 | C102: ='[9]СВ Т-ст'!$F$93 -> 37.7 | D102: =F102/33998*100 -> 67.709553 | E102: ='[1]Форма 2 Кривош'!$AH$17 -> 21693.628 | F102: ='[9]СВ Т-ст'!$Q$93 -> 23019.894 | G102: =E102 -> 21693.628 | H102: =F102-G102 -> 1326.266
A103: Всего по муниципальному образованию "Кривошеинский район" | B103: =SUM(B101:B102) -> 59.5 | C103: =SUM(C101:C102) -> 59.5 | D103: =F103/33998*100 -> 69.896598 | E103: =(E101*B101+B102*E102)/B103 -> 22706.61 | F103: =(C101*F101+F102*C102)/C103 -> 23763.445 | G103: =E103 -> 22706.61 | H103: =F103-G103 -> 1056.8358
...

Sheet приложение 2 культура
D1: Приложение № 2
B2: к письму от _____________________№_______________
A4: Мониторинг целевых показателей, установленных в плане мероприятий "дорожной карте"
A5: за 2015 год
A7: Наименование МУ | B7: Среднесписочная численность, чел. | C7: ФОТ, тыс.руб* | D7: Доля ФОТ АУП и вспомогательного персонала в общем ФОТ, %
A8: 1 | B8: 2 | C8: 3 | D8: 4
A9: Работники учреждений культуры
A10: Александровский
A11: ='[9]СВ Т-ст'!$C$27 -> Муниципальное бюджетное учреждение "Культурно-спортивный комплекс" | D11: =(C14+C16)/C12 -> 0.2368121
A12: ФОТ, всего: | B12: =SUM(B14:B16) -> 74.8 | C12: =SUM(C14:C16) -> 23502.6
A13: в том числе по группам персонала:
A14: Административно-управленческий персонал | B14: 1 | C14: 618.7
A15: Основной персонал | B15: 43.1 | C15: 17936.9
A16: Прочий персонал (вспомогательный) | B16: 30.7 | C16: 4947
A17: Бакчарский
A18: ='[9]СВ Т-ст'!$C$33 -> Муниципальное казённое учреждение "Бакчарский краеведческий музей северного садоводства" | D18: =(C21+C23)/C19 -> 0.63578472
A19: ФОТ , всего: | B19: =SUM(B21:B23) -> 2.5 | C19: =SUM(C21:C23) -> 486.8
A20: в том числе по группам персонала:
A21: Административно-управленческий персонал | B21: 1 | C21: 187
A22: Основной персонал | B22: 0.5 | C22: 177.3
A23: Прочий персонал (вспомогательный) | B23: 1 | C23: 122.5
A24: ='[9]СВ Т-ст'!$C$34 -> Муниципальное бюджетное учреждение культуры "Бакчарская межпоселенческая централизованная библиотечная система" | D24: =(C27+C29)/C25 -> 0.10432789
A25: ФОТ , всего: | B25: =SUM(B27:B29) -> 14 | C25: =SUM(C27:C29) -> 4186.8
A26: в том числе по группам персонала:
A27: Административно-управленческий персонал | B27: 0.8 | C27: 316
A28: Основной персонал | B28: 12.4 | C28: 3750
A29: Прочий персонал (вспомогательный) | B29: 0.8 | C29: 120.8
A30: ='[9]СВ Т-ст'!$C$35 -> Муниципальное казённое учреждение культуры "Бакчарская центральная районная библиотека" | D30: =(C33+C35)/C31 -> 0.16425993
A31: ФОТ, всего: | B31: =SUM(B33:B35) -> 4.2 | C31: =SUM(C33:C35) -> 1440.4
A32: в том числе по группам персонала:
A33: Административно-управленческий персонал | B33: 0.2 | C33: 125.6
A34: Основной персонал | B34: 3.3 | C34: 1203.8
A35: Прочий персонал (вспомогательный) | B35: 0.7 | C35: 111
A36: ='[9]СВ Т-ст'!$C$36 -> Муниципальное казённое учреждение "Плотниковская центральная библиотека" | D36: =(C39+C41)/C37 -> 1
A37: ФОТ, всего: | B37: =SUM(B39:B41) -> 0.2 | C37: =SUM(C39:C41) -> 30.7
A38: в том числе по группам персонала:
A39: Административно-управленческий персонал | B39: 0.2 | C39: 30.7
A40: Основной персонал | B40: 0 | C40: 0
A41: Прочий персонал (вспомогательный) | B41: 0 | C41: 0
A42: ='[9]СВ Т-ст'!$C$37 -> Муниципальное казённое учреждение "Вавиловская центральная библиотека" | D42: =(C45+C47)/C43 -> 1
A43: ФОТ, всего: | B43: =SUM(B45:B47) -> 0.2 | C43: =SUM(C45:C47) -> 60.6
A44: в том числе по группам персонала:
A45: Административно-управленческий персонал | B45: 0.2 | C45: 60.6
A46: Основной персонал | B46: 0 | C46: 0
A47: Прочий персонал (вспомогательный) | B47: 0 | C47: 0
A48: ='[9]СВ Т-ст'!$C$38 -> Муниципальное казённое учреждение "Парбигская центральная библиотека" | D48: =(C51+C53)/C49 -> 0.27784113
A49: ФОТ, всего: | B49: =SUM(B51:B53) -> 0.7 | C49: =SUM(C51:C53) -> 263.1
A50: в том числе по группам персонала:
A51: Административно-управленческий персонал | B51: 0.2 | C51: 73.1
A52: Основной персонал | B52: 0.5 | C52: 190
A53: Прочий персонал (вспомогательный) | B53: 0 | C53: 0
A54: ='[9]СВ Т-ст'!$C$39 -> Муниципальное казённое учреждение "Высокоярская центральная библиотека" | D54: =(C57+C59)/C55 -> 0.40147059
A55: ФОТ, всего: | B55: =SUM(B57:B59) -> 0.7 | C55: =SUM(C57:C59) -> 204
A56: в том числе по группам персонала:
A57: Административно-управленческий персонал | B57: 0.2 | C57: 71.2
A58: Основной персонал | B58: 0.4 | C58: 122.1
A59: Прочий персонал (вспомогательный) | B59: 0.1 | C59: 10.7
A60: ='[9]СВ Т-ст'!$C$40 -> Муниципальное казённое учреждение "Поротниковская центральная библиотека" | D60: =(C63+C65)/C61 -> 0.57984032
A61: ФОТ, всего: | B61: =SUM(B63:B65) -> 0.4 | C61: =SUM(C63:C65) -> 100.2
A62: в том числе по группам персонала:
A63: Административно-управленческий персонал | B63: 0.3 | C63: 58.1
A64: Основной персонал | B64: 0.1 | C64: 42.1
A65: Прочий персонал (вспомогательный) | B65: 0 | C65: 0
A66: ='[9]СВ Т-ст'!$C$41 -> Муниципальное бюджетное учреждение культуры "Бакчарская межпоселенческая централизованная клубная система" | D66: =(C69+C71)/C67 -> 0.29248182
A67: ФОТ, всего: | B67: =SUM(B69:B71) -> 9.9 | C67: =SUM(C69:C71) -> 2571.1
A68: в том числе по группам персонала:
A69: Административно-управленческий персонал | B69: 0.5 | C69: 307.2
A70: Основной персонал | B70: 6.2 | C70: 1819.1
A71: Прочий персонал (вспомогательный) | B71: 3.2 | C71: 444.8
A72: ='[9]СВ Т-ст'!$C$42 -> Муниципальное казённое учреждение культуры "Бакчарский районный Дом культуры" | D72: =(C75+C77)/C73 -> 0.39105133
A73: ФОТ, всего: | B73: =SUM(B75:B77) -> 24.2 | C73: =SUM(C75:C77) -> 5241
A74: в том числе по группам персонала:
A75: Административно-управленческий персонал | B75: 1 | C75: 327.8
A76: Основной персонал | B76: 10.3 | C76: 3191.5
A77: Прочий персонал (вспомогательный) | B77: 12.9 | C77: 1721.7
A78: ='[9]СВ Т-ст'!$C$43 -> Муниципальное казённое учреждение "Плотниковский сельский дом культуры" | D78: =(C81+C83)/C79 -> 1
A79: ФОТ, всего: | B79: =SUM(B81:B83) -> 2 | C79: =SUM(C81:C83) -> 292.9
A80: в том числе по группам персонала:
A81: Административно-управленческий персонал | B81: 0.5 | C81: 90.1
A82: Основной персонал | B82: 0 | C82: 0
A83: Прочий персонал (вспомогательный) | B83: 1.5 | C83: 202.8
A84: ='[9]СВ Т-ст'!$C$44 -> Муниципальное казённое учреждение "Вавиловский сельский дом культуры" | D84: =(C87+C89)/C85 -> 1
A85: ФОТ, всего: | B85: =SUM(B87:B89) -> 1 | C85: =SUM(C87:C89) -> 216.4
A86: в том числе по группам персонала:
A87: Административно-управленческий персонал | B87: 0.5 | C87: 85.4
A88: Основной персонал | B88: 0 | C88: 0
A89: Прочий персонал (вспомогательный) | B89: 0.5 | C89: 131
A90: ='[9]СВ Т-ст'!$C$45 -> Муниципальное казённое учреждение "Парбигский сельский дом культуры" | D90: =(C93+C95)/C91 -> 0.62478865
A91: ФОТ, всего: | B91: =SUM(B93:B95) -> 6.2 | C91: =SUM(C93:C95) -> 1360.3
A92: в том числе по группам персонала:
A93: Административно-управленческий персонал | B93: 0.5 | C93: 253.7
A94: Основной персонал | B94: 1.7 | C94: 510.4
A95: Прочий персонал (вспомогательный) | B95: 4 | C95: 596.2
A96: ='[9]СВ Т-ст'!$C$46 -> Муниципальное казённое учреждение "Высокоярский сельский дом культуры" | D96: =(C99+C101)/C97 -> 0.34077718
A97: ФОТ, всего: | B97: =SUM(B99:B101) -> 4.2 | C97: =SUM(C99:C101) -> 1016.5
A98: в том числе по группам персонала:
A99: Административно-управленческий персонал | B99: 0.1 | C99: 4.8
A100: Основной персонал | B100: 1.7 | C100: 670.1
A101: Прочий персонал (вспомогательный) | B101: 2.4 | C101: 341.6
A102: ='[9]СВ Т-ст'!$C$47 -> Муниципальное казённое учреждение "Поротниковский сельский дом культуры" | D102: =(C105+C107)/C103 -> 0.55931677
...

Sheet приложение 3 культура
C1: Приложение № 3
B2: к письму от _____________________№_______________
A4: Мониторинг целевых показателей, установленных в плане мероприятий "дорожной карте"
A5: за 2015 год
A7: Наименование МУ | B7: Среднемесячная заработная плата по группам персонала, руб. | C7: Отношение среднемесячной заработной платы основного персонала к среднемесячной заработной плате вспомогательного персонала учреждений, раз
A8: 1 | B8: 2 | C8: 3
A9: Работники культуры
A10: Александровский
A11: ='приложение 2 культура'!A11 -> Муниципальное бюджетное учреждение "Культурно-спортивный комплекс" | B11: ='приложение 2 культура'!C12/'приложение 2 культура'!B12/12*1000 -> 26183.824 | C11: =B13/B14 -> 2.5826561
A12: Административно-управленческий персонал | B12: ='приложение 2 культура'!C14/'приложение 2 культура'!B14/12*1000 -> 51558.333
A13: Основной персонал | B13: ='приложение 2 культура'!C15/'приложение 2 культура'!B15/12*1000 -> 34680.781
A14: Вспомогательный персонал | B14: ='приложение 2 культура'!C16/'приложение 2 культура'!B16/12*1000 -> 13428.339
A15: Бакчарский
A16: ='приложение 2 культура'!A18 -> Муниципальное казённое учреждение "Бакчарский краеведческий музей северного садоводства" | B16: ='приложение 2 культура'!C19/'приложение 2 культура'!B19/12*1000 -> 16226.667 | C16: =B18/B19 -> 2.8946939
A17: Административно-управленческий персонал | B17: ='приложение 2 культура'!C21/'приложение 2 культура'!B21/12*1000 -> 15583.333
A18: Основной персонал | B18: ='приложение 2 культура'!C22/'приложение 2 культура'!B22/12*1000 -> 29550
A19: Вспомогательный персонал | B19: ='приложение 2 культура'!C23/'приложение 2 культура'!B23/12*1000 -> 10208.333
A20: ='приложение 2 культура'!A24 -> Муниципальное бюджетное учреждение культуры "Бакчарская межпоселенческая централизованная библиотечная система" | B20: ='приложение 2 культура'!C25/'приложение 2 культура'!B25/12*1000 -> 24921.429 | C20: =B22/B23 -> 2.0027772
A21: Административно-управленческий персонал | B21: ='приложение 2 культура'!C27/'приложение 2 культура'!B27/12*1000 -> 32916.667
A22: Основной персонал | B22: ='приложение 2 культура'!C28/'приложение 2 культура'!B28/12*1000 -> 25201.613
A23: Вспомогательный персонал | B23: ='приложение 2 культура'!C29/'приложение 2 культура'!B29/12*1000 -> 12583.333
A24: ='приложение 2 культура'!A30 -> Муниципальное казённое учреждение культуры "Бакчарская центральная районная библиотека" | B24: ='приложение 2 культура'!C31/'приложение 2 культура'!B31/12*1000 -> 28579.365 | C24: =B26/B27 -> 2.3004641
A25: Административно-управленческий персонал | B25: ='приложение 2 культура'!C33/'приложение 2 культура'!B33/12*1000 -> 52333.333
A26: Основной персонал | B26: ='приложение 2 культура'!C34/'приложение 2 культура'!B34/12*1000 -> 30398.99
A27: Вспомогательный персонал | B27: ='приложение 2 культура'!C35/'приложение 2 культура'!B35/12*1000 -> 13214.286
A28: ='приложение 2 культура'!A36 -> Муниципальное казённое учреждение "Плотниковская центральная библиотека" | B28: ='приложение 2 культура'!C37/'приложение 2 культура'!B37/12*1000 -> 12791.667 | C28: =B30/B31 -> #DIV/0!
A29: Административно-управленческий персонал | B29: ='приложение 2 культура'!C39/'приложение 2 культура'!B39/12*1000 -> 12791.667
A30: Основной персонал | B30: ='приложение 2 культура'!C40/'приложение 2 культура'!B40/12*1000 -> #DIV/0!
A31: Вспомогательный персонал | B31: ='приложение 2 культура'!C41/'приложение 2 культура'!B41/12*1000 -> #DIV/0!
A32: ='приложение 2 культура'!A42 -> Муниципальное казённое учреждение "Вавиловская центральная библиотека" | B32: ='приложение 2 культура'!C43/'приложение 2 культура'!B43/12*1000 -> 25250 | C32: =B34/B35 -> #DIV/0!
A33: Административно-управленческий персонал | B33: ='приложение 2 культура'!C45/'приложение 2 культура'!B45/12*1000 -> 25250
A34: Основной персонал | B34: ='приложение 2 культура'!C46/'приложение 2 культура'!B46/12*1000 -> #DIV/0!
A35: Вспомогательный персонал | B35: ='приложение 2 культура'!C47/'приложение 2 культура'!B47/12*1000 -> #DIV/0!
A36: ='приложение 2 культура'!A48 -> Муниципальное казённое учреждение "Парбигская центральная библиотека" | B36: ='приложение 2 культура'!C49/'приложение 2 культура'!B49/12*1000 -> 31321.429 | C36: =B38/B39 -> #DIV/0!
A37: Административно-управленческий персонал | B37: ='приложение 2 культура'!C51/'приложение 2 культура'!B51/12*1000 -> 30458.333
A38: Основной персонал | B38: ='приложение 2 культура'!C52/'приложение 2 культура'!B52/12*1000 -> 31666.667
A39: Вспомогательный персонал | B39: ='приложение 2 культура'!C53/'приложение 2 культура'!B53/12*1000 -> #DIV/0!
A40: ='приложение 2 культура'!A54 -> Муниципальное казённое учреждение "Высокоярская центральная библиотека" | B40: ='приложение 2 культура'!C55/'приложение 2 культура'!B55/12*1000 -> 24285.714 | C40: =B42/B43 -> 2.8528037
A41: Административно-управленческий персонал | B41: ='приложение 2 культура'!C57/'приложение 2 культура'!B57/12*1000 -> 29666.667
A42: Основной персонал | B42: ='приложение 2 культура'!C58/'приложение 2 культура'!B58/12*1000 -> 25437.5
A43: Вспомогательный персонал | B43: ='приложение 2 культура'!C59/'приложение 2 культура'!B59/12*1000 -> 8916.6667
A44: ='приложение 2 культура'!A60 -> Муниципальное казённое учреждение "Поротниковская центральная библиотека" | B44: ='приложение 2 культура'!C61/'приложение 2 культура'!B61/12*1000 -> 20875 | C44: =B46/B47 -> #DIV/0!
A45: Административно-управленческий персонал | B45: ='приложение 2 культура'!C63/'приложение 2 культура'!B63/12*1000 -> 16138.889
A46: Основной персонал | B46: ='приложение 2 культура'!C64/'приложение 2 культура'!B64/12*1000 -> 35083.333
A47: Вспомогательный персонал | B47: ='приложение 2 культура'!C65/'приложение 2 культура'!B65/12*1000 -> #DIV/0!
A48: ='приложение 2 культура'!A66 -> Муниципальное бюджетное учреждение культуры "Бакчарская межпоселенческая централизованная клубная система" | B48: ='приложение 2 культура'!C67/'приложение 2 культура'!B67/12*1000 -> 21642.256 | C48: =B50/B51 -> 2.1108146
A49: Административно-управленческий персонал | B49: ='приложение 2 культура'!C69/'приложение 2 культура'!B69/12*1000 -> 51200
A50: Основной персонал | B50: ='приложение 2 культура'!C70/'приложение 2 культура'!B70/12*1000 -> 24450.269
A51: Вспомогательный персонал | B51: ='приложение 2 культура'!C71/'приложение 2 культура'!B71/12*1000 -> 11583.333
A52: ='приложение 2 культура'!A72 -> Муниципальное казённое учреждение культуры "Бакчарский районный Дом культуры" | B52: ='приложение 2 культура'!C73/'приложение 2 культура'!B73/12*1000 -> 18047.521 | C52: =B54/B55 -> 2.3216131
A53: Административно-управленческий персонал | B53: ='приложение 2 культура'!C75/'приложение 2 культура'!B75/12*1000 -> 27316.667
A54: Основной персонал | B54: ='приложение 2 культура'!C76/'приложение 2 культура'!B76/12*1000 -> 25821.197
A55: Вспомогательный персонал | B55: ='приложение 2 культура'!C77/'приложение 2 культура'!B77/12*1000 -> 11122.093
A56: ='приложение 2 культура'!A78 -> Муниципальное казённое учреждение "Плотниковский сельский дом культуры" | B56: ='приложение 2 культура'!C79/'приложение 2 культура'!B79/12*1000 -> 12204.167 | C56: =B58/B59 -> #DIV/0!
A57: Административно-управленческий персонал | B57: ='приложение 2 культура'!C81/'приложение 2 культура'!B81/12*1000 -> 15016.667
A58: Основной персонал | B58: ='приложение 2 культура'!C82/'приложение 2 культура'!B82/12*1000 -> #DIV/0!
A59: Вспомогательный персонал | B59: ='приложение 2 культура'!C83/'приложение 2 культура'!B83/12*1000 -> 11266.667
A60: ='приложение 2 культура'!A84 -> Муниципальное казённое учреждение "Вавиловский сельский дом культуры" | B60: ='приложение 2 культура'!C85/'приложение 2 культура'!B85/12*1000 -> 18033.333 | C60: =B62/B63 -> #DIV/0!
A61: Административно-управленческий персонал | B61: ='приложение 2 культура'!C87/'приложение 2 культура'!B87/12*1000 -> 14233.333
A62: Основной персонал | B62: ='приложение 2 культура'!C88/'приложение 2 культура'!B88/12*1000 -> #DIV/0!
A63: Вспомогательный персонал | B63: ='приложение 2 культура'!C89/'приложение 2 культура'!B89/12*1000 -> 21833.333
A64: ='приложение 2 культура'!A90 -> Муниципальное казённое учреждение "Парбигский сельский дом культуры" | B64: ='приложение 2 культура'!C91/'приложение 2 культура'!B91/12*1000 -> 18283.602 | C64: =B66/B67 -> 2.014326
A65: Административно-управленческий персонал | B65: ='приложение 2 культура'!C93/'приложение 2 культура'!B93/12*1000 -> 42283.333
A66: Основной персонал | B66: ='приложение 2 культура'!C94/'приложение 2 культура'!B94/12*1000 -> 25019.608
A67: Вспомогательный персонал | B67: ='приложение 2 культура'!C95/'приложение 2 культура'!B95/12*1000 -> 12420.833
A68: ='приложение 2 культура'!A96 -> Муниципальное казённое учреждение "Высокоярский сельский дом культуры" | B68: ='приложение 2 культура'!C97/'приложение 2 культура'!B97/12*1000 -> 20168.651 | C68: =B70/B71 -> 2.7693897
A69: Административно-управленческий персонал | B69: ='приложение 2 культура'!C99/'приложение 2 культура'!B99/12*1000 -> 4000
A70: Основной персонал | B70: ='приложение 2 культура'!C100/'приложение 2 культура'!B100/12*1000 -> 32848.039
A71: Вспомогательный персонал | B71: ='приложение 2 культура'!C101/'приложение 2 культура'!B101/12*1000 -> 11861.111
A72: ='приложение 2 культура'!A102 -> Муниципальное казённое учреждение "Поротниковский сельский дом культуры" | B72: ='приложение 2 культура'!C103/'приложение 2 культура'!B103/12*1000 -> 13416.667 | C72: =B74/B75 -> 2.8551308
A73: Административно-управленческий персонал | B73: ='приложение 2 культура'!C105/'приложение 2 культура'!B105/12*1000 -> 13450
A74: Основной персонал | B74: ='приложение 2 культура'!C106/'приложение 2 культура'!B106/12*1000 -> 23650
A75: Вспомогательный персонал | B75: ='приложение 2 культура'!C107/'приложение 2 культура'!B107/12*1000 -> 8283.3333
A76: Всего по муниципальному образованию "Бакчарский район" | B76: ='приложение 2 культура'!C108/'приложение 2 культура'!B108/12*1000 -> 20479.742 | C76: =B78/B79 -> 2.2632398
A77: Административно-управленческий персонал | B77: ='приложение 2 культура'!C111/'приложение 2 культура'!B111/12*1000 -> 25771.144
A78: Основной персонал | B78: ='приложение 2 культура'!C112/'приложение 2 культура'!B112/12*1000 -> 26193.041
A79: Вспомогательный персонал | B79: ='приложение 2 культура'!C113/'приложение 2 культура'!B113/12*1000 -> 11573.25
A80: Верхнекетский
A81: ='приложение 2 культура'!A115 -> Муниципальное автономное учреждение "Культура" | B81: ='приложение 2 культура'!C116/'приложение 2 культура'!B116/12*1000 -> 26688.265 | C81: =B83/B84 -> 1.5490996
A82: Административно-управленческий персонал | B82: ='приложение 2 культура'!C118/'приложение 2 культура'!B118/12*1000 -> 44016.667
A83: Основной персонал | B83: ='приложение 2 культура'!C119/'приложение 2 культура'!B119/12*1000 -> 29319.328
A84: Вспомогательный персонал | B84: ='приложение 2 культура'!C120/'приложение 2 культура'!B120/12*1000 -> 18926.69
A85: Зырянский
A86: ='приложение 2 культура'!A122 -> Муниципальное автономное учреждение «Центр культуры" Зырянского района | B86: ='приложение 2 культура'!C123/'приложение 2 культура'!B123/12*1000 -> 16654.975 | C86: =B88/B89 -> 1.5152142
A87: Административно-управленческий персонал | B87: ='приложение 2 культура'!C125/'приложение 2 культура'!B125/12*1000 -> 42791.667
A88: Основной персонал | B88: ='приложение 2 культура'!C126/'приложение 2 культура'!B126/12*1000 -> 17438.025
A89: Вспомогательный персонал | B89: ='приложение 2 культура'!C127/'приложение 2 культура'!B127/12*1000 -> 11508.621
A90: ='приложение 2 культура'!A128 -> Муниципальное бюджетное учреждение «Межпоселенческая централизованная библиотечная система Зырянского района» | B90: ='приложение 2 культура'!C129/'приложение 2 культура'!B129/12*1000 -> 20662.481 | C90: =B92/B93 -> 1.759129
A91: Административно-управленческий персонал | B91: ='приложение 2 культура'!C131/'приложение 2 культура'!B131/12*1000 -> 40045.833
A92: Основной персонал | B92: ='приложение 2 культура'!C132/'приложение 2 культура'!B132/12*1000 -> 19387.067
A93: Вспомогательный персонал | B93: ='приложение 2 культура'!C133/'приложение 2 культура'!B133/12*1000 -> 11020.833
A94: ='приложение 2 культура'!A134 -> Муниципальное бюджетное учреждение культуры «Зырянский краеведческий музей» | B94: ='приложение 2 культура'!C135/'приложение 2 культура'!B135/12*1000 -> 25447.222 | C94: =B96/B97 -> 3.2439914
A95: Административно-управленческий персонал | B95: ='приложение 2 культура'!C137/'приложение 2 культура'!B137/12*1000 -> 46297.619
A96: Основной персонал | B96: ='приложение 2 культура'!C138/'приложение 2 культура'!B138/12*1000 -> 20995.833
A97: Вспомогательный персонал | B97: ='приложение 2 культура'!C139/'приложение 2 культура'!B139/12*1000 -> 6472.2222
A98: ='приложение 2 культура'!A140 -> Муниципальное бюджетное учреждение «Центр культуры» Высоковского сельского поселения | B98: ='приложение 2 культура'!C141/'приложение 2 культура'!B141/12*1000 -> 18452.381 | C98: =B100/B101 -> 3.1611498
A99: Административно-управленческий персонал | B99: ='приложение 2 культура'!C143/'приложение 2 культура'!B143/12*1000 -> 19666.667
A100: Основной персонал | B100: ='приложение 2 культура'!C144/'приложение 2 культура'!B144/12*1000 -> 23292.683
A101: Вспомогательный персонал | B101: ='приложение 2 культура'!C145/'приложение 2 культура'!B145/12*1000 -> 7368.4211
A102: ='приложение 2 культура'!A146 -> Муниципальное бюджетное учреждение «Центр культурно-досуговой деятельности населения Дубровского сельского поселения» | B102: ='приложение 2 культура'!C147/'приложение 2 культура'!B147/12*1000 -> 14268.382 | C102: =B104/B105 -> 1.9745703
...

Sheet приложение 1 дпо
G1: Прложение 4
G2: к письму от _____________________№___________
A4: Мониторинг целевых показателей, установленных в плане мероприятий "дорожной карте" за 2015 год
A7: Наименование МУ | B7: Планируемая среднесписочная численность отдельной категории работников государственных и муниципальных учреждений, чел. | C7: Фактическая среднесписочная численность отдельной категории работников государственных и муниципальных учреждений на отчетный период, чел. | D7: Отношение средней заработной платы работников соответствующей категории к средней заработной плате в экономике Томской области, % (33 998 руб.) | E7: Средняя заработная плата отдельной категории работников списочного состава, руб. | G7: Плановое значение средней заработной платы отдельной категории работников на год, руб. | H7: Отклонение факта за отчетный период от планового значения на год, руб.
E8: план на отчетный период** | F8: факт за отчетный период
A9: 1 | B9: 2 | C9: 3 | D9: 4 | E9: 5 | F9: 6 | G9: 7 | H9: 8=6-7
A10: Педагогические работники дополнительного образования детей
A11: Александровский район
A12: ='[5]Итого УК расш (о)'!$C$18 -> Муниципальное бюджетное образовательное учреждение дополнительного образования детей "Детская школа искусств" | B12: ='[6]Ф2 Ал нояб'!$AD$12 -> 8 | C12: ='[7]Итого УК расш (о)'!$F$16 -> 8 | D12: =F12/33998*100 -> 124.60598 | E12: ='[6]Ф2 Ал нояб'!$AE$12 -> 42363.542 | F12: ='[7]Итого УК расш (о)'!$Q$16 -> 42363.542 | G12: =E12 -> 42363.542 | H12: =F12-G12 -> 0
A13: Всего по муниципальному образованию "Александровский район" | B13: =SUM(B12:B12) -> 8 | C13: =SUM(C12:C12) -> 8 | D13: =F13/33988*100 -> 124.64264 | E13: =E12 -> 42363.542 | F13: =F12 -> 42363.542 | G13: =G12 -> 42363.542 | H13: =F13-G13 -> 0
A14: Зырянский район
A15: ОГУ 1
A16: ОГУ 2
A17: Всего по ОГУ, подведомственным Департаменту
A18: ='[5]Итого УК расш (о)'!$C$24 -> Муниципальное автономное образовательное учреждение дополнительного образования детей «Зырянская детская школа искусств» | B18: ='[6]Ф2 Зыр нояб'!$AD$12 -> 12.7 | C18: ='[7]Итого УК расш (о)'!$F$22 -> 12.5 | D18: =F18/33998*100 -> 75.094613 | E18: ='[6]Ф2 Зыр нояб'!$AE$12 -> 25647.638 | F18: ='[7]Итого УК расш (о)'!$Q$22 -> 25530.667 | G18: =E18 -> 25647.638 | H18: =F18-G18 -> -116.97113
A19: Всего по муниципальному образованию "Зырянский район" | B19: =SUM(B18:B18) -> 12.7 | C19: =SUM(C18:C18) -> 12.5 | D19: =F19/33998*100 -> 75.094613 | E19: =E18 -> 25647.638 | F19: =F18 -> 25530.667 | G19: =G18 -> 25647.638 | H19: =F19-G19 -> -116.97113
A20: Каргасокский район
A21: ='[5]Итого УК расш (о)'!$C$27 -> Муниципальное бюджетное учреждение дополнительного образования "Каргасокская детская школа искусств" | B21: ='[6]Ф2 Карг нояб'!$AD$12 -> 11.5 | C21: ='[7]Итого УК расш (о)'!$F$25 -> 11.6 | D21: =F21/33998*100 -> 102.49293 | E21: ='[6]Ф2 Карг нояб'!$AE$12 -> 34844.982 | F21: ='[7]Итого УК расш (о)'!$Q$25 -> 34845.546 | G21: =E21 -> 34844.982 | H21: =F21-G21 -> 0.56389816
A22: Всего по муниципальному образованию "Каргасокский район" | B22: =SUM(B21:B21) -> 11.5 | C22: =SUM(C21:C21) -> 11.6 | D22: =F22/33998*100 -> 102.49293 | E22: =SUM(E21:E21) -> 34844.982 | F22: =SUM(F21:F21) -> 34845.546 | G22: =SUM(G21:G21) -> 34844.982 | H22: =F22-G22 -> 0.56389816
A23: Кожевниковский район
A24: ='[5]Итого УК расш (о)'!$C$30 -> Муниципальное бюджетное образовательное учреждение дополнительного образования детей «Кожевниковская детская школа искусств» | B24: ='[6]Ф2 Кож нояб'!$AD$12 -> 16 | C24: ='[7]Итого УК расш (о)'!$F$28 -> 16.5 | D24: =F24/33998*100 -> 69.059321 | E24: ='[6]Ф2 Кож нояб'!$AE$12 -> 21225.924 | F24: ='[7]Итого УК расш (о)'!$Q$28 -> 23478.788 | G24: =E24 -> 21225.924 | H24: =F24-G24 -> 2252.8638
A25: Всего по муниципальному образованию "Кожевниковский район" | B25: =B24 -> 16 | C25: =C24 -> 16.5 | D25: =F25/33998*100 -> 69.059321 | E25: =E24 -> 21225.924 | F25: =F24 -> 23478.788 | G25: =G24 -> 21225.924 | H25: =F25-G25 -> 2252.8638
A26: Молчановский район
A27: ОГУ 1
A28: ОГУ 2
A29: Всего по ОГУ, подведомственным Департаменту
A30: ='[5]Итого УК расш (о)'!$C$33 -> Муниципальное бюджетное образовательное учреждение дополнительного образования детей "Молчановская детская музыкальная школа" | B30: ='[6]Ф2 Молч нояб'!$AD$12 -> 10.1 | C30: ='[7]Итого УК расш (о)'!$F$31 -> 10.1 | D30: =F30/33998*100 -> 101.35764 | E30: ='[6]Ф2 Молч нояб'!$AE$12 -> 33127.888 | F30: ='[7]Итого УК расш (о)'!$Q$31 -> 34459.571 | G30: =E30 -> 33127.888 | H30: =F30-G30 -> 1331.6832
A31: Всего по муниципальному образованию "Молчановский район" | B31: =SUM(B30:B30) -> 10.1 | C31: =SUM(C30:C30) -> 10.1 | D31: =F31/33998*100 -> 101.35764 | E31: =E30 -> 33127.888 | F31: =F30 -> 34459.571 | G31: =G30 -> 33127.888 | H31: =F31-G31 -> 1331.6832
A32: Парабельский район
A33: ='[5]Итого УК расш (о)'!$C$36 -> Муниципальное бюджетное образовательное учреждение дополнительного образования детей "Детская школа искусств им. Г.Д. Заволокина" | B33: ='[6]Ф2 Параб нояб'!$AD$12 -> 8.7 | C33: ='[7]Итого УК расш (о)'!$F$34 -> 8.8 | D33: =F33/33998*100 -> 101.98349 | E33: ='[6]Ф2 Параб нояб'!$AE$12 -> 31271.073 | F33: ='[7]Итого УК расш (о)'!$Q$34 -> 34672.348 | G33: =E33 -> 31271.073 | H33: =F33-G33 -> 3401.2757
A34: Всего по муниципальному образованию "Парабельский район" | B34: =SUM(B33:B33) -> 8.7 | C34: =SUM(C33:C33) -> 8.8 | D34: =F34/33998*100 -> 101.98349 | E34: =E33 -> 31271.073 | F34: =F33 -> 34672.348 | G34: =G33 -> 31271.073 | H34: =F34-G34 -> 3401.2757
A35: Первомайский район
A36: ОГУ 1
A37: ОГУ 2
A38: Всего по ОГУ, подведомственным Департаменту
A39: ='[5]Итого УК расш (о)'!$C$40 -> Муниципальное автономное образовательное учреждение дополнительного образования детей «Первомайская детская школа искусств" | B39: ='[6]Ф2 Перв нояб'!$AD$14 -> 7.5 | C39: ='[7]Итого УК расш (о)'!$F$40 -> 7 | D39: =F39/33998*100 -> 94.735965 | E39: ='[6]Ф2 Перв нояб'!$AE$14 -> 31550.805 | F39: ='[7]Итого УК расш (о)'!$Q$40 -> 32208.333 | G39: =E39 -> 31550.805 | H39: =F39-G39 -> 657.52834
A40: ='[5]Итого УК расш (о)'!$C$41 -> Муниципальное автономное образовательное учреждение дополнительного образования детей "Комсомольская детская музыкальная школа" | B40: ='[6]Ф2 Перв нояб'!$AD$15 -> 2 | C40: ='[7]Итого УК расш (о)'!$F$41 -> 2 | D40: =F40/33998*100 -> 95.973783 | E40: ='[6]Ф2 Перв нояб'!$AE$15 -> 35119.048 | F40: ='[7]Итого УК расш (о)'!$Q$41 -> 32629.167 | G40: =E40 -> 35119.048 | H40: =F40-G40 -> -2489.881
A41: Всего по муниципальному образованию "Первомайский район" | B41: =SUM(B39:B40) -> 9.5 | C41: =SUM(C39:C40) -> 9 | D41: =F41/33998*100 -> 95.011036 | E41: =(E39*B39+B40*E40)/B41 -> 32302.014 | F41: =(C39*F39+C40*F40)/C41 -> 32301.852 | G41: =(G39*B39+B40*G40)/B41 -> 32302.014 | H41: =F41-G41 -> -0.16211163
A42: Тегульдетский район
A43: ='[5]Итого УК расш (о)'!$C$44 -> Муниципальное казённое образовательное учреждение дополнительного образования детей Тегульдетская детская школа искусств | B43: ='[6]Ф2 Тег нояб'!$AD$13 -> 3 | C43: ='[7]Свод Образов'!$G$22 -> 3.3 | D43: =F43/33998*100 -> 116.85922 | E43: ='[6]Ф2 Тег нояб'!$AE$12 -> 35833.333 | F43: ='[7]Свод Образов'!$GY$22 -> 39729.798 | G43: =E43 -> 35833.333 | H43: =F43-G43 -> 3896.4646
A44: Всего по муниципальному образованию "Тегульдетский район" | B44: =SUM(B43:B43) -> 3 | C44: =SUM(C43:C43) -> 3.3 | D44: =F44/33998*100 -> 116.85922 | E44: =E43 -> 35833.333 | F44: =F43 -> 39729.798 | G44: =G43 -> 35833.333 | H44: =F44-G44 -> 3896.4646
A45: Томский район
A46: ОГУ 1
A47: ОГУ 2
A48: Всего по ОГУ, подведомственным Департаменту
A49: ='[5]Итого УК расш (о)'!$C$49 -> Муниципальное бюджетное образовательное учреждение дополнительного образования детей "Детская школа искусств п.Зональная Станция" | B49: ='[6]Ф2 Том нояб'!$AD$14 -> 8.6 | C49: ='[7]Итого УК расш (о)'!$F$49 -> 9.3 | D49: =F49/33998*100 -> 67.550885 | E49: ='[6]Ф2 Том нояб'!$AE$14 -> 22929.192 | F49: ='[7]Итого УК расш (о)'!$Q$49 -> 22965.95 | G49: =E49 -> 22929.192 | H49: =F49-G49 -> 36.757446
A50: ='[5]Итого УК расш (о)'!$C$48 -> Муниципальное бюджетное образовательное учреждение дополнительного образования детей "Детская школа искусств д.Кисловка" | B50: ='[6]Ф2 Том нояб'!$AD$15 -> 4.3 | C50: ='[7]Итого УК расш (о)'!$F$48 -> 5 | D50: =F50/33998*100 -> 69.915877 | E50: ='[6]Ф2 Том нояб'!$AE$15 -> 22897.261 | F50: ='[7]Итого УК расш (о)'!$Q$48 -> 23770 | G50: =E50 -> 22897.261 | H50: =F50-G50 -> 872.73889
A51: ='[5]Итого УК расш (о)'!$C$51 -> Муниципальное бюджетное образовательное учреждение дополнительного образования детей "Детская школа искусств п.Молодежный" | B51: ='[6]Ф2 Том нояб'!$AD$16 -> 12.2 | C51: ='[7]Итого УК расш (о)'!$F$51 -> 11 | D51: =F51/33998*100 -> 70.463147 | E51: ='[6]Ф2 Том нояб'!$AE$16 -> 22500.679 | F51: ='[7]Итого УК расш (о)'!$Q$51 -> 23956.061 | G51: =E51 -> 22500.679 | H51: =F51-G51 -> 1455.3817
A52: ='[5]Итого УК расш (о)'!$C$50 -> Муниципальное бюджетное образовательное учреждение дополнительного образования детей "Детская школа искусств п.Мирный" | B52: ='[6]Ф2 Том нояб'!$AD$17 -> 10.9 | C52: ='[7]Итого УК расш (о)'!$F$50 -> 11 | D52: =F52/33998*100 -> 66.704013 | E52: ='[6]Ф2 Том нояб'!$AE$17 -> 22592.455 | F52: ='[7]Итого УК расш (о)'!$Q$50 -> 22678.03 | G52: =E52 -> 22592.455 | H52: =F52-G52 -> 85.575707
A53: Всего по муниципальному образованию "Томский район" | B53: =SUM(B49:B52) -> 36 | C53: =SUM(C49:C52) -> 36.3 | D53: =F53/33998*100 -> 68.502517 | E53: =(B49*E49+E50*B50+B51*E51+E52*B52)/B53 -> 22678.203 | F53: =(C49*F49+C50*F50+C51*F51+C52*F52)/C53 -> 23289.486 | G53: =(G49*B49+B50*G50+G51*B51+B52*G52)/B53 -> 22678.203 | H53: =F53-G53 -> 611.28258
A54: Чаинский район
A55: ='[5]Итого УК расш (о)'!$C$55 -> Муниципальное бюджетное образовательное учреждение дополнительного образования детей "Подгорнская детская музыкальная школа" | B55: ='[6]Ф2 Чаин нояб'!$AD$15 -> 4.6 | C55: ='[7]Итого УК расш (о)'!$F$55 -> 5 | D55: =F55/33998*100 -> 121.91894 | E55: ='[6]Ф2 Чаин нояб'!$AE$15 -> 46195.786 | F55: ='[7]Итого УК расш (о)'!$Q$55 -> 41450 | G55: =E55 -> 46195.786 | H55: =F55-G55 -> -4745.7857
A56: ='[5]Итого УК расш (о)'!$C$56 -> Муниципальное бюджетное образовательное учреждение дополнительного образования детей "Подгорнская детская художественная школа" | B56: ='[6]Ф2 Чаин нояб'!$AD$14 -> 4.2 | C56: ='[7]Итого УК расш (о)'!$F$56 -> 4 | D56: =F56/33998*100 -> 98.510697 | E56: ='[6]Ф2 Чаин нояб'!$AE$14 -> 39249.841 | F56: ='[7]Итого УК расш (о)'!$Q$56 -> 33491.667 | G56: =E56 -> 39249.841 | H56: =F56-G56 -> -5758.1746
A57: Всего по муниципальному образованию "Чаинский район" | B57: =SUM(B55:B56) -> 8.8 | C57: =SUM(C55:C56) -> 9 | D57: =F57/33998*100 -> 111.51527 | E57: =(E55*B55+B56*E56)/B57 -> 42880.676 | F57: =(C55*F55+C56*F56)/C57 -> 37912.963 | G57: =(G55*B55+B56*G56)/B57 -> 42880.676 | H57: =F57-G57 -> -4967.7129
A58: Шегарский район
A59: ОГУ 1
A60: ОГУ 2
A61: Всего по ОГУ, подведомственным Департаменту
A62: ='[5]Итого УК расш (о)'!$C$59 -> Муниципальное бюджетное образовательное учреждение дополнительного образования детей "Детская школа искусств" | B62: ='[6]Ф2 Шег нояб'!$AD$12 -> 10.9 | C62: ='[7]Итого УК расш (о)'!$F$57 -> 9.1 | D62: =F62/33998*100 -> 62.078097 | E62: ='[6]Ф2 Шег нояб'!$AE$12 -> 18759.174 | F62: ='[7]Итого УК расш (о)'!$Q$57 -> 21105.311 | G62: =E62 -> 18759.174 | H62: =F62-G62 -> 2346.137
A63: Всего по муниципальному образованию "Шегарский район" | B63: =SUM(B62:B62) -> 10.9 | C63: =SUM(C62:C62) -> 9.1 | D63: =F63/33998*100 -> 62.078097 | E63: =SUM(E62:E62) -> 18759.174 | F63: =SUM(F62:F62) -> 21105.311 | G63: =SUM(G62:G62) -> 18759.174 | H63: =F63-G63 -> 2346.137
A64: Асиновский район
A65: ='[5]Итого УК расш (о)'!$C$21 -> Муниципальное автономное образовательное учреждение дополнительного образования детей «Асиновская детская школа искусств» | B65: ='[6]Ф2 Асин нояб'!$AD$12 -> 19 | C65: ='[7]Итого УК расш (о)'!$F$19 -> 19 | D65: =F65/33998*100 -> 71.587028 | E65: ='[6]Ф2 Асин нояб'!$AE$12 -> 24338.18 | F65: ='[7]Итого УК расш (о)'!$Q$19 -> 24338.158 | G65: =E65 -> 24338.18 | H65: =F65-G65 -> -0.022377372
A66: Всего по муниципальному образованию "Асиновский район" | B66: =SUM(B65:B65) -> 19 | C66: =SUM(C65:C65) -> 19 | D66: =F66/33998*100 -> 71.587028 | E66: =E65 -> 24338.18 | F66: =F65 -> 24338.158 | G66: =G65 -> 24338.18 | H66: =F66-G66 -> -0.022377372
A67: г.Томск
A68: ОГУ 1
A69: ОГУ 2
A70: Всего по ОГУ, подведомственным Департаменту
A71: ='[5]Итого УК расш (о)'!$C$67 -> Муниципальное бюджетное образовательное учреждение дополнительного образования детей «Детская школа искусств №1 имени А.Г.Рубинштейна» Города Томска | B71: ='[6]Ф2 Томск нояб'!$AD$14 -> 52 | C71: ='[7]Итого УК расш (о)'!$F$67 -> 47.6 | D71: =F71/33998*100 -> 72.885425 | E71: ='[6]Ф2 Томск нояб'!$AE$14 -> 23738.622 | F71: ='[7]Итого УК расш (о)'!$Q$67 -> 24779.587 | G71: =E71 -> 23738.622 | H71: =F71-G71 -> 1040.965
A72: ='[5]Итого УК расш (о)'!$C$68 -> Муниципальное бюджетное образовательное учреждение дополнительного образования детей «Детская музыкальная школа № 2» Города Томска | B72: ='[6]Ф2 Томск нояб'!$AD$15 -> 29.1 | C72: ='[7]Итого УК расш (о)'!$F$68 -> 27.8 | D72: =F72/33998*100 -> 72.226177 | E72: ='[6]Ф2 Томск нояб'!$AE$15 -> 23571.879 | F72: ='[7]Итого УК расш (о)'!$Q$68 -> 24555.456 | G72: =E72 -> 23571.879 | H72: =F72-G72 -> 983.57706
A73: ='[5]Итого УК расш (о)'!$C$66 -> Муниципальное автономное образовательное учреждение дополнительного образования детей «Детская школа искусств № 3» Города Томска | B73: ='[6]Ф2 Томск нояб'!$AD$16 -> 46.2 | C73: ='[7]Итого УК расш (о)'!$F$66 -> 45.1 | D73: =F73/33998*100 -> 74.122877 | E73: ='[6]Ф2 Томск нояб'!$AE$16 -> 25561.328 | F73: ='[7]Итого УК расш (о)'!$Q$66 -> 25200.296 | G73: =E73 -> 25561.328 | H73: =F73-G73 -> -361.03192
A74: ='[5]Итого УК расш (о)'!$C$65 -> Муниципальное бюджетное образовательное учреждение дополнительного образования детей «Детская музыкальная школа №4» Города Томска | B74: ='[6]Ф2 Томск нояб'!$AD$17 -> 23.3 | C74: ='[7]Итого УК расш (о)'!$F$65 -> 22.3 | D74: =F74/33998*100 -> 71.629994 | E74: ='[6]Ф2 Томск нояб'!$AE$17 -> 25013.591 | F74: ='[7]Итого УК расш (о)'!$Q$65 -> 24352.765 | G74: =E74 -> 25013.591 | H74: =F74-G74 -> -660.82552
A75: ='[5]Итого УК расш (о)'!$C$69 -> Муниципальное бюджетное образовательное учреждение дополнительного образования детей «Детская школа искусств №5» Города Томска | B75: ='[6]Ф2 Томск нояб'!$AD$18 -> 21.7 | C75: ='[7]Итого УК расш (о)'!$F$69 -> 31.2 | D75: =F75/33998*100 -> 73.386041 | E75: ='[6]Ф2 Томск нояб'!$AE$18 -> 26050.691 | F75: ='[7]Итого УК расш (о)'!$Q$69 -> 24949.786 | G75: =E75 -> 26050.691 | H75: =F75-G75 -> -1100.9049
A76: ='[5]Итого УК расш (о)'!$C$70 -> Муниципальное бюджетное образовательное учреждение дополнительного образования детей «Детская школа искусств № 7» Города Томска | B76: ='[6]Ф2 Томск нояб'!$AD$19 -> 10 | C76: ='[7]Итого УК расш (о)'!$F$70 -> 3.2 | D76: =F76/33998*100 -> 90.645651 | E76: ='[6]Ф2 Томск нояб'!$AE$19 -> 28089.167 | F76: ='[7]Итого УК расш (о)'!$Q$70 -> 30817.708 | G76: =E76 -> 28089.167 | H76: =F76-G76 -> 2728.5417
A77: ='[5]Итого УК расш (о)'!$C$71 -> Муниципальное бюджетное образовательное учреждение дополнительного образования детей «Детская школа искусств № 8» Города Томска | B77: ='[6]Ф2 Томск нояб'!$AD$20 -> 7.7 | C77: ='[7]Итого УК расш (о)'!$F$71 -> 10.1 | D77: =F77/33998*100 -> 74.142878 | E77: ='[6]Ф2 Томск нояб'!$AE$20 -> 27512.987 | F77: ='[7]Итого УК расш (о)'!$Q$71 -> 25207.096 | G77: =E77 -> 27512.987 | H77: =F77-G77 -> -2305.8913
A78: ='[5]Итого УК расш (о)'!$C$63 -> Муниципальное автономное образовательное учреждение дополнительного образования детей «Детская художественная школа №1» Города Томска | B78: ='[6]Ф2 Томск нояб'!$AD$21 -> 15.5 | C78: ='[7]Итого УК расш (о)'!$F$63 -> 17.2 | D78: =F78/33998*100 -> 84.579474 | E78: ='[6]Ф2 Томск нояб'!$AE$21 -> 28546.774 | F78: ='[7]Итого УК расш (о)'!$Q$63 -> 28755.329 | G78: =E78 -> 28546.774 | H78: =F78-G78 -> 208.55526
A79: ='[5]Итого УК расш (о)'!$C$64 -> Муниципальное автономное образовательное учреждение дополнительного образования детей «Детская художественная школа №2» Города Томска | B79: ='[6]Ф2 Томск нояб'!$AD$22 -> 15.9 | C79: ='[7]Итого УК расш (о)'!$F$64 -> 16.9 | D79: =F79/33998*100 -> 79.755823 | E79: ='[6]Ф2 Томск нояб'!$AE$22 -> 27775.681 | F79: ='[7]Итого УК расш (о)'!$Q$64 -> 27115.385 | G79: =E79 -> 27775.681 | H79: =F79-G79 -> -660.29673
A80: Всего по муниципальному образованию "г.Томск" | B80: =SUM(B71:B79) -> 221.4 | C80: =SUM(C71:C79) -> 221.4 | D80: =F80/33998*100 -> 74.745793 | E80: =(E71*B71+B72*E72+E73*B73+B74*E74+E75*B75+B76*E76+E77*B77+B78*E78+E79*B79)/B80 -> 25412.15 | F80: =(C71*F71+C72*F72+C73*F73+C74*F74+C75*F75+C76*F76+C77*F77+C78*F78+C79*F79)/C80 -> 25412.075 | G80: =(G71*B71+B72*G72+G73*B73+B74*G74+G75*B75+B76*G76+G77*B77+B78*G78+G79*B79)/B80 -> 25412.15 | H80: 0
A81: г. Стрежевой
A82: ='[5]Итого УК расш (о)'!$C$74 -> Муниципальное бюджетное образовательное учреждение дополнительного образования детей "Детская школа искусств" | B82: ='[6]Ф2 Стр нояб'!$AD$12 -> 27.5 | C82: ='[7]Итого УК расш (о)'!$F$72 -> 27.5 | D82: =F82/33998*100 -> 116.61738 | E82: ='[6]Ф2 Стр нояб'!$AE$12 -> 39647.273 | F82: ='[7]Итого УК расш (о)'!$Q$72 -> 39647.576 | G82: =E82 -> 39647.273 | H82: =F82-G82 -> 0.3030303
A83: Всего по муниципальному образованию "г.Стрежевой" | B83: =SUM(B82:B82) -> 27.5 | C83: =SUM(C82:C82) -> 27.5 | D83: =F83/33998*100 -> 116.61738 | E83: =E82 -> 39647.273 | F83: =F82 -> 39647.576 | G83: =G82 -> 39647.273 | H83: =F83-G83 -> 0.3030303
A84: ЗАТО Северск
A85: ОГУ 1
A86: ОГУ 2
A87: Всего по ОГУ, подведомственным Департаменту
A88: ='[5]Итого УК расш (о)'!$C$78 -> Муниципальное автономное учреждение дополнительного образования ЗАТО Северск "Детская школа искусств» | B88: ='[6]Ф2 Сев нояб (2)'!$AD$17 -> 98.6 | C88: ='[7]Итого УК расш (о)'!$F$78 -> 98.4 | D88: =F88/33998*100 -> 79.453054 | E88: ='[6]Ф2 Сев нояб (2)'!$AE$17 -> 27012.44 | F88: ='[7]Итого УК расш (о)'!$Q$78 -> 27012.449 | G88: =E88 -> 27012.44 | H88: =F88-G88 -> 0.0091869919
A89: ='[5]Итого УК расш (о)'!$C$79 -> Муниципальное бюджетное образовательное учреждение дополнительного образования детей «Художественная школа» | B89: ='[6]Ф2 Сев нояб (2)'!$AD$16 -> 21 | C89: ='[7]Итого УК расш (о)'!$F$79 -> 21 | D89: =F89/33998*100 -> 77.17891 | E89: ='[6]Ф2 Сев нояб (2)'!$AE$16 -> 26234 | F89: ='[7]Итого УК расш (о)'!$Q$79 -> 26239.286 | G89: =E89 -> 26234 | H89: =F89-G89 -> 5.2857143
A90: ='[5]Итого УК расш (о)'!$C$80 -> Муниципальное бюджетное образовательное учреждение дополнительного образования детей "Самусьская детская школа искусств" | B90: ='[6]Ф2 Сев нояб (2)'!$AD$18 -> 11.3 | C90: ='[7]Итого УК расш (о)'!$F$80 -> 11.3 | D90: =F90/33998*100 -> 84.815418 | E90: ='[6]Ф2 Сев нояб (2)'!$AE$18 -> 28845.13 | F90: ='[7]Итого УК расш (о)'!$Q$80 -> 28835.546 | G90: =E90 -> 28845.13 | H90: =F90-G90 -> -9.5842773
A91: Всего по муниципальному образованию "ЗАТО Северск" | B91: =SUM(B88:B90) -> 130.9 | C91: =SUM(C88:C90) -> 130.7 | D91: =F91/33998*100 -> 79.551276 | E91: =(E88*B88+B89*E89+E90*B90)/B91 -> 27045.764 | F91: =(C88*F88+C89*F89+C90*F90)/C91 -> 27045.843 | G91: =(G88*B88+B89*G89+G90*B90)/B91 -> 27045.764 | H91: 0
A92: ИТОГО ПО ДПО: | B92: =B91+B83+B80+B66+B63+B57+B53+B44+B41+B34+B31+B22+B25+B19+B13 -> 534 | C92: =C91+C83+C80+C66+C63+C57+C53+C44+C41+C34+C31+C25+C22+C13+C19 -> 532.8 | D92: =F92/33998*100 -> 80.694858 | E92: 27235 | F92: =(F91*C91+C83*F83+F80*C80+C66*F66+F63*C63+C57*F57+F53*C53+C44*F44+F41*C41+C34*F34+F31*C31+C25*F25+F22*C22+C19*F19+F13*C13)/C92 -> 27434.638 | G92: 27235 | H92: =F92-G92 -> 199.63776
A93: *Прогнозируемая средняя заработная плата учителей по Томской области составляет 33 998 рублей
A94: **В соответствии с показателями, установленными в Финансовом обеспечении мероприятий региональной "дорожной карты" субъекта Российской Федерации в части повышения заработной платы за отчетный период

Sheet приложение 2 ДПО
D1: Приложение № 5
B2: к письму от _____________________№________________
A4: Мониторинг целевых показателей, установленных в плане мероприятий "дорожной карте"
A5: за 2015 год
A7: Наименование МУ | B7: Среднесписочная численность, чел. | C7: ФОТ, тыс.руб* | D7: Доля ФОТ АУП и вспомогательного персонала в общем ФОТ, %
A8: 1 | B8: 2 | C8: 3 | D8: 4
A9: Муниципальное образование 2
A10: МУ 1
A11: Административно-управленческий персонал
A12: Основной персонал
A13: Прочий персонал
A14: МУ 2
A15: Административно-управленческий персонал
A16: Основной персонал
A17: Прочий персонал
A18: Итого по муниципальному образованию 2
A19: Административно-управленческий персонал
A20: Основной персонал
... A24: Александровский район
A25: ='[7]Итого УК расш (о)'!$C$18 -> Муниципальное бюджетное образовательное учреждение дополнительного образования детей "Детская школа искусств" | D25: =(C28+C30)/C26 -> 0.14632662
A26: ФОТ , всего: | B26: =B28+B29+B30 -> 9 | C26: =SUM(C28:C30) -> 4764
A27: в том числе по группам персонала:
A28: Административно-управленческий персонал | B28: ='[10]Прил 2 ДОП'!$C$6 -> 1 | C28: ='[10]Прил 2 ДОП'!$D$6 -> 697.1
A29: Основной персонал | B29: ='[10]Прил 2 ДОП'!$C$7 -> 8 | C29: ='[10]Прил 2 ДОП'!$D$7 -> 4066.9
A30: Прочий персонал (вспомогательный) | B30: ='[10]Прил 2 ДОП'!$C$8 -> 0 | C30: 0
A31: Зырянский район
A32: ='[7]Итого УК расш (о)'!$C$24 -> Муниципальное автономное образовательное учреждение дополнительного образования детей «Зырянская детская школа искусств» | D32: =(C35+C37)/C33 -> 0.22411767
A33: ФОТ , всего: | B33: =B35+B37+B36 -> 17.5 | C33: =SUM(C35:C37) -> 4935.8
A34: в том числе по группам персонала:
A35: Административно-управленческий персонал | B35: ='[10]Прил 2 ДОП'!$C$10 -> 1 | C35: ='[10]Прил 2 ДОП'!$D$10 -> 582.1
A36: Основной персонал | B36: ='[10]Прил 2 ДОП'!$C$11 -> 12.5 | C36: ='[10]Прил 2 ДОП'!$D$11 -> 3829.6
A37: Прочий персонал (вспомогательный) | B37: ='[10]Прил 2 ДОП'!$C$12 -> 4 | C37: ='[10]Прил 2 ДОП'!$D$12 -> 524.1
A38: Каргасокский район
A39: Муниципальное бюджетное учреждение дополнительного образования "Каргасокская детская школа искусств" | D39: =(C42+C44)/C40 -> 0.31946685
A40: ФОТ , всего: | B40: =B42+B43+B44 -> 17.6 | C40: =SUM(C42:C44) -> 7127.5
A41: в том числе по группам персонала:
A42: Административно-управленческий персонал | B42: ='[10]Прил 2 ДОП'!$C$14 -> 2 | C42: ='[10]Прил 2 ДОП'!$D$14 -> 1431.6
A43: Основной персонал | B43: ='[10]Прил 2 ДОП'!$C$15 -> 11.6 | C43: ='[10]Прил 2 ДОП'!$D$15 -> 4850.5
A44: Прочий персонал (вспомогательный) | B44: ='[10]Прил 2 ДОП'!$C$16 -> 4 | C44: ='[10]Прил 2 ДОП'!$D$16 -> 845.4
A45: Кожевниковский район
A46: ='[7]Итого УК расш (о)'!$C$30 -> Муниципальное бюджетное образовательное учреждение дополнительного образования детей «Кожевниковская детская школа искусств» | D46: =(C49+C51)/C47 -> 0.29967913
A47: ФОТ , всего: | B47: =B49+B50+B51 -> 31.2 | C47: =SUM(C49:C51) -> 6638.1
A48: в том числе по группам персонала:
A49: Административно-управленческий персонал | B49: ='[10]Прил 2 ДОП'!$C$18 -> 1.7 | C49: ='[10]Прил 2 ДОП'!$D$18 -> 680.6
A50: Основной персонал | B50: ='[10]Прил 2 ДОП'!$C$19 -> 16.5 | C50: ='[10]Прил 2 ДОП'!$D$19 -> 4648.8
A51: Прочий персонал (вспомогательный) | B51: ='[10]Прил 2 ДОП'!$C$20 -> 13 | C51: ='[10]Прил 2 ДОП'!$D$20 -> 1308.7
A52: Молчановский район
A53: ='[7]Итого УК расш (о)'!$C$33 -> Муниципальное бюджетное образовательное учреждение дополнительного образования детей "Молчановская детская музыкальная школа" | D53: =(C56+C58)/C54 -> 0.22189101
A54: ФОТ, всего: | B54: =B56+B57+B58 -> 14.9 | C54: =SUM(C56:C58) -> 5367.5
A55: в том числе по группам персонала:
A56: Административно-управленческий персонал | B56: ='[10]Прил 2 ДОП'!$C$22 -> 1 | C56: ='[10]Прил 2 ДОП'!$D$22 -> 607.7
A57: Основной персонал | B57: ='[10]Прил 2 ДОП'!$C$23 -> 10.1 | C57: ='[10]Прил 2 ДОП'!$D$23 -> 4176.5
A58: Прочий персонал (вспомогательный) | B58: ='[10]Прил 2 ДОП'!$C$24 -> 3.8 | C58: ='[10]Прил 2 ДОП'!$D$24 -> 583.3
A59: Парабельский район
A60: ='[7]Итого УК расш (о)'!$C$36 -> Муниципальное бюджетное образовательное учреждение дополнительного образования детей "Детская школа искусств им. Г.Д. Заволокина" | D60: =(C63+C65)/C61 -> 0.32035195
A61: ФОТ, всего: | B61: =B63+B64+B65 -> 16.6 | C61: =SUM(C63:C65) -> 5387.2
A62: в том числе по группам персонала:
A63: Административно-управленческий персонал | B63: ='[10]Прил 2 ДОП'!$C$26 -> 2 | C63: ='[10]Прил 2 ДОП'!$D$26 -> 907.6
A64: Основной персонал | B64: ='[10]Прил 2 ДОП'!$C$27 -> 8.8 | C64: ='[10]Прил 2 ДОП'!$D$27 -> 3661.4
A65: Прочий персонал (вспомогательный) | B65: ='[10]Прил 2 ДОП'!$C$28 -> 5.8 | C65: ='[10]Прил 2 ДОП'!$D$28 -> 818.2
A66: Первомайский район
A67: ='[7]Итого УК расш (о)'!$C$40 -> Муниципальное автономное образовательное учреждение дополнительного образования детей «Первомайская детская школа искусств" | D67: =(C70+C72)/C68 -> 0.23945127
A68: ФОТ, всего: | B68: =B70+B71+B72 -> 12.5 | C68: =SUM(C70:C72) -> 3557.3
A69: в том числе по группам персонала:
A70: Административно-управленческий персонал | B70: 1 | C70: 442.8
A71: Основной персонал | B71: 7 | C71: 2705.5
A72: Прочий персонал (вспомогательный) | B72: 4.5 | C72: 409
A73: ='[7]Итого УК расш (о)'!$C$41 -> Муниципальное автономное образовательное учреждение дополнительного образования детей "Комсомольская детская музыкальная школа" | D73: =(C76+C78)/C74 -> 0
A74: ФОТ, всего: | B74: =B76+B77+B78 -> 2 | C74: =SUM(C76:C78) -> 783.1
A75: в том числе по группам персонала:
A76: Административно-управленческий персонал | B76: 0 | C76: 0
A77: Основной персонал | B77: 2 | C77: 783.1
A78: Прочий персонал (вспомогательный) | B78: 0 | C78: 0
A79: Всего по муниципальному образованию "Первомайский район" | D79: =(C82+C84)/C80 -> 0.19624919
A80: ФОТ всего: | B80: =B82+B83+B84 -> 14.5 | C80: =C82+C83+C84 -> 4340.4
A81: в том числе по группам персонала:
A82: Административно-управленческий персонал | B82: =B70+B76 -> 1 | C82: =C70+C76 -> 442.8
A83: Основной персонал | B83: =B77+B71 -> 9 | C83: =C71+C77 -> 3488.6
A84: Прочий персонал (вспомогательный) | B84: =B78+B72 -> 4.5 | C84: =C72+C78 -> 409
A85: Тегульдетский район
A86: ='[7]Итого УК расш (о)'!$C$44 -> Муниципальное казённое образовательное учреждение дополнительного образования детей Тегульдетская детская школа искусств | D86: =(C89+C91)/C87 -> 0.47307254
A87: ФОТ , всего: | B87: =B89+B90+B91 -> 8.3 | C87: =SUM(C89:C91) -> 2985.8
A88: в том числе по группам персонала:
A89: Административно-управленческий персонал | B89: ='[10]Прил 2 ДОП'!$C$42 -> 1 | C89: ='[10]Прил 2 ДОП'!$D$42 -> 769.8
A90: Основной персонал | B90: ='[10]Прил 2 ДОП'!$C$43 -> 3.3 | C90: ='[10]Прил 2 ДОП'!$D$43 -> 1573.3
A91: Прочий персонал (вспомогательный) | B91: ='[10]Прил 2 ДОП'!$C$44 -> 4 | C91: ='[10]Прил 2 ДОП'!$D$44 -> 642.7
A92: Томский район
A93: Муниципальное бюджетное образовательное учреждение дополнительного образования детей "Детская школа искусств п.Зональная Станция" | D93: =(C96+C98)/C94 -> 0.30148261
A94: ФОТ, всего: | B94: =B96+B97+B98 -> 16.3 | C94: =SUM(C96:C98) -> 3669.2
A95: в том числе по группам персонала:
A96: Административно-управленческий персонал | B96: 2 | C96: 660.4
A97: Основной персонал | B97: 9.3 | C97: 2563
A98: Прочий персонал (вспомогательный) | B98: 5 | C98: 445.8
A99: Муниципальное бюджетное образовательное учреждение дополнительного образования детей "Детская школа искусств д.Кисловка" | D99: =(C102+C104)/C100 -> 0.38055942
A100: ФОТ , всего: | B100: =B102+B103+B104 -> 9 | C100: =SUM(C102:C104) -> 2302.4
A101: в том числе по группам персонала:
A102: Административно-управленческий персонал | B102: 1 | C102: 595.3
A103: Основной персонал | B103: 5 | C103: 1426.2
A104: Прочий персонал (вспомогательный) | B104: 3 | C104: 280.9
A105: Муниципальное бюджетное образовательное учреждение дополнительного образования детей "Детская школа искусств п.Молодежный" | D105: =(C108+C110)/C106 -> 0.39231701
...

Sheet приложение 3 ДПО
C1: Приложение № 6
B2: к письму от _____________________№________________
A4: Мониторинг целевых показателей, установленных в плане мероприятий "дорожной карте" за 2015 год
A7: Наименование МУ | B7: Среднемесячная заработная плата по группам персонала, руб. | C7: Отношение среднемесячной заработной платы основного персонала к среднемесячной заработной плате вспомогательного персонала учреждений, раз
A8: 1 | B8: 2 | C8: 3
A9: Работники учреждений дополнительного образования детей
A10: Александровский район
A11: МБОУ ДОД "ДШИ" | B11: ='приложение 2 ДПО'!C26/'приложение 2 ДПО'!B26/12*1000 -> 44111.111 | C11: =B13/B14 -> #DIV/0!
A12: Административно-управленческий персонал | B12: ='приложение 2 ДПО'!C28/'приложение 2 ДПО'!B28/12*1000 -> 58091.667
A13: Основной персонал | B13: ='приложение 2 ДПО'!C29/'приложение 2 ДПО'!B29/12*1000 -> 42363.542
A14: Вспомогательный персонал | B14: ='приложение 2 ДПО'!C30/'приложение 2 ДПО'!B30/12*1000 -> #DIV/0!
A15: Зырянский район
A16: МАБУ ДОД "Зырянская ДШИ" | B16: ='приложение 2 ДПО'!C33/'приложение 2 ДПО'!B33/12*1000 -> 23503.81 | C16: =B18/B19 -> 2.3382408
A17: Административно-управленческий персонал | B17: ='приложение 2 ДПО'!C35/'приложение 2 ДПО'!B35/12*1000 -> 48508.333
A18: Основной персонал | B18: ='приложение 2 ДПО'!C36/'приложение 2 ДПО'!B36/12*1000 -> 25530.667
A19: Вспомогательный персонал | B19: ='приложение 2 ДПО'!C37/'приложение 2 ДПО'!B37/12*1000 -> 10918.75
A20: Каргасокский район
A21: Муниципальное бюджетное учреждение дополнительного образования "Каргасокская детская школа искусств" | B21: ='приложение 2 ДПО'!C40/'приложение 2 ДПО'!B40/12*1000 -> 33747.633 | C21: =B23/B24 -> 1.9784554
A22: Административно-управленческий персонал | B22: ='приложение 2 ДПО'!C42/'приложение 2 ДПО'!B42/12*1000 -> 59650
A23: Основной персонал | B23: ='приложение 2 ДПО'!C43/'приложение 2 ДПО'!B43/12*1000 -> 34845.546
A24: Вспомогательный персонал | B24: ='приложение 2 ДПО'!C44/'приложение 2 ДПО'!B44/12*1000 -> 17612.5
A25: Кожевниковский район
A26: МБОУ ДОД "Кожевниковская ДШИ" | B26: ='приложение 2 ДПО'!C47/'приложение 2 ДПО'!B47/12*1000 -> 17729.968 | C26: =B28/B29 -> 2.7987246
A27: Административно-управленческий персонал | B27: ='приложение 2 ДПО'!C49/'приложение 2 ДПО'!B49/12*1000 -> 33362.745
A28: Основной персонал | B28: ='приложение 2 ДПО'!C50/'приложение 2 ДПО'!B50/12*1000 -> 23478.788
A29: Вспомогательный персонал | B29: ='приложение 2 ДПО'!C51/'приложение 2 ДПО'!B51/12*1000 -> 8389.1026
A30: Молчановский район
A31: МБОУ ДОД "Молчановская ДМШ" | B31: ='приложение 2 ДПО'!C54/'приложение 2 ДПО'!B54/12*1000 -> 30019.575 | C31: =B33/B34 -> 2.6939078
A32: Административно-управленческий персонал | B32: ='приложение 2 ДПО'!C56/'приложение 2 ДПО'!B56/12*1000 -> 50641.667
A33: Основной персонал | B33: ='приложение 2 ДПО'!C57/'приложение 2 ДПО'!B57/12*1000 -> 34459.571
A34: Вспомогательный персонал | B34: ='приложение 2 ДПО'!C58/'приложение 2 ДПО'!B58/12*1000 -> 12791.667
A35: Парабельский район
A36: МБОУ ДШИ им.Г.Д.Заволокина | B36: ='приложение 2 ДПО'!C61/'приложение 2 ДПО'!B61/12*1000 -> 27044.177 | C36: =B38/B39 -> 2.9493956
A37: Административно-управленческий персонал | B37: ='приложение 2 ДПО'!C63/'приложение 2 ДПО'!B63/12*1000 -> 37816.667
A38: Основной персонал | B38: ='приложение 2 ДПО'!C64/'приложение 2 ДПО'!B64/12*1000 -> 34672.348
A39: Вспомогательный персонал | B39: ='приложение 2 ДПО'!C65/'приложение 2 ДПО'!B65/12*1000 -> 11755.747
A40: Первомайский район
A41: МАОУ ДПО "Первомайская детская школа искусств" | B41: ='приложение 2 ДПО'!C68/'приложение 2 ДПО'!B68/12*1000 -> 23715.333 | C41: =B43/B44 -> 4.252445
A42: Административно-управленческий персонал | B42: ='приложение 2 ДПО'!C70/'приложение 2 ДПО'!B70/12*1000 -> 36900
A43: Основной персонал | B43: ='приложение 2 ДПО'!C71/'приложение 2 ДПО'!B71/12*1000 -> 32208.333
A44: Вспомогательный персонал | B44: ='приложение 2 ДПО'!C72/'приложение 2 ДПО'!B72/12*1000 -> 7574.0741
A45: МАОУ ДПО "Комсомольская музыкальная школа" | B45: ='приложение 2 ДПО'!C74/'приложение 2 ДПО'!B74/12*1000 -> 32629.167 | C45: =B47/B48 -> #DIV/0!
A46: Административно-управленческий персонал | B46: ='приложение 2 ДПО'!C76/'приложение 2 ДПО'!B76/12*1000 -> #DIV/0!
A47: Основной персонал | B47: ='приложение 2 ДПО'!C77/'приложение 2 ДПО'!B77/12*1000 -> 32629.167
A48: Вспомогательный персонал | B48: ='приложение 2 ДПО'!C78/'приложение 2 ДПО'!B78/12*1000 -> #DIV/0!
A49: Всего по муниципальному образованию "Первомайский район" | B49: ='приложение 2 ДПО'!C80/'приложение 2 ДПО'!B80/12*1000 -> 24944.828 | C49: =B51/B52 -> 4.2647922
A50: Административно-управленческий персонал | B50: ='приложение 2 ДПО'!C82/'приложение 2 ДПО'!B82/12*1000 -> 36900
A51: Основной персонал | B51: ='приложение 2 ДПО'!C83/'приложение 2 ДПО'!B83/12*1000 -> 32301.852
A52: Вспомогательный персонал | B52: ='приложение 2 ДПО'!C84/'приложение 2 ДПО'!B84/12*1000 -> 7574.0741
A53: Тегульдетский район
A54: МКОУ ДОД ТДШИ | B54: ='приложение 2 ДПО'!C87/'приложение 2 ДПО'!B87/12*1000 -> 29977.912 | C54: =B56/B57 -> 2.9672169
A55: Административно-управленческий персонал | B55: ='приложение 2 ДПО'!C89/'приложение 2 ДПО'!B89/12*1000 -> 64150
A56: Основной персонал | B56: ='приложение 2 ДПО'!C90/'приложение 2 ДПО'!B90/12*1000 -> 39729.798
A57: Вспомогательный персонал | B57: ='приложение 2 ДПО'!C91/'приложение 2 ДПО'!B91/12*1000 -> 13389.583
A58: Томский район
A59: Муниципальное бюджетное образовательное учреждение дополнительного образования детей "Детская школа искусств п.Зональная Станция" | B59: ='приложение 2 ДПО'!C94/'приложение 2 ДПО'!B94/12*1000 -> 18758.691 | C59: =B61/B62 -> 3.0909757
A60: Административно-управленческий персонал | B60: ='приложение 2 ДПО'!C96/'приложение 2 ДПО'!B96/12*1000 -> 27516.667
A61: Основной персонал | B61: ='приложение 2 ДПО'!C97/'приложение 2 ДПО'!B97/12*1000 -> 22965.95
A62: Вспомогательный персонал | B62: ='приложение 2 ДПО'!C98/'приложение 2 ДПО'!B98/12*1000 -> 7430
A63: Муниципальное бюджетное образовательное учреждение дополнительного образования детей "Детская школа искусств д.Кисловка" | B63: ='приложение 2 ДПО'!C100/'приложение 2 ДПО'!B100/12*1000 -> 21318.519 | C63: =B65/B66 -> 3.046351
A64: Административно-управленческий персонал | B64: ='приложение 2 ДПО'!C102/'приложение 2 ДПО'!B102/12*1000 -> 49608.333
A65: Основной персонал | B65: ='приложение 2 ДПО'!C103/'приложение 2 ДПО'!B103/12*1000 -> 23770
A66: Вспомогательный персонал | B66: ='приложение 2 ДПО'!C104/'приложение 2 ДПО'!B104/12*1000 -> 7802.7778
A67: Муниципальное бюджетное образовательное учреждение дополнительного образования детей "Детская школа искусств п.Молодежный" | B67: ='приложение 2 ДПО'!C106/'приложение 2 ДПО'!B106/12*1000 -> 19710.985 | C67: =B69/B70 -> 2.3472636
A68: Административно-управленческий персонал | B68: ='приложение 2 ДПО'!C108/'приложение 2 ДПО'!B108/12*1000 -> 24670.833
A69: Основной персонал | B69: ='приложение 2 ДПО'!C109/'приложение 2 ДПО'!B109/12*1000 -> 23956.061
A70: Вспомогательный персонал | B70: ='приложение 2 ДПО'!C110/'приложение 2 ДПО'!B110/12*1000 -> 10205.952
A71: Муниципальное бюджетное образовательное учреждение дополнительного образования детей "Детская школа искусств п.Мирный" | B71: ='приложение 2 ДПО'!C112/'приложение 2 ДПО'!B112/12*1000 -> 23053.333 | C71: =B73/B74 -> 2.340958
A72: Административно-управленческий персонал | B72: ='приложение 2 ДПО'!C114/'приложение 2 ДПО'!B114/12*1000 -> 38483.333
A73: Основной персонал | B73: ='приложение 2 ДПО'!C115/'приложение 2 ДПО'!B115/12*1000 -> 22678.03
A74: Вспомогательный персонал | B74: ='приложение 2 ДПО'!C116/'приложение 2 ДПО'!B116/12*1000 -> 9687.5
A75: Всего по муниципальному образованию "Томский район" | B75: ='приложение 2 ДПО'!C118/'приложение 2 ДПО'!B118/12*1000 -> 20498.796 | C75: =B77/B78 -> 2.6154996
A76: Административно-управленческий персонал | B76: ='приложение 2 ДПО'!C120/'приложение 2 ДПО'!B120/12*1000 -> 31143.519
A77: Основной персонал | B77: ='приложение 2 ДПО'!C121/'приложение 2 ДПО'!B121/12*1000 -> 23289.486
A78: Вспомогательный персонал | B78: ='приложение 2 ДПО'!C122/'приложение 2 ДПО'!B122/12*1000 -> 8904.4118
A79: Чаинский район
A80: МБОУ ДОД "Подгорнская ДМШ" | B80: ='приложение 2 ДПО'!C125/'приложение 2 ДПО'!B125/12*1000 -> 38514.286 | C80: =B82/B83 -> 3.1641221
A81: Административно-управленческий персонал | B81: ='приложение 2 ДПО'!C127/'приложение 2 ДПО'!B127/12*1000 -> 49250
A82: Основной персонал | B82: ='приложение 2 ДПО'!C128/'приложение 2 ДПО'!B128/12*1000 -> 41450
A83: Вспомогательный персонал | B83: ='приложение 2 ДПО'!C129/'приложение 2 ДПО'!B129/12*1000 -> 13100
A84: МБОУ ДОД "Подгорнская ДХШ" | B84: ='приложение 2 ДПО'!C131/'приложение 2 ДПО'!B131/12*1000 -> 33547.222 | C84: =B86/B87 -> 2.6063554
A85: Административно-управленческий персонал | B85: ='приложение 2 ДПО'!C133/'приложение 2 ДПО'!B133/12*1000 -> 54466.667
A86: Основной персонал | B86: ='приложение 2 ДПО'!C134/'приложение 2 ДПО'!B134/12*1000 -> 33491.667
A87: Вспомогательный персонал | B87: ='приложение 2 ДПО'!C135/'приложение 2 ДПО'!B135/12*1000 -> 12850
A88: Всего по муниципальному образованию "Чаинский район" | B88: ='приложение 2 ДПО'!C137/'приложение 2 ДПО'!B137/12*1000 -> 36221.795 | C88: =B90/B91 -> 2.922001
A89: Административно-управленческий персонал | B89: ='приложение 2 ДПО'!C139/'приложение 2 ДПО'!B139/12*1000 -> 51858.333
A90: Основной персонал | B90: ='приложение 2 ДПО'!C140/'приложение 2 ДПО'!B140/12*1000 -> 37912.963
A91: Вспомогательный персонал | B91: ='приложение 2 ДПО'!C141/'приложение 2 ДПО'!B141/12*1000 -> 12975
A92: Шегарский район
A93: МБОУ ДОД "ДШИ" | B93: ='приложение 2 ДПО'!C144/'приложение 2 ДПО'!B144/12*1000 -> 19870.296 | C93: =B95/B96 -> 2.3346958
A94: Административно-управленческий персонал | B94: ='приложение 2 ДПО'!C146/'приложение 2 ДПО'!B146/12*1000 -> 33541.667
A95: Основной персонал | B95: ='приложение 2 ДПО'!C147/'приложение 2 ДПО'!B147/12*1000 -> 21105.311
A96: Вспомогательный персонал | B96: ='приложение 2 ДПО'!C148/'приложение 2 ДПО'!B148/12*1000 -> 9039.8551
A97: Асиновский район
A98: МАОУ ДПО "Асиновская детская школа искусств" | B98: ='приложение 2 ДПО'!C151/'приложение 2 ДПО'!B151/12*1000 -> 22939.844 | C98: =B100/B101 -> 1.6437297
A99: Административно-управленческий персонал | B99: ='приложение 2 ДПО'!C153/'приложение 2 ДПО'!B153/12*1000 -> 41194.444
A100: Основной персонал | B100: ='приложение 2 ДПО'!C154/'приложение 2 ДПО'!B154/12*1000 -> 24338.158
A101: Вспомогательный персонал | B101: ='приложение 2 ДПО'!C155/'приложение 2 ДПО'!B155/12*1000 -> 14806.667
A102: г.Томск
A103: МБОУДОД "ДШИ № 1" | B103: ='приложение 2 ДПО'!C158/'приложение 2 ДПО'!B158/12*1000 -> 24710.072 | C103: =B105/B106 -> 1.3619517
...

Sheet спо  приложение 1
G1: Приложение № 7
F2: к письму от ______________________№___________________________
A4: Мониторинг целевых показателей, установленных в плане мероприятий "дорожной карте" за 2015 год
A7: Наименование ОГОАУ | B7: Планируемая среднесписочная численность отдельной категории работников государственных и муниципальных учреждений, чел. | C7: Фактическая среднесписочная численность отдельной категории работников государственных и муниципальных учреждений на отчетный период, чел. | D7: Отношение средней заработной платы работников соответствующей категории к средней заработной плате в экономике Томской области, %* | E7: Средняя заработная плата отдельной категории работников списочного состава, руб. | G7: Плановое значение средней заработной платы отдельной категории работников на год, руб. | H7: Отклонение факта за отчетный период от планового значения на год, руб.
E8: план на отчетный период** | F8: факт за отчетный период
A9: 1 | B9: 2 | C9: 3 | D9: 4 | E9: 5 | F9: 6 | G9: 7 | H9: 8=6-7
A10: Преподаватели и мастера производственного обучения образовательных учреждений начального и среднего профессионального образования
A11: Областное государственное автономное профессиональное образовательное учреждение "Губернаторский колледж социально - культурных технологий и инноваций" | B11: 39 | C11: 39 | D11: =F11/33998*100 -> 78.768457 | E11: ='[8]Ф2 ГК нояб'!$AD$12 -> 26779.553 | F11: 26779.7 | G11: =E11 -> 26779.553 | H11: =F11-G11 -> 0.14740973
A12: ='[5]Итого УК расш (о)'!$C$9 -> Областное государственное образовательное автономное учреждение среднего профессионального образования «Томский музыкальный колледж имени Э.В. Денисова» | B12: 61 | C12: 61 | D12: =F12/33998*100 -> 76.889817 | E12: ='[8]Ф2 ТМК нояб'!$AD$12 -> 26141.035 | F12: 26141 | G12: =E12 -> 26141.035 | H12: =F12-G12 -> -0.035184566
A13: Всего по СПО: | B13: =SUM(B11:B12) -> 100 | C13: =SUM(C11:C12) -> 100 | D13: =F13/33998*100 -> 77.622487 | E13: =(E11*B11+B12*E12)/B13 -> 26390.057 | F13: =(F11*C11+C12*F12)/C13 -> 26390.093 | G13: =(G11*B11+B12*G12)/B13 -> 26390.057 | H13: =F13-G13 -> 0.036027211
A14: *Прогнозируемая средняя заработная плата по Томской области на 2015 год составляет 33 998 рублей
A15: **В соответствии с показателями, установленными в Финансовом обеспечении мероприятий региональной "дорожной карты" субъекта Российской Федерации в части повышения заработной платы за отчетный период

Sheet приложение 2 спо
D1: Приложение № 8
B2: к письму от ______________________№___________________________
A4: Мониторинг целевых показателей, установленных в плане мероприятий "дорожной карте"
A5: за 2015 год
A7: Наименование ОГОАУ | B7: Среднесписочная численность, чел. | C7: ФОТ, тыс.руб* | D7: Доля ФОТ АУП и вспомогательного персонала в общем ФОТ, %
A8: 1 | B8: 2 | C8: 3 | D8: 4
A9: Преподаватели и мастера производственного обучения образовательных учреждений начального и среднего профессионального образования
A10: Областное государственное автономное профессиональное образовательное учреждение "Губернаторский колледж социально - культурных технологий и инноваций" | D10: =(C13+C15)/C11 -> 0.44345318
A11: ФОТ , всего: | B11: =SUM(B13:B15) -> 78.9 | C11: =SUM(C13:C15) -> 27215.5
A12: в том числе по группам персонала:
A13: Административно-управленческий персонал | B13: 4 | C13: 3730.2
A14: Основной персонал | B14: 46 | C14: 15146.7
A15: Прочий персонал (вспомогательный) | B15: 28.9 | C15: 8338.6
A16: ='[5]Итого УК расш (о)'!$C$9 -> Областное государственное образовательное автономное учреждение среднего профессионального образования «Томский музыкальный колледж имени Э.В. Денисова» | D16: =(C19+C21)/C17 -> 0.21886473
A17: ФОТ , всего: | B17: =SUM(B19:B21) -> 101 | C17: =SUM(C19:C21) -> 27917.7
A18: в том числе по группам персонала:
A19: Административно-управленческий персонал | B19: 4 | C19: 2282.2
A20: Основной персонал | B20: 71 | C20: 21807.5
A21: Прочий персонал (вспомогательный) | B21: 26 | C21: 3828
A22: ИТОГО СПО: | D22: =(C25+C27)/C23 -> 0.32972873
A23: ФОТ , всего: | B23: =SUM(B25:B27) -> 179.9 | C23: =SUM(C25:C27) -> 55133.2
A24: в том числе по группам персонала:
A25: Административно-управленческий персонал | B25: =B19+B13 -> 8 | C25: =C19+C13 -> 6012.4
A26: Основной персонал | B26: =B20+B14 -> 117 | C26: =C20+C14 -> 36954.2
A27: Прочий персонал (вспомогательный) | B27: =B21+B15 -> 54.9 | C27: =C21+C15 -> 12166.6
A28: *Фонд оплаты труда с учетом отчислений во внебюджетные фонды и вознаграждение за работу по договорам гражданско-правового характера, заключенным работником списочного состава со своим учреждением

Sheet приложение 3 спо
C1: Приложение № 9
B2: к письму от ______________________№___________________________
A4: Мониторинг целевых показателей, установленных в плане мероприятий "дорожной карте"
A5: за 2015 год
A7: Наименование ОГОАУ | B7: Среднемесячная заработная плата по группам персонала, руб. | C7: Отношение среднемесячной заработной платы основного персонала к среднемесячной заработной плате вспомогательного персонала учреждений, раз
A8: 1 | B8: 2 | C8: 3
A9: Преподаватели и мастера производственного обучения образовательных учреждений начального и среднего профессионального образования
A10: Областное государственное автономное профессиональное образовательное учреждение "Губернаторский колледж социально - культурных технологий и инноваций" | C10: =B12/B13 -> 1.1412082
A11: Административно-управленческий персонал | B11: ='приложение 2 спо'!C13/'приложение 2 спо'!B13/12*1000 -> 77712.5
A12: Основной персонал | B12: ='приложение 2 спо'!C14/'приложение 2 спо'!B14/12*1000 -> 27439.674
A13: Вспомогательный персонал | B13: ='приложение 2 спо'!C15/'приложение 2 спо'!B15/12*1000 -> 24044.406
A14: ='[5]Итого УК расш (о)'!$C$9 -> Областное государственное образовательное автономное учреждение среднего профессионального образования «Томский музыкальный колледж имени Э.В. Денисова» | C14: =B16/B17 -> 2.0861664
A15: Административно-управленческий персонал | B15: ='приложение 2 спо'!C19/'приложение 2 спо'!B19/12*1000 -> 47545.833
A16: Основной персонал | B16: ='приложение 2 спо'!C20/'приложение 2 спо'!B20/12*1000 -> 25595.657
A17: Вспомогательный персонал | B17: ='приложение 2 спо'!C21/'приложение 2 спо'!B21/12*1000 -> 12269.231
A18: ИТОГО СПО:
A19: ФОТ , всего: | B19: =SUM(B21:B23) -> 107417.64 | C19: =B22/B23 -> 1.4252172
A20: в том числе по группам персонала:
A21: Административно-управленческий персонал | B21: ='приложение 2 спо'!C25/'приложение 2 спо'!B25/12*1000 -> 62629.167
A22: Основной персонал | B22: ='приложение 2 спо'!C26/'приложение 2 спо'!B26/12*1000 -> 26320.655
A23: Прочий персонал (вспомогательный) | B23: ='приложение 2 спо'!C27/'приложение 2 спо'!B27/12*1000 -> 18467.82
