Workbook

Sheet приложение 1 культура
H1: Приложение № 1
F2: к письму от _____________________№________________
A4: Мониторинг целевых показателей, установленных в плане мероприятий "дорожной карте" за 2015 год
A7: Наименование ОГУ/МУ | B7: Планируемая среднесписочная численность отдельной категории работников государственных и муниципальных учреждений, чел. | C7: Фактическая среднесписочная численность отдельной категории работников государственных и муниципальных учреждений на отчетный период, чел. | D7: Отношение средней заработной платы работников соответствующей категории к средней заработной плате в экономике Томской области, %* | E7: Средняя заработная плата отдельной категории работников списочного состава, руб. | G7: Плановое значение средней заработной платы отдельной категории работников на год, руб. | H7: Отклонение факта за отчетный период от планового значения на год, руб.
E8: план на отчетный период** | F8: факт за отчетный период
A9: 1 | B9: 2 | C9: 3 | D9: 4 | E9: 5 | F9: 6 | G9: 7 | H9: 8=6-7
A10: Работники учреждений культуры
A11: ОГУ 1
A12: ОГУ 2
A13: Всего по ОГУ, подведомственным Департаменту
A14: ОГАУК "ТОУНБ им.А.С.Пушкина" | B14: ='[1]Форма 2 ТОУНБ'!$AG$14 -> 143.3 | C14: ='[9]СВ Т-ст'!$F$9 -> 143.3 | D14: =F14/33998*100 -> 61.836873 | E14: =ROUND('[1]Форма 2 ТОУНБ'!$AH$14,1) -> 20750 | F14: =ROUND('[9]СВ Т-ст'!$Q$9,1) -> 21023.3 | G14: =E14 -> 20750 | H14: =F14-G14 -> 273.3
A15: ='[2]Sheet1 (2)'!$P$26 -> ОГАУК "ТОДЮБ" | B15: ='[1]Форма 2 ОДЮБ'!$AG$14 -> 49.7 | C15: ='[9]СВ Т-ст'!$F$10 -> 49.7 | D15: =F15/33998*100 -> 66.646862 | E15: =ROUND('[1]Форма 2 ОДЮБ'!$AH$14,1) -> 22658.7 | F15: =ROUND('[9]СВ Т-ст'!$Q$10,1) -> 22658.6 | G15: =E15 -> 22658.7 | H15: =ROUND(F15-G15,1) -> -0.1
A16: ОГАУК "Дом искусств" | B16: ='[1]Форма 2 ДИ'!$AG$14 -> 13.7 | C16: ='[9]СВ Т-ст'!$F$14 -> 13.7 | D16: =F16/33998*100 -> 45.048807 | E16: ='[1]Форма 2 ДИ'!$AH$14 -> 15315.458 | F16: ='[9]СВ Т-ст'!$Q$14 -> 15315.693 | G16: =E16 -> 15315.458 | H16: =F16-G16 -> 0.23586077
A17: ОГАУК "ТОХМ" | B17: ='[1]Форма 2 ТОХМ'!$AG$14 -> 72.2 | C17: ='[9]СВ Т-ст'!$F$16 -> 69.7 | D17: =F17/33998*100 -> 59.39634 | E17: ='[1]Форма 2 ТОХМ'!$AH$14 -> 20178.536 | F17: ='[9]СВ Т-ст'!$Q$16 -> 20193.568 | G17: =E17 -> 20178.536 | H17: =F17-G17 -> 15.031575
A18: ОГАУК "Томский областной краеведческий музей им.М.Б. Шатилова" | B18: ='[1]Форма 2 ТОКМ'!$AG$14 -> 145.3 | C18: ='[9]СВ Т-ст'!$F$15 -> 145 | D18: =F18/33998*100 -> 52.350104 | E18: ='[1]Форма 2 ТОКМ'!$AH$14 -> 17653.39 | F18: ='[9]СВ Т-ст'!$Q$15 -> 17797.989 | G18: =E18 -> 17653.39 | H18: =F18-G18 -> 144.59897
A19: ОГАУК "ДНТ "Авангард" | B19: ='[1]Форма 2 Аванг'!$AG$14 -> 79 | C19: ='[9]СВ Т-ст'!$F$11 -> 79 | D19: =F19/33998*100 -> 68.469528 | E19: ='[1]Форма 2 Аванг'!$AH$14 -> 23278.349 | F19: ='[9]СВ Т-ст'!$Q$11 -> 23278.27 | G19: 23278.3 | H19: =F19-G19 -> -0.029957806
A20: ОГАУК "ЦТК" | B20: ='[1]Форма 2 ЦТК'!$AG$14 -> 9.8 | C20: ='[9]СВ Т-ст'!$F$13 -> 9.8 | D20: =F20/33998*100 -> 65.882727 | E20: ='[1]Форма 2 ЦТК'!$AH$14 -> 21510.23 | F20: ='[9]СВ Т-ст'!$Q$13 -> 22398.81 | G20: =E20 -> 21510.23 | H20: =F20-G20 -> 888.57941
A21: ОГАУК "РНД" | B21: ='[1]Форма 2 РНД'!$AG$14 -> 13.7 | C21: ='[9]СВ Т-ст'!$F$12 -> 13.8 | D21: =F21/33998*100 -> 55.58369 | E21: ='[1]Форма 2 РНД'!$AH$14 -> 18896.997 | F21: ='[9]СВ Т-ст'!$Q$12 -> 18897.343 | G21: =E21 -> 18896.997 | H21: =F21-G21 -> 0.34587515
A22: ОГАУК "ТОТК Скоморох" | B22: ='[1]Форма 2 Скоморох'!$AG$14 -> 61.4 | C22: ='[9]СВ Т-ст'!$F$20 -> 61.5 | D22: =F22/33998*100 -> 62.486937 | E22: 21227.3 | F22: ='[9]СВ Т-ст'!$Q$20 -> 21244.309 | G22: =E22 -> 21227.3 | H22: =F22-G22 -> 17.008943
A23: ='[2]Sheet1 (2)'!$P$45 -> ОГАУК "Театр драмы" | B23: ='[1]Форма 2 Драма'!$AG$14 -> 144.3 | C23: ='[9]СВ Т-ст'!$F$18 -> 140 | D23: =F23/33998*100 -> 77.686993 | E23: ='[1]Форма 2 Драма'!$AH$14 -> 24581.105 | F23: ='[9]СВ Т-ст'!$Q$18 -> 26412.024 | G23: =E23 -> 24581.105 | H23: =F23-G23 -> 1830.9192
A24: ОГАУК ТО ТЮЗ | B24: ='[1]Форма 2 ТЮЗ'!$AG$14 -> 114.1 | C24: ='[9]СВ Т-ст'!$F$19 -> 110 | D24: =F24/33998*100 -> 59.640318 | E24: ='[1]Форма 2 ТЮЗ'!$AH$14 -> 18386.467 | F24: ='[9]СВ Т-ст'!$Q$19 -> 20276.515 | G24: =E24 -> 18386.467 | H24: =F24-G24 -> 1890.0479
A25: ОГАУК "ТОГФ" | B25: ='[1]Форма 2 Филарм'!$AG$14 -> 134.6 | C25: ='[9]СВ Т-ст'!$F$21 -> 153 | D25: =F25/33998*100 -> 83.934676 | E25: ='[1]Форма 2 Филарм'!$AH$14 -> 28536.167 | F25: ='[9]СВ Т-ст'!$Q$21 -> 28536.111 | G25: =E25 -> 28536.167 | H25: =F25-G25 -> -0.055510069
A26: ОГАУК "Центр по охране памятников" | B26: ='[1]Форма 2 ЦОП'!$AG$14 -> 14.5 | C26: ='[9]СВ Т-ст'!$F$17 -> 14.5 | D26: =F26/33998*100 -> 117.57453 | E26: ='[1]Форма 2 ЦОП'!$AH$14 -> 39973.047 | F26: ='[9]СВ Т-ст'!$Q$17 -> 39972.989 | G26: 39973 | H26: =F26-G26 -> -0.011494253
A27: ОГКУ "ГАТО" | B27: ='[1]Форма 2 ГАТО'!$AG$14 -> 69 | C27: ='[9]СВ Т-ст'!$F$22 -> 68.9 | D27: =F27/33998*100 -> 66.358595 | E27: ='[1]Форма 2 ГАТО'!$AH$14 -> 22617.16 | F27: ='[9]СВ Т-ст'!$Q$22 -> 22560.595 | G27: =E27 -> 22617.16 | H27: =F27-G27 -> -56.564552
A28: ='[2]Sheet1 (2)'!$P$314 -> ОГКУ ЦДНИ ТО | B28: ='[1]Форма 2 ЦДНИ'!$AG$14 -> 38 | C28: ='[9]СВ Т-ст'!$F$23 -> 39.9 | D28: =F28/33998*100 -> 68.915303 | E28: ='[1]Форма 2 ЦДНИ'!$AH$14 -> 24904.37 | F28: ='[9]СВ Т-ст'!$Q$23 -> 23429.825 | G28: =E28 -> 24904.37 | H28: =F28-G28 -> -1474.5457
A29: ИТОГО ОГУ: | B29: =SUM(B14:B28) -> 1102.6 | C29: =SUM(C14:C28) -> 1111.8 | D29: =F29/33998*100 -> 67.000768 | E29: =(B14*E14+E15*B15+B16*E16+E17*B17+B18*E18+E19*B19+B20*E20+E21*B21+B22*E22+E23*B23+B24*E24+E25*B25+B26*E26+E27*B27+B28*E28)/B29 -> 22234.603 | F29: =(F14*C14+C15*F15+F16*C16+C17*F17+F18*C18+C19*F19+F20*C20+C21*F21+F22*C22+C23*F23+F24*C24+C25*F25+F26*C26+C27*F27+F28*C28)/C29 -> 22778.921 | G29: =(G14*B14+B15*G15+G16*B16+B17*G17+G18*B18+B19*G19+G20*B20+B21*G21+G22*B22+B23*G23+G24*B24+B25*G25+G26*B26+B27*G27+G28*B28)/B29 -> 22234.599 | H29: =F29-G29 -> 544.32218
A30: Александровский район
A31: ='[3]СЗП15 ф14 юр.л.'!$B$6 -> МБУ "Культурно - спортивный комплекс" | B31: ='[1]Форма 2 Александ'!$AG$16 -> 83.2 | C31: ='[9]СВ Т-ст'!$F$25 -> 74.8 | D31: =F31/33998*100 -> 77.015776 | E31: ='[1]Форма 2 Александ'!$AH$15 -> 25949.935 | F31: ='[9]СВ Т-ст'!$Q$27 -> 26183.824 | G31: =E31 -> 25949.935 | H31: =F31-G31 -> 233.88833
A32: Всего по муниципальному образованию "Александровский район" | B32: =SUM(B31:B31) -> 83.2 | C32: =SUM(C31:C31) -> 74.8 | D32: =F32/33998*100 -> 77.015776 | E32: =E31 -> 25949.935 | F32: =F31 -> 26183.824 | G32: =G31 -> 25949.935 | H32: =H31 -> 233.88833
A33: Бакчарский район
A34: ОГУ 1
A35: ОГУ 2
A36: Всего по ОГУ, подведомственным Департаменту
A37: ='[4]СВ Т-ст'!$C$38 -> Муниципальное казённое учреждение "Бакчарский краеведческий музей северного садоводства" | B37: 2.4 | C37: ='[9]СВ Т-ст'!$F$33 -> 2.5 | D37: =F37/33998*100 -> 47.728298 | E37: ='[1]Форма 2 Бакчар '!$AH$23 -> 14062.888 | F37: ='[9]СВ Т-ст'!$Q$33 -> 16226.667 | G37: =E37 -> 14062.888 | H37: =F37-G37 -> 2163.7784
A38: ='[4]СВ Т-ст'!$C$39 -> Муниципальное бюджетное учреждение культуры "Бакчарская межпоселенческая централизованная библиотечная система" | B38: 0 | C38: ='[9]СВ Т-ст'!$F$34 -> 14 | D38: =F38/33998*100 -> 73.302631 | E38: 0 | F38: ='[9]СВ Т-ст'!$Q$34 -> 24921.429 | G38: =E38 -> 0 | H38: =F38-G38 -> 24921.429
A39: Муниципальное казённое учреждение культуры "Бакчарская центральная районная библиотека" | B39: 18.8 | C39: ='[9]СВ Т-ст'!$F$35 -> 4.2 | D39: =F39/33998*100 -> 84.061901 | E39: ='[1]Форма 2 Бакчар '!$AH$17 -> 23412.937 | F39: ='[9]СВ Т-ст'!$Q$35 -> 28579.365 | G39: =E39 -> 23412.937 | H39: =F39-G39 -> 5166.4276
A40: Муниципальное казённое учреждение "Плотниковская центральная библиотека" | B40: 0.8 | C40: ='[9]СВ Т-ст'!$F$36 -> 0.2 | D40: =F40/33998*100 -> 37.624762 | E40: ='[1]Форма 2 Бакчар '!$AH$18 -> 9948.9796 | F40: ='[9]СВ Т-ст'!$Q$36 -> 12791.667 | G40: =E40 -> 9948.9796 | H40: =F40-G40 -> 2842.6871
A41: Муниципальное казённое учреждение "Вавиловская центральная библиотека" | B41: 1 | C41: ='[9]СВ Т-ст'!$F$37 -> 0.2 | D41: =F41/33998*100 -> 74.269075 | E41: ='[1]Форма 2 Бакчар '!$AH$21 -> 12899.66 | F41: ='[9]СВ Т-ст'!$Q$37 -> 25250 | G41: =E41 -> 12899.66 | H41: =F41-G41 -> 12350.34
A42: Муниципальное казённое учреждение "Парбигская центральная библиотека" | B42: 2.9 | C42: ='[9]СВ Т-ст'!$F$38 -> 0.7 | D42: =F42/33998*100 -> 92.127268 | E42: ='[1]Форма 2 Бакчар '!$AH$22 -> 24731.725 | F42: ='[9]СВ Т-ст'!$Q$38 -> 31321.429 | G42: =E42 -> 24731.725 | H42: =F42-G42 -> 6589.7036
A43: Муниципальное казённое учреждение "Высокоярская центральная библиотека" | B43: 2.7 | C43: ='[9]СВ Т-ст'!$F$39 -> 0.7 | D43: =F43/33998*100 -> 71.432773 | E43: ='[1]Форма 2 Бакчар '!$AH$19 -> 16955.748 | F43: ='[9]СВ Т-ст'!$Q$39 -> 24285.714 | G43: =E43 -> 16955.748 | H43: =F43-G43 -> 7329.9658
...

Sheet приложение 2 культура
D1: Приложение № 2
B2: к письму от _____________________№_______________
A4: Мониторинг целевых показателей, установленных в плане мероприятий "дорожной карте"
A5: за 2015 год
A7: Наименование МУ | B7: Среднесписочная численность, чел. | C7: ФОТ, тыс.руб* | D7: Доля ФОТ АУП и вспомогательного персонала в общем ФОТ, %
A8: 1 | B8: 2 | C8: 3 | D8: 4
A9: Работники учреждений культуры
A10: Александровский
A11: ='[9]СВ Т-ст'!$C$27 -> Муниципальное бюджетное учреждение "Культурно-спортивный комплекс" | D11: =(C14+C16)/C12 -> 0.2368121
A12: ФОТ, всего: | B12: =SUM(B14:B16) -> 74.8 | C12: =SUM(C14:C16) -> 23502.6
A13: в том числе по группам персонала:
A14: Административно-управленческий персонал | B14: 1 | C14: 618.7
A15: Основной персонал | B15: 43.1 | C15: 17936.9
A16: Прочий персонал (вспомогательный) | B16: 30.7 | C16: 4947
A17: Бакчарский
A18: ='[9]СВ Т-ст'!$C$33 -> Муниципальное казённое учреждение "Бакчарский краеведческий музей северного садоводства" | D18: =(C21+C23)/C19 -> 0.63578472
A19: ФОТ , всего: | B19: =SUM(B21:B23) -> 2.5 | C19: =SUM(C21:C23) -> 486.8
A20: в том числе по группам персонала:
A21: Административно-управленческий персонал | B21: 1 | C21: 187
A22: Основной персонал | B22: 0.5 | C22: 177.3
A23: Прочий персонал (вспомогательный) | B23: 1 | C23: 122.5
A24: ='[9]СВ Т-ст'!$C$34 -> Муниципальное бюджетное учреждение культуры "Бакчарская межпоселенческая централизованная библиотечная система" | D24: =(C27+C29)/C25 -> 0.10432789
A25: ФОТ , всего: | B25: =SUM(B27:B29) -> 14 | C25: =SUM(C27:C29) -> 4186.8
A26: в том числе по группам персонала:
A27: Административно-управленческий персонал | B27: 0.8 | C27: 316
A28: Основной персонал | B28: 12.4 | C28: 3750
A29: Прочий персонал (вспомогательный) | B29: 0.8 | C29: 120.8
A30: ='[9]СВ Т-ст'!$C$35 -> Муниципальное казённое учреждение культуры "Бакчарская центральная районная библиотека" | D30: =(C33+C35)/C31 -> 0.16425993
A31: ФОТ, всего: | B31: =SUM(B33:B35) -> 4.2 | C31: =SUM(C33:C35) -> 1440.4
A32: в том числе по группам персонала:
A33: Административно-управленческий персонал | B33: 0.2 | C33: 125.6
A34: Основной персонал | B34: 3.3 | C34: 1203.8
A35: Прочий персонал (вспомогательный) | B35: 0.7 | C35: 111
A36: ='[9]СВ Т-ст'!$C$36 -> Муниципальное казённое учреждение "Плотниковская центральная библиотека" | D36: =(C39+C41)/C37 -> 1
A37: ФОТ, всего: | B37: =SUM(B39:B41) -> 0.2 | C37: =SUM(C39:C41) -> 30.7
A38: в том числе по группам персонала:
A39: Административно-управленческий персонал | B39: 0.2 | C39: 30.7
A40: Основной персонал | B40: 0 | C40: 0
A41: Прочий персонал (вспомогательный) | B41: 0 | C41: 0
A42: ='[9]СВ Т-ст'!$C$37 -> Муниципальное казённое учреждение "Вавиловская центральная библиотека" | D42: =(C45+C47)/C43 -> 1
...

Sheet приложение 3 культура
C1: Приложение № 3
B2: к письму от _____________________№_______________
A4: Мониторинг целевых показателей, установленных в плане мероприятий "дорожной карте"
A5: за 2015 год
A7: Наименование МУ | B7: Среднемесячная заработная плата по группам персонала, руб. | C7: Отношение среднемесячной заработной платы основного персонала к среднемесячной заработной плате вспомогательного персонала учреждений, раз
A8: 1 | B8: 2 | C8: 3
A9: Работники культуры
A10: Александровский
A11: ='приложение 2 культура'!A11 -> Муниципальное бюджетное учреждение "Культурно-спортивный комплекс" | B11: ='приложение 2 культура'!C12/'приложение 2 культура'!B12/12*1000 -> 26183.824 | C11: =B13/B14 -> 2.5826561
A12: Административно-управленческий персонал | B12: ='приложение 2 культура'!C14/'приложение 2 культура'!B14/12*1000 -> 51558.333
A13: Основной персонал | B13: ='приложение 2 культура'!C15/'приложение 2 культура'!B15/12*1000 -> 34680.781
A14: Вспомогательный персонал | B14: ='приложение 2 культура'!C16/'приложение 2 культура'!B16/12*1000 -> 13428.339
A15: Бакчарский
A16: ='приложение 2 культура'!A18 -> Муниципальное казённое учреждение "Бакчарский краеведческий музей северного садоводства" | B16: ='приложение 2 культура'!C19/'приложение 2 культура'!B19/12*1000 -> 16226.667 | C16: =B18/B19 -> 2.8946939
A17: Административно-управленческий персонал | B17: ='приложение 2 культура'!C21/'приложение 2 культура'!B21/12*1000 -> 15583.333
A18: Основной персонал | B18: ='приложение 2 культура'!C22/'приложение 2 культура'!B22/12*1000 -> 29550
A19: Вспомогательный персонал | B19: ='приложение 2 культура'!C23/'приложение 2 культура'!B23/12*1000 -> 10208.333
A20: ='приложение 2 культура'!A24 -> Муниципальное бюджетное учреждение культуры "Бакчарская межпоселенческая централизованная библиотечная система" | B20: ='приложение 2 культура'!C25/'приложение 2 культура'!B25/12*1000 -> 24921.429 | C20: =B22/B23 -> 2.0027772
A21: Административно-управленческий персонал | B21: ='приложение 2 культура'!C27/'приложение 2 культура'!B27/12*1000 -> 32916.667
A22: Основной персонал | B22: ='приложение 2 культура'!C28/'приложение 2 культура'!B28/12*1000 -> 25201.613
A23: Вспомогательный персонал | B23: ='приложение 2 культура'!C29/'приложение 2 культура'!B29/12*1000 -> 12583.333
A24: ='приложение 2 культура'!A30 -> Муниципальное казённое учреждение культуры "Бакчарская центральная районная библиотека" | B24: ='приложение 2 культура'!C31/'приложение 2 культура'!B31/12*1000 -> 28579.365 | C24: =B26/B27 -> 2.3004641
A25: Административно-управленческий персонал | B25: ='приложение 2 культура'!C33/'приложение 2 культура'!B33/12*1000 -> 52333.333
A26: Основной персонал | B26: ='приложение 2 культура'!C34/'приложение 2 культура'!B34/12*1000 -> 30398.99
A27: Вспомогательный персонал | B27: ='приложение 2 культура'!C35/'приложение 2 культура'!B35/12*1000 -> 13214.286
A28: ='приложение 2 культура'!A36 -> Муниципальное казённое учреждение "Плотниковская центральная библиотека" | B28: ='приложение 2 культура'!C37/'приложение 2 культура'!B37/12*1000 -> 12791.667 | C28: =B30/B31 -> #DIV/0!
A29: Административно-управленческий персонал | B29: ='приложение 2 культура'!C39/'приложение 2 культура'!B39/12*1000 -> 12791.667
A30: Основной персонал | B30: ='приложение 2 культура'!C40/'приложение 2 культура'!B40/12*1000 -> #DIV/0!
A31: Вспомогательный персонал | B31: ='приложение 2 культура'!C41/'приложение 2 культура'!B41/12*1000 -> #DIV/0!
A32: ='приложение 2 культура'!A42 -> Муниципальное казённое учреждение "Вавиловская центральная библиотека" | B32: ='приложение 2 культура'!C43/'приложение 2 культура'!B43/12*1000 -> 25250 | C32: =B34/B35 -> #DIV/0!
A33: Административно-управленческий персонал | B33: ='приложение 2 культура'!C45/'приложение 2 культура'!B45/12*1000 -> 25250
A34: Основной персонал | B34: ='приложение 2 культура'!C46/'приложение 2 культура'!B46/12*1000 -> #DIV/0!
A35: Вспомогательный персонал | B35: ='приложение 2 культура'!C47/'приложение 2 культура'!B47/12*1000 -> #DIV/0!
A36: ='приложение 2 культура'!A48 -> Муниципальное казённое учреждение "Парбигская центральная библиотека" | B36: ='приложение 2 культура'!C49/'приложение 2 культура'!B49/12*1000 -> 31321.429 | C36: =B38/B39 -> #DIV/0!
A37: Административно-управленческий персонал | B37: ='приложение 2 культура'!C51/'приложение 2 культура'!B51/12*1000 -> 30458.333
A38: Основной персонал | B38: ='приложение 2 культура'!C52/'приложение 2 культура'!B52/12*1000 -> 31666.667
A39: Вспомогательный персонал | B39: ='приложение 2 культура'!C53/'приложение 2 культура'!B53/12*1000 -> #DIV/0!
A40: ='приложение 2 культура'!A54 -> Муниципальное казённое учреждение "Высокоярская центральная библиотека" | B40: ='приложение 2 культура'!C55/'приложение 2 культура'!B55/12*1000 -> 24285.714 | C40: =B42/B43 -> 2.8528037
A41: Административно-управленческий персонал | B41: ='приложение 2 культура'!C57/'приложение 2 культура'!B57/12*1000 -> 29666.667
A42: Основной персонал | B42: ='приложение 2 культура'!C58/'приложение 2 культура'!B58/12*1000 -> 25437.5
...

Sheet приложение 1 дпо
G1: Прложение 4
G2: к письму от _____________________№___________
A4: Мониторинг целевых показателей, установленных в плане мероприятий "дорожной карте" за 2015 год
A7: Наименование МУ | B7: Планируемая среднесписочная численность отдельной категории работников государственных и муниципальных учреждений, чел. | C7: Фактическая среднесписочная численность отдельной категории работников государственных и муниципальных учреждений на отчетный период, чел. | D7: Отношение средней заработной платы работников соответствующей категории к средней заработной плате в экономике Томской области, % (33 998 руб.) | E7: Средняя заработная плата отдельной категории работников списочного состава, руб. | G7: Плановое значение средней заработной платы отдельной категории работников на год, руб. | H7: Отклонение факта за отчетный период от планового значения на год, руб.
E8: план на отчетный период** | F8: факт за отчетный период
A9: 1 | B9: 2 | C9: 3 | D9: 4 | E9: 5 | F9: 6 | G9: 7 | H9: 8=6-7
A10: Педагогические работники дополнительного образования детей
A11: Александровский район
A12: ='[5]Итого УК расш (о)'!$C$18 -> Муниципальное бюджетное образовательное учреждение дополнительного образования детей "Детская школа искусств" | B12: ='[6]Ф2 Ал нояб'!$AD$12 -> 8 | C12: ='[7]Итого УК расш (о)'!$F$16 -> 8 | D12: =F12/33998*100 -> 124.60598 | E12: ='[6]Ф2 Ал нояб'!$AE$12 -> 42363.542 | F12: ='[7]Итого УК расш (о)'!$Q$16 -> 42363.542 | G12: =E12 -> 42363.542 | H12: =F12-G12 -> 0
A13: Всего по муниципальному образованию "Александровский район" | B13: =SUM(B12:B12) -> 8 | C13: =SUM(C12:C12) -> 8 | D13: =F13/33988*100 -> 124.64264 | E13: =E12 -> 42363.542 | F13: =F12 -> 42363.542 | G13: =G12 -> 42363.542 | H13: =F13-G13 -> 0
A14: Зырянский район
A15: ОГУ 1
A16: ОГУ 2
A17: Всего по ОГУ, подведомственным Департаменту
A18: ='[5]Итого УК расш (о)'!$C$24 -> Муниципальное автономное образовательное учреждение дополнительного образования детей «Зырянская детская школа искусств» | B18: ='[6]Ф2 Зыр нояб'!$AD$12 -> 12.7 | C18: ='[7]Итого УК расш (о)'!$F$22 -> 12.5 | D18: =F18/33998*100 -> 75.094613 | E18: ='[6]Ф2 Зыр нояб'!$AE$12 -> 25647.638 | F18: ='[7]Итого УК расш (о)'!$Q$22 -> 25530.667 | G18: =E18 -> 25647.638 | H18: =F18-G18 -> -116.97113
A19: Всего по муниципальному образованию "Зырянский район" | B19: =SUM(B18:B18) -> 12.7 | C19: =SUM(C18:C18) -> 12.5 | D19: =F19/33998*100 -> 75.094613 | E19: =E18 -> 25647.638 | F19: =F18 -> 25530.667 | G19: =G18 -> 25647.638 | H19: =F19-G19 -> -116.97113
A20: Каргасокский район
A21: ='[5]Итого УК расш (о)'!$C$27 -> Муниципальное бюджетное учреждение дополнительного образования "Каргасокская детская школа искусств" | B21: ='[6]Ф2 Карг нояб'!$AD$12 -> 11.5 | C21: ='[7]Итого УК расш (о)'!$F$25 -> 11.6 | D21: =F21/33998*100 -> 102.49293 | E21: ='[6]Ф2 Карг нояб'!$AE$12 -> 34844.982 | F21: ='[7]Итого УК расш (о)'!$Q$25 -> 34845.546 | G21: =E21 -> 34844.982 | H21: =F21-G21 -> 0.56389816
A22: Всего по муниципальному образованию "Каргасокский район" | B22: =SUM(B21:B21) -> 11.5 | C22: =SUM(C21:C21) -> 11.6 | D22: =F22/33998*100 -> 102.49293 | E22: =SUM(E21:E21) -> 34844.982 | F22: =SUM(F21:F21) -> 34845.546 | G22: =SUM(G21:G21) -> 34844.982 | H22: =F22-G22 -> 0.56389816
A23: Кожевниковский район
A24: ='[5]Итого УК расш (о)'!$C$30 -> Муниципальное бюджетное образовательное учреждение дополнительного образования детей «Кожевниковская детская школа искусств» | B24: ='[6]Ф2 Кож нояб'!$AD$12 -> 16 | C24: ='[7]Итого УК расш (о)'!$F$28 -> 16.5 | D24: =F24/33998*100 -> 69.059321 | E24: ='[6]Ф2 Кож нояб'!$AE$12 -> 21225.924 | F24: ='[7]Итого УК расш (о)'!$Q$28 -> 23478.788 | G24: =E24 -> 21225.924 | H24: =F24-G24 -> 2252.8638
A25: Всего по муниципальному образованию "Кожевниковский район" | B25: =B24 -> 16 | C25: =C24 -> 16.5 | D25: =F25/33998*100 -> 69.059321 | E25: =E24 -> 21225.924 | F25: =F24 -> 23478.788 | G25: =G24 -> 21225.924 | H25: =F25-G25 -> 2252.8638
A26: Молчановский район
A27: ОГУ 1
A28: ОГУ 2
A29: Всего по ОГУ, подведомственным Департаменту
A30: ='[5]Итого УК расш (о)'!$C$33 -> Муниципальное бюджетное образовательное учреждение дополнительного образования детей "Молчановская детская музыкальная школа" | B30: ='[6]Ф2 Молч нояб'!$AD$12 -> 10.1 | C30: ='[7]Итого УК расш (о)'!$F$31 -> 10.1 | D30: =F30/33998*100 -> 101.35764 | E30: ='[6]Ф2 Молч нояб'!$AE$12 -> 33127.888 | F30: ='[7]Итого УК расш (о)'!$Q$31 -> 34459.571 | G30: =E30 -> 33127.888 | H30: =F30-G30 -> 1331.6832
A31: Всего по муниципальному образованию "Молчановский район" | B31: =SUM(B30:B30) -> 10.1 | C31: =SUM(C30:C30) -> 10.1 | D31: =F31/33998*100 -> 101.35764 | E31: =E30 -> 33127.888 | F31: =F30 -> 34459.571 | G31: =G30 -> 33127.888 | H31: =F31-G31 -> 1331.6832
A32: Парабельский район
A33: ='[5]Итого УК расш (о)'!$C$36 -> Муниципальное бюджетное образовательное учреждение дополнительного образования детей "Детская школа искусств им. Г.Д. Заволокина" | B33: ='[6]Ф2 Параб нояб'!$AD$12 -> 8.7 | C33: ='[7]Итого УК расш (о)'!$F$34 -> 8.8 | D33: =F33/33998*100 -> 101.98349 | E33: ='[6]Ф2 Параб нояб'!$AE$12 -> 31271.073 | F33: ='[7]Итого УК расш (о)'!$Q$34 -> 34672.348 | G33: =E33 -> 31271.073 | H33: =F33-G33 -> 3401.2757
A34: Всего по муниципальному образованию "Парабельский район" | B34: =SUM(B33:B33) -> 8.7 | C34: =SUM(C33:C33) -> 8.8 | D34: =F34/33998*100 -> 101.98349 | E34: =E33 -> 31271.073 | F34: =F33 -> 34672.348 | G34: =G33 -> 31271.073 | H34: =F34-G34 -> 3401.2757
A35: Первомайский район
A36: ОГУ 1
A37: ОГУ 2
A38: Всего по ОГУ, подведомственным Департаменту
A39: ='[5]Итого УК расш (о)'!$C$40 -> Муниципальное автономное образовательное учреждение дополнительного образования детей «Первомайская детская школа искусств" | B39: ='[6]Ф2 Перв нояб'!$AD$14 -> 7.5 | C39: ='[7]Итого УК расш (о)'!$F$40 -> 7 | D39: =F39/33998*100 -> 94.735965 | E39: ='[6]Ф2 Перв нояб'!$AE$14 -> 31550.805 | F39: ='[7]Итого УК расш (о)'!$Q$40 -> 32208.333 | G39: =E39 -> 31550.805 | H39: =F39-G39 -> 657.52834
A40: ='[5]Итого УК расш (о)'!$C$41 -> Муниципальное автономное образовательное учреждение дополнительного образования детей "Комсомольская детская музыкальная школа" | B40: ='[6]Ф2 Перв нояб'!$AD$15 -> 2 | C40: ='[7]Итого УК расш (о)'!$F$41 -> 2 | D40: =F40/33998*100 -> 95.973783 | E40: ='[6]Ф2 Перв нояб'!$AE$15 -> 35119.048 | F40: ='[7]Итого УК расш (о)'!$Q$41 -> 32629.167 | G40: =E40 -> 35119.048 | H40: =F40-G40 -> -2489.881
A41: Всего по муниципальному образованию "Первомайский район" | B41: =SUM(B39:B40) -> 9.5 | C41: =SUM(C39:C40) -> 9 | D41: =F41/33998*100 -> 95.011036 | E41: =(E39*B39+B40*E40)/B41 -> 32302.014 | F41: =(C39*F39+C40*F40)/C41 -> 32301.852 | G41: =(G39*B39+B40*G40)/B41 -> 32302.014 | H41: =F41-G41 -> -0.16211163
A42: Тегульдетский район
A43: ='[5]Итого УК расш (о)'!$C$44 -> Муниципальное казённое образовательное учреждение дополнительного образования детей Тегульдетская детская школа искусств | B43: ='[6]Ф2 Тег нояб'!$AD$13 -> 3 | C43: ='[7]Свод Образов'!$G$22 -> 3.3 | D43: =F43/33998*100 -> 116.85922 | E43: ='[6]Ф2 Тег нояб'!$AE$12 -> 35833.333 | F43: ='[7]Свод Образов'!$GY$22 -> 39729.798 | G43: =E43 -> 35833.333 | H43: =F43-G43 -> 3896.4646
...

Sheet приложение 2 ДПО
D1: Приложение № 5
B2: к письму от _____________________№________________
A4: Мониторинг целевых показателей, установленных в плане мероприятий "дорожной карте"
A5: за 2015 год
A7: Наименование МУ | B7: Среднесписочная численность, чел. | C7: ФОТ, тыс.руб* | D7: Доля ФОТ АУП и вспомогательного персонала в общем ФОТ, %
A8: 1 | B8: 2 | C8: 3 | D8: 4
A9: Муниципальное образование 2
A10: МУ 1
A11: Административно-управленческий персонал
A12: Основной персонал
A13: Прочий персонал
A14: МУ 2
A15: Административно-управленческий персонал
A16: Основной персонал
A17: Прочий персонал
A18: Итого по муниципальному образованию 2
A19: Административно-управленческий персонал
A20: Основной персонал
... A24: Александровский район
A25: ='[7]Итого УК расш (о)'!$C$18 -> Муниципальное бюджетное образовательное учреждение дополнительного образования детей "Детская школа искусств" | D25: =(C28+C30)/C26 -> 0.14632662
A26: ФОТ , всего: | B26: =B28+B29+B30 -> 9 | C26: =SUM(C28:C30) -> 4764
A27: в том числе по группам персонала:
A28: Административно-управленческий персонал | B28: ='[10]Прил 2 ДОП'!$C$6 -> 1 | C28: ='[10]Прил 2 ДОП'!$D$6 -> 697.1
A29: Основной персонал | B29: ='[10]Прил 2 ДОП'!$C$7 -> 8 | C29: ='[10]Прил 2 ДОП'!$D$7 -> 4066.9
A30: Прочий персонал (вспомогательный) | B30: ='[10]Прил 2 ДОП'!$C$8 -> 0 | C30: 0
A31: Зырянский район
A32: ='[7]Итого УК расш (о)'!$C$24 -> Муниципальное автономное образовательное учреждение дополнительного образования детей «Зырянская детская школа искусств» | D32: =(C35+C37)/C33 -> 0.22411767
A33: ФОТ , всего: | B33: =B35+B37+B36 -> 17.5 | C33: =SUM(C35:C37) -> 4935.8
A34: в том числе по группам персонала:
A35: Административно-управленческий персонал | B35: ='[10]Прил 2 ДОП'!$C$10 -> 1 | C35: ='[10]Прил 2 ДОП'!$D$10 -> 582.1
A36: Основной персонал | B36: ='[10]Прил 2 ДОП'!$C$11 -> 12.5 | C36: ='[10]Прил 2 ДОП'!$D$11 -> 3829.6
A37: Прочий персонал (вспомогательный) | B37: ='[10]Прил 2 ДОП'!$C$12 -> 4 | C37: ='[10]Прил 2 ДОП'!$D$12 -> 524.1
A38: Каргасокский район
A39: Муниципальное бюджетное учреждение дополнительного образования "Каргасокская детская школа искусств" | D39: =(C42+C44)/C40 -> 0.31946685
A40: ФОТ , всего: | B40: =B42+B43+B44 -> 17.6 | C40: =SUM(C42:C44) -> 7127.5
A41: в том числе по группам персонала:
A42: Административно-управленческий персонал | B42: ='[10]Прил 2 ДОП'!$C$14 -> 2 | C42: ='[10]Прил 2 ДОП'!$D$14 -> 1431.6
A43: Основной персонал | B43: ='[10]Прил 2 ДОП'!$C$15 -> 11.6 | C43: ='[10]Прил 2 ДОП'!$D$15 -> 4850.5
A44: Прочий персонал (вспомогательный) | B44: ='[10]Прил 2 ДОП'!$C$16 -> 4 | C44: ='[10]Прил 2 ДОП'!$D$16 -> 845.4
A45: Кожевниковский район
...

Sheet приложение 3 ДПО
C1: Приложение № 6
B2: к письму от _____________________№________________
A4: Мониторинг целевых показателей, установленных в плане мероприятий "дорожной карте" за 2015 год
A7: Наименование МУ | B7: Среднемесячная заработная плата по группам персонала, руб. | C7: Отношение среднемесячной заработной платы основного персонала к среднемесячной заработной плате вспомогательного персонала учреждений, раз
A8: 1 | B8: 2 | C8: 3
A9: Работники учреждений дополнительного образования детей
A10: Александровский район
A11: МБОУ ДОД "ДШИ" | B11: ='приложение 2 ДПО'!C26/'приложение 2 ДПО'!B26/12*1000 -> 44111.111 | C11: =B13/B14 -> #DIV/0!
A12: Административно-управленческий персонал | B12: ='приложение 2 ДПО'!C28/'приложение 2 ДПО'!B28/12*1000 -> 58091.667
A13: Основной персонал | B13: ='приложение 2 ДПО'!C29/'приложение 2 ДПО'!B29/12*1000 -> 42363.542
A14: Вспомогательный персонал | B14: ='приложение 2 ДПО'!C30/'приложение 2 ДПО'!B30/12*1000 -> #DIV/0!
A15: Зырянский район
A16: МАБУ ДОД "Зырянская ДШИ" | B16: ='приложение 2 ДПО'!C33/'приложение 2 ДПО'!B33/12*1000 -> 23503.81 | C16: =B18/B19 -> 2.3382408
A17: Административно-управленческий персонал | B17: ='приложение 2 ДПО'!C35/'приложение 2 ДПО'!B35/12*1000 -> 48508.333
A18: Основной персонал | B18: ='приложение 2 ДПО'!C36/'приложение 2 ДПО'!B36/12*1000 -> 25530.667
A19: Вспомогательный персонал | B19: ='приложение 2 ДПО'!C37/'приложение 2 ДПО'!B37/12*1000 -> 10918.75
A20: Каргасокский район
A21: Муниципальное бюджетное учреждение дополнительного образования "Каргасокская детская школа искусств" | B21: ='приложение 2 ДПО'!C40/'приложение 2 ДПО'!B40/12*1000 -> 33747.633 | C21: =B23/B24 -> 1.9784554
A22: Административно-управленческий персонал | B22: ='приложение 2 ДПО'!C42/'приложение 2 ДПО'!B42/12*1000 -> 59650
A23: Основной персонал | B23: ='приложение 2 ДПО'!C43/'приложение 2 ДПО'!B43/12*1000 -> 34845.546
A24: Вспомогательный персонал | B24: ='приложение 2 ДПО'!C44/'приложение 2 ДПО'!B44/12*1000 -> 17612.5
A25: Кожевниковский район
A26: МБОУ ДОД "Кожевниковская ДШИ" | B26: ='приложение 2 ДПО'!C47/'приложение 2 ДПО'!B47/12*1000 -> 17729.968 | C26: =B28/B29 -> 2.7987246
A27: Административно-управленческий персонал | B27: ='приложение 2 ДПО'!C49/'приложение 2 ДПО'!B49/12*1000 -> 33362.745
A28: Основной персонал | B28: ='приложение 2 ДПО'!C50/'приложение 2 ДПО'!B50/12*1000 -> 23478.788
A29: Вспомогательный персонал | B29: ='приложение 2 ДПО'!C51/'приложение 2 ДПО'!B51/12*1000 -> 8389.1026
A30: Молчановский район
A31: МБОУ ДОД "Молчановская ДМШ" | B31: ='приложение 2 ДПО'!C54/'приложение 2 ДПО'!B54/12*1000 -> 30019.575 | C31: =B33/B34 -> 2.6939078
A32: Административно-управленческий персонал | B32: ='приложение 2 ДПО'!C56/'приложение 2 ДПО'!B56/12*1000 -> 50641.667
A33: Основной персонал | B33: ='приложение 2 ДПО'!C57/'приложение 2 ДПО'!B57/12*1000 -> 34459.571
A34: Вспомогательный персонал | B34: ='приложение 2 ДПО'!C58/'приложение 2 ДПО'!B58/12*1000 -> 12791.667
A35: Парабельский район
A36: МБОУ ДШИ им.Г.Д.Заволокина | B36: ='приложение 2 ДПО'!C61/'приложение 2 ДПО'!B61/12*1000 -> 27044.177 | C36: =B38/B39 -> 2.9493956
A37: Административно-управленческий персонал | B37: ='приложение 2 ДПО'!C63/'приложение 2 ДПО'!B63/12*1000 -> 37816.667
A38: Основной персонал | B38: ='приложение 2 ДПО'!C64/'приложение 2 ДПО'!B64/12*1000 -> 34672.348
A39: Вспомогательный персонал | B39: ='приложение 2 ДПО'!C65/'приложение 2 ДПО'!B65/12*1000 -> 11755.747
A40: Первомайский район
A41: МАОУ ДПО "Первомайская детская школа искусств" | B41: ='приложение 2 ДПО'!C68/'приложение 2 ДПО'!B68/12*1000 -> 23715.333 | C41: =B43/B44 -> 4.252445
A42: Административно-управленческий персонал | B42: ='приложение 2 ДПО'!C70/'приложение 2 ДПО'!B70/12*1000 -> 36900
A43: Основной персонал | B43: ='приложение 2 ДПО'!C71/'приложение 2 ДПО'!B71/12*1000 -> 32208.333
...

Sheet спо  приложение 1
G1: Приложение № 7
F2: к письму от ______________________№___________________________
A4: Мониторинг целевых показателей, установленных в плане мероприятий "дорожной карте" за 2015 год
A7: Наименование ОГОАУ | B7: Планируемая среднесписочная численность отдельной категории работников государственных и муниципальных учреждений, чел. | C7: Фактическая среднесписочная численность отдельной категории работников государственных и муниципальных учреждений на отчетный период, чел. | D7: Отношение средней заработной платы работников соответствующей категории к средней заработной плате в экономике Томской области, %* | E7: Средняя заработная плата отдельной категории работников списочного состава, руб. | G7: Плановое значение средней заработной платы отдельной категории работников на год, руб. | H7: Отклонение факта за отчетный период от планового значения на год, руб.
E8: план на отчетный период** | F8: факт за отчетный период
A9: 1 | B9: 2 | C9: 3 | D9: 4 | E9: 5 | F9: 6 | G9: 7 | H9: 8=6-7
A10: Преподаватели и мастера производственного обучения образовательных учреждений начального и среднего профессионального образования
A11: Областное государственное автономное профессиональное образовательное учреждение "Губернаторский колледж социально - культурных технологий и инноваций" | B11: 39 | C11: 39 | D11: =F11/33998*100 -> 78.768457 | E11: ='[8]Ф2 ГК нояб'!$AD$12 -> 26779.553 | F11: 26779.7 | G11: =E11 -> 26779.553 | H11: =F11-G11 -> 0.14740973
A12: ='[5]Итого УК расш (о)'!$C$9 -> Областное государственное образовательное автономное учреждение среднего профессионального образования «Томский музыкальный колледж имени Э.В. Денисова» | B12: 61 | C12: 61 | D12: =F12/33998*100 -> 76.889817 | E12: ='[8]Ф2 ТМК нояб'!$AD$12 -> 26141.035 | F12: 26141 | G12: =E12 -> 26141.035 | H12: =F12-G12 -> -0.035184566
A13: Всего по СПО: | B13: =SUM(B11:B12) -> 100 | C13: =SUM(C11:C12) -> 100 | D13: =F13/33998*100 -> 77.622487 | E13: =(E11*B11+B12*E12)/B13 -> 26390.057 | F13: =(F11*C11+C12*F12)/C13 -> 26390.093 | G13: =(G11*B11+B12*G12)/B13 -> 26390.057 | H13: =F13-G13 -> 0.036027211
A14: *Прогнозируемая средняя заработная плата по Томской области на 2015 год составляет 33 998 рублей
A15: **В соответствии с показателями, установленными в Финансовом обеспечении мероприятий региональной "дорожной карты" субъекта Российской Федерации в части повышения заработной платы за отчетный период

Sheet приложение 2 спо
D1: Приложение № 8
B2: к письму от ______________________№___________________________
A4: Мониторинг целевых показателей, установленных в плане мероприятий "дорожной карте"
A5: за 2015 год
A7: Наименование ОГОАУ | B7: Среднесписочная численность, чел. | C7: ФОТ, тыс.руб* | D7: Доля ФОТ АУП и вспомогательного персонала в общем ФОТ, %
A8: 1 | B8: 2 | C8: 3 | D8: 4
A9: Преподаватели и мастера производственного обучения образовательных учреждений начального и среднего профессионального образования
A10: Областное государственное автономное профессиональное образовательное учреждение "Губернаторский колледж социально - культурных технологий и инноваций" | D10: =(C13+C15)/C11 -> 0.44345318
A11: ФОТ , всего: | B11: =SUM(B13:B15) -> 78.9 | C11: =SUM(C13:C15) -> 27215.5
A12: в том числе по группам персонала:
A13: Административно-управленческий персонал | B13: 4 | C13: 3730.2
A14: Основной персонал | B14: 46 | C14: 15146.7
A15: Прочий персонал (вспомогательный) | B15: 28.9 | C15: 8338.6
A16: ='[5]Итого УК расш (о)'!$C$9 -> Областное государственное образовательное автономное учреждение среднего профессионального образования «Томский музыкальный колледж имени Э.В. Денисова» | D16: =(C19+C21)/C17 -> 0.21886473
A17: ФОТ , всего: | B17: =SUM(B19:B21) -> 101 | C17: =SUM(C19:C21) -> 27917.7
A18: в том числе по группам персонала:
A19: Административно-управленческий персонал | B19: 4 | C19: 2282.2
A20: Основной персонал | B20: 71 | C20: 21807.5
A21: Прочий персонал (вспомогательный) | B21: 26 | C21: 3828
A22: ИТОГО СПО: | D22: =(C25+C27)/C23 -> 0.32972873
A23: ФОТ , всего: | B23: =SUM(B25:B27) -> 179.9 | C23: =SUM(C25:C27) -> 55133.2
A24: в том числе по группам персонала:
A25: Административно-управленческий персонал | B25: =B19+B13 -> 8 | C25: =C19+C13 -> 6012.4
A26: Основной персонал | B26: =B20+B14 -> 117 | C26: =C20+C14 -> 36954.2
A27: Прочий персонал (вспомогательный) | B27: =B21+B15 -> 54.9 | C27: =C21+C15 -> 12166.6
A28: *Фонд оплаты труда с учетом отчислений во внебюджетные фонды и вознаграждение за работу по договорам гражданско-правового характера, заключенным работником списочного состава со своим учреждением

Sheet приложение 3 спо
C1: Приложение № 9
B2: к письму от ______________________№___________________________
A4: Мониторинг целевых показателей, установленных в плане мероприятий "дорожной карте"
A5: за 2015 год
A7: Наименование ОГОАУ | B7: Среднемесячная заработная плата по группам персонала, руб. | C7: Отношение среднемесячной заработной платы основного персонала к среднемесячной заработной плате вспомогательного персонала учреждений, раз
A8: 1 | B8: 2 | C8: 3
A9: Преподаватели и мастера производственного обучения образовательных учреждений начального и среднего профессионального образования
A10: Областное государственное автономное профессиональное образовательное учреждение "Губернаторский колледж социально - культурных технологий и инноваций" | C10: =B12/B13 -> 1.1412082
A11: Административно-управленческий персонал | B11: ='приложение 2 спо'!C13/'приложение 2 спо'!B13/12*1000 -> 77712.5
A12: Основной персонал | B12: ='приложение 2 спо'!C14/'приложение 2 спо'!B14/12*1000 -> 27439.674
A13: Вспомогательный персонал | B13: ='приложение 2 спо'!C15/'приложение 2 спо'!B15/12*1000 -> 24044.406
A14: ='[5]Итого УК расш (о)'!$C$9 -> Областное государственное образовательное автономное учреждение среднего профессионального образования «Томский музыкальный колледж имени Э.В. Денисова» | C14: =B16/B17 -> 2.0861664
A15: Административно-управленческий персонал | B15: ='приложение 2 спо'!C19/'приложение 2 спо'!B19/12*1000 -> 47545.833
A16: Основной персонал | B16: ='приложение 2 спо'!C20/'приложение 2 спо'!B20/12*1000 -> 25595.657
A17: Вспомогательный персонал | B17: ='приложение 2 спо'!C21/'приложение 2 спо'!B21/12*1000 -> 12269.231
A18: ИТОГО СПО:
A19: ФОТ , всего: | B19: =SUM(B21:B23) -> 107417.64 | C19: =B22/B23 -> 1.4252172
A20: в том числе по группам персонала:
A21: Административно-управленческий персонал | B21: ='приложение 2 спо'!C25/'приложение 2 спо'!B25/12*1000 -> 62629.167
A22: Основной персонал | B22: ='приложение 2 спо'!C26/'приложение 2 спо'!B26/12*1000 -> 26320.655
A23: Прочий персонал (вспомогательный) | B23: ='приложение 2 спо'!C27/'приложение 2 спо'!B27/12*1000 -> 18467.82
