Workbook

Sheet Лист1
B1: библиотеки 2019 | E1: ИТОГО | G1: 2018 | H1: 2019
A2: 1 | B2: Число посещений библиотеки | C2: ='биб-ки'!EC34 -> 2788.951 | D2: 3.241 | E2: =C2+D2 -> 2792.192
B3: б-ки кду | C3: ='биб-ки'!EC37 -> 39.787 | E3: =C3+D3 -> 39.787
B4: ВСЕГО | E4: =SUM(E2:E3) -> 2831.979 | H4: =E4 -> 2831.979
B5: число посещений КИБО | C5: 3.241 | E5: =C5+D5 -> 3.241
B6: библиотеки 2018
B7: Число посещений библиотеки | C7: ='биб-ки'!EB34 -> 1813.867 | D7: 3.121 | E7: =C7+D7 -> 1816.988
B8: б-ки кду | C8: ='биб-ки'!EB37 -> 39.787 | E8: =C8+D8 -> 39.787
B9: ВСЕГО | E9: =SUM(E7:E8) -> 1856.775 | G9: =E9 -> 1856.775
B10: число посещений КИБО | C10: 3.121 | E10: =C10+D10 -> 3.121
B12: КДУ 2019
A13: 2 | B13: к-во посещений плат.меропр. | C13: =клубы!EI35/1000 -> 272.718 | E13: =C13+D13 -> 272.718 | H13: =E13 -> 272.718
B14: к-во уч. КДФ | C14: =клубы!BL35/1000 -> 30.183 | E14: =C14+D14 -> 30.183 | H14: =E14 -> 30.183
B15: к-во посещ.меропр.с пр.сп.тр. Из общего числа | C15: =1838/1000 -> 1.838 | E15: =C15+D15 -> 1.838
B16: КДУ 2018
A17: 2 | B17: к-во посещений плат.меропр. | C17: =клубы!EH35/1000 -> 189.759 | E17: =C17+D17 -> 189.759 | G17: =E17 -> 189.759
B18: к-во уч. КДФ | C18: =клубы!BK35/1000 -> 31.271 | E18: =C18+D18 -> 31.271 | G18: =E18 -> 31.271
B19: к-во посещ.меропр.с пр.сп.тр. Из общего числа | C19: =2456/1000 -> 2.456 | E19: =C19+D19 -> 2.456
B21: музеи 2019
B22: Число посещений музея - всего | C22: =#REF! -> #REF! | E22: =C22+D22 -> #REF! | H22: =E22 -> #REF!
B23: музеи 2018
B24: Число посещений музея - всего | C24: =#REF! -> #REF! | E24: =C24+D24 -> #REF! | G24: =E24 -> #REF!
B26: театры 2019
B27: Численность зрителей на мероп, провед.собств.силами | C27: =#REF! -> #REF! | E27: =C27+D27 -> #REF! | F27: 330.2
B28: негос театры | D28: 34.3 | E28: =C28+D28 -> 34.3
B29: ИТОГО | C29: =C27+C28 -> #REF! | D29: =D27+D28 -> 34.3 | E29: =C29+D29 -> #REF! | H29: =E29 -> #REF!
B30: театры 2018
B31: Численность зрителей на мероп, провед.собств.силами | C31: =#REF! -> #REF! | E31: =C31+D31 -> #REF! | F31: 399.4
B32: негос театры | D32: 36.7 | E32: =C32+D32 -> 36.7
B33: ИТОГО | C33: =C31+C32 -> #REF! | D33: =D31+D32 -> 36.7 | E33: =C33+D33 -> #REF! | G33: =E33 -> #REF!
B35: Концертн.орг.2019
B36: Число зрителей на мер-х, провед.в пред.своего субъекта РФ | C36: =Конц.!AO12 -> 95.7 | E36: =C36+D36 -> 95.7 | H36: =E36 -> 95.7
B37: Концертн.орг.2018
B38: Число зрителей на мер-х, провед.в пред.своего субъекта РФ | C38: =Конц.!AN12 -> 58.2 | E38: =C38+D38 -> 58.2 | G38: =E38 -> 58.2
B40: зоопарки 2019
B41: Число посещений - всего | C41: =зоопарк!O9 -> 52.5 | E41: =C41+D41 -> 52.5 | H41: =E41 -> 52.5
B42: зоопарки 2019
B43: Число посещений - всего | C43: =зоопарк!N9 -> 35.1 | E43: =C43+D43 -> 35.1 | G43: =E43 -> 35.1
G44: =SUM(G2:G43) -> #REF! | H44: =SUM(H2:H43) -> #REF!
B45: числ.насел получ.услуги автоклубов
...

Sheet УК гг 
A1: Количество областных и муниципальных учреждений культуры Томской области (сет.ед.)
A2: Наименование учреждений | B2: Количество муниципальных учреждений (МУ) | D2: Количество областных учреждений (ОУ) | F2: ВСЕГО
B3: 2020 | C3: 2021 | D3: 2020 | E3: 2021 | F3: 2020 | G3: 2021
A4: Клубы | B4: 271 | C4: 269 | D4: 4 | E4: 4 | F4: =B4+D4 -> 275 | G4: =C4+E4 -> 273
A5: Библиотеки | B5: 319 | C5: 319 | D5: 2 | E5: 2 | F5: =B5+D5 -> 321 | G5: =C5+E5 -> 321
A6: ДМШ, ДШИ, ДХШ | B6: 25 | C6: 25 | D6: 5 | E6: 5 | F6: =B6+D6 -> 30 | G6: =C6+E6 -> 30
A7: Музеи (всего / в т.ч. филиалы / в т.ч.структурные подразделения) | B7: 9/1/1 | C7: 9/1/1 | D7: 8/6 | E7: 8/6 | F7: 17/7/1 | G7: 17/7/1
A8: Театры | B8: 2 | C8: 2 | D8: 3 | E8: 3 | F8: =B8+D8 -> 5 | G8: =C8+E8 -> 5
A9: Филармония | D9: 1 | E9: 1 | F9: =B9+D9 -> 1 | G9: =C9+E9 -> 1
A10: Учреждения среднего профессионального образования | D10: 2 | E10: 2 | F10: =B10+D10 -> 2 | G10: =C10+E10 -> 2
A11: ТОИУМЦКИ | D11: 1 | E11: 1 | F11: =B11+D11 -> 1 | G11: =C11+E11 -> 1
A12: Центр по охране памятников | D12: 1 | E12: 1 | F12: =B12+D12 -> 1 | G12: =C12+E12 -> 1
A13: Северский природный парк (зоопарк) | B13: 1 | C13: 1 | F13: =B13+D13 -> 1 | G13: =C13+E13 -> 1
A14: Архивы | B14: 1 | C14: 1 | D14: 2 | E14: 2 | F14: =B14+D14 -> 3 | G14: =C14+E14 -> 3
A15: Итого учреждений культуры (в т.ч. филиалы и структурные подразделения): | B15: =SUM(B4:B6)+9+SUM(B8:B14) -> 628 | C15: =SUM(C4:C6)+9+SUM(C8:C14) -> 626 | D15: =SUM(D4:D6)+SUM(D8:D14)+8 -> 29 | E15: =SUM(E4:E6)+SUM(E8:E14)+8 -> 29 | F15: =SUM(F4:F6)+SUM(F8:F14)+17 -> 657 | G15: =SUM(G4:G6)+SUM(G8:G14)+17 -> 655
A16: ЦДСО "Томь" * | D16: 1 | E16: 1 | F16: =B16+D16 -> 1 | G16: =C16+E16 -> 1
A17: ВСЕГО: | B17: =B15+B16 -> 628 | C17: =C15+C16 -> 626 | D17: =D15+D16 -> 30 | E17: =E15+E16 -> 30 | F17: =F15+F16 -> 658 | G17: =G15+G16 -> 656
A19: В том числе: Структурные подразделения учр-ний культуры, осуществляющие библиотечную деятельность (справочно) | B19: 2 | C19: 2 | F19: =B19+D19 -> 2 | G19: =C19+E19 -> 2
A21: *) ЦДСО "Томь"- основной ОКВЭД: 55.90 (Деятельность по предоставлению прочих мест для временного проживания)

Sheet Кол-во УК
A1: Количество учреждений культуры, искусства и художественного образования сферы культуры Томской области в разрезе муниципальных образований
A3: Наименование | B3: Код стр. | C3: Количество учреждений культуры, искусства и художественного образования, сет.ед.
C4: ВСЕГО | E4: в том числе:
E5: культурно-досуговые учреждения | G5: библиотеки | I5: ДМШ, ДШИ, ДХШ | K5: музеи (всего / в т.ч. филиалы / в т.ч.структурные подразделения) | M5: театрально-зрелищные учреждения | O5: учреждения среднего профессионального образования | Q5: ТОИУМЦКИ | S5: зоопарк | U5: архивы | W5: Центр по охране памятников
C6: 2020 | D6: 2021 | E6: 2020 | F6: 2021 | G6: 2020 | H6: 2021 | I6: 2020 | J6: 2021 | K6: 2020 | L6: 2021 | M6: 2020 | N6: 2021 | O6: 2020 | P6: 2021 | Q6: 2020 | R6: 2021 | S6: 2020 | T6: 2021 | U6: 2020 | V6: 2021 | W6: 2020 | X6: 2021
B7: 1 | C7: 2 | D7: 3 | E7: 4 | F7: 5 | G7: 6 | H7: 7 | I7: 8 | J7: 9 | K7: 10 | L7: 11 | M7: 12 | N7: 13 | O7: 14 | P7: 15 | Q7: 16 | R7: 17 | S7: 18 | T7: 19 | U7: 20 | V7: 21 | W7: 22 | X7: 23
A8: Александровский | B8: 01 | C8: =E8+G8+I8+K8+M8+O8+Q8+S8+U8+W8 -> 17 | D8: =F8+H8+J8+L8+N8+P8+R8+T8+V8+X8 -> 17 | E8: 8 | F8: 8 | G8: 8 | H8: 8 | I8: 1 | J8: 1
A9: Асиновский | B9: 02 | C9: =E9+G9+I9+K9+M9+O9+Q9+S9+U9+W9 -> 36 | D9: =F9+H9+J9+L9+N9+P9+R9+T9+V9+X9 -> 36 | E9: 16 | F9: 16 | G9: 20 | H9: 20
A10: Бакчарский | B10: 03 | C10: =E10+G10+I10+K10+M10+O10+Q10+S10+U10+W10 -> 32 | D10: =F10+H10+J10+L10+N10+P10+R10+T10+V10+X10 -> 32 | E10: 18 | F10: 18 | G10: 13 | H10: 13 | K10: 1 | L10: 1
A11: Верхнекетский | B11: 04 | C11: =E11+G11+I11+K11+M11+O11+Q11+S11+U11+W11 -> 23 | D11: =F11+H11+J11+L11+N11+P11+R11+T11+V11+X11 -> 22 | E11: 10 | F11: 9 | G11: 13 | H11: 13
A12: Зырянский | B12: 05 | C12: =E12+G12+I12+K12+M12+O12+Q12+S12+U12+W12 -> 39 | D12: =F12+H12+J12+L12+N12+P12+R12+T12+V12+X12 -> 39 | E12: 20 | F12: 20 | G12: 18 | H12: 18 | K12: 1 | L12: 1
A13: Каргасокский | B13: 06 | C13: =E13+G13+I13+K13+M13+O13+Q13+S13+U13+W13 -> 41 | D13: =F13+H13+J13+L13+N13+P13+R13+T13+V13+X13 -> 41 | E13: 18 | F13: 18 | G13: 22 | H13: 22 | I13: 1 | J13: 1
A14: Кожевниковский | B14: 07 | C14: =E14+G14+I14+K14+M14+O14+Q14+S14+U14+W14 -> 46 | D14: =F14+H14+J14+L14+N14+P14+R14+T14+V14+X14 -> 46 | E14: 24 | F14: 24 | G14: 21 | H14: 21 | I14: 1 | J14: 1
A15: Колпашевский | B15: 08 | C15: =E15+G15+I15+K15+M15+O15+Q15+S15+U15+W15 -> 44 | D15: =F15+H15+J15+L15+N15+P15+R15+T15+V15+X15 -> 44 | E15: 17 | F15: 17 | G15: 26 | H15: 26 | U15: 1 | V15: 1
A16: Кривошеинский | B16: 09 | C16: =E16+G16+I16+K16+M16+O16+Q16+S16+U16+W16 -> 28 | D16: =F16+H16+J16+L16+N16+P16+R16+T16+V16+X16 -> 28 | E16: 15 | F16: 15 | G16: 13 | H16: 13
A17: Молчановский | B17: 10 | C17: =E17+G17+I17+K17+M17+O17+Q17+S17+U17+W17 -> 22 | D17: =F17+H17+J17+L17+N17+P17+R17+T17+V17+X17 -> 22 | E17: 8 | F17: 8 | G17: 13 | H17: 13 | I17: 1 | J17: 1
A18: Парабельский | B18: 11 | C18: =E18+G18+I18+K18+M18+O18+Q18+S18+U18+W18 -> 30 | D18: =F18+H18+J18+L18+N18+P18+R18+T18+V18+X18 -> 30 | E18: 12 | F18: 12 | G18: 16 | H18: 16 | I18: 1 | J18: 1 | K18: 1 | L18: 1
A19: Первомайский | B19: 12 | C19: =E19+G19+I19+2+M19+O19+Q19+S19+U19+W19 -> 45 | D19: =F19+H19+J19+2+N19+P19+R19+T19+V19+X19 -> 45 | E19: 22 | F19: 22 | G19: 20 | H19: 20 | I19: 1 | J19: 1 | K19: 2/1ф | L19: 2/1ф
A20: Тегульдетский | B20: 13 | C20: =E20+G20+I20+K20+M20+O20+Q20+S20+U20+W20 -> 12 | D20: =F20+H20+J20+L20+N20+P20+R20+T20+V20+X20 -> 12 | E20: 6 | F20: 6 | G20: 6 | H20: 6
A21: Томский | B21: 14 | C21: =E21+G21+I21+K21+M21+O21+Q21+S21+U21+W21 -> 81 | D21: =F21+H21+J21+L21+N21+P21+R21+T21+V21+X21 -> 81 | E21: 38 | F21: 38 | G21: 39 | H21: 39 | I21: 4 | J21: 4
A22: Чаинский | B22: 15 | C22: =E22+G22+I22+K22+M22+O22+Q22+S22+U22+W22 -> 33 | D22: =F22+H22+J22+L22+N22+P22+R22+T22+V22+X22 -> 33 | E22: 14 | F22: 14 | G22: 17 | H22: 17 | I22: 2 | J22: 2
A23: Шегарский | B23: 16 | C23: =E23+G23+I23+K23+M23+O23+Q23+S23+U23+W23 -> 32 | D23: =F23+H23+J23+L23+N23+P23+R23+T23+V23+X23 -> 31 | E23: 15 | F23: 14 | G23: 16 | H23: 16 | K23: 1 | L23: 1
A24: г.Кедровый | B24: 17 | C24: =E24+G24+I24+K24+M24+O24+Q24+S24+U24+W24 -> 5 | D24: =F24+H24+J24+L24+N24+P24+R24+T24+V24+X24 -> 5 | E24: 2 | F24: 2 | G24: 2 | H24: 2 | I24: 1 | J24: 1
A25: г.Стрежевой | B25: 18 | C25: =E25+G25+I25+1+M25+O25+Q25+S25+U25+W25 -> 5 | D25: =F25+H25+J25+1+N25+P25+R25+T25+V25+X25 -> 5 | E25: 1 | F25: 1 | G25: 2 | H25: 2 | I25: 1 | J25: 1 | K25: 1стр.п. | L25: 1стр.п.
A26: г.Томск | B26: 19 | C26: =E26+G26+I26+K26+M26+O26+Q26+S26+U26+W26 -> 40 | D26: =F26+H26+J26+L26+N26+P26+R26+T26+V26+X26 -> 40 | E26: 5 | F26: 5 | G26: 26 | H26: 26 | I26: 8 | J26: 8 | K26: 1 | L26: 1
A27: ЗАТО Северск | B27: 20 | C27: =E27+G27+I27+K27+M27+O27+Q27+S27+U27+W27 -> 17 | D27: =F27+H27+J27+L27+N27+P27+R27+T27+V27+X27 -> 17 | E27: 2 | F27: 2 | G27: 8 | H27: 8 | I27: 3 | J27: 3 | K27: 1 | L27: 1 | M27: 2 | N27: 2 | S27: 1 | T27: 1 | Z27: пров.
A28: Итого МУ: | B28: 21 | C28: =SUM(C8:C27) -> 628 | D28: =SUM(D8:D27) -> 626 | E28: =SUM(E8:E27) -> 271 | F28: =SUM(F8:F27) -> 269 | G28: =SUM(G8:G27) -> 319 | H28: =SUM(H8:H27) -> 319 | I28: =SUM(I8:I27) -> 25 | J28: =SUM(J8:J27) -> 25 | K28: 9/1/1 | L28: 9/1/1 | M28: =SUM(M8:M27) -> 2 | N28: =SUM(N8:N27) -> 2 | O28: =SUM(O8:O27) -> 0 | P28: =SUM(P8:P27) -> 0 | Q28: =SUM(Q8:Q27) -> 0 | R28: =SUM(R8:R27) -> 0 | S28: =SUM(S8:S27) -> 1 | T28: =SUM(T8:T27) -> 1 | ... X28: =SUM(X8:X27) -> 0 | Z28: =E28+G28+I28+M28+O28+Q28+S28+U28+W28+9 -> 628 | AA28: =F28+H28+J28+N28+P28+R28+T28+V28+X28+9 -> 626
A29: Областные учреждения | B29: 22 | C29: =E29+G29+I29+8+M29+O29+Q29+S29+U29+W29 -> 29 | D29: =F29+H29+J29+8+N29+P29+R29+T29+V29+X29 -> 29 | E29: 4 | F29: 4 | G29: 2 | H29: 2 | I29: 5 | J29: 5 | K29: 8/6 | L29: 8/6 | M29: 4 | N29: 4 | O29: 2 | P29: 2 | Q29: 1 | R29: 1 | U29: 2 | V29: 2 | W29: 1 | X29: 1 | Z29: =E29+G29+I29+M29+O29+Q29+S29+U29+W29+8 -> 29 | AA29: =F29+H29+J29+N29+P29+R29+T29+V29+X29+8 -> 29
A30: ВСЕГО: | B30: 23 | C30: =C28+C29 -> 657 | D30: =D28+D29 -> 655 | E30: =E28+E29 -> 275 | F30: =F28+F29 -> 273 | G30: =G28+G29 -> 321 | H30: =H28+H29 -> 321 | I30: =I28+I29 -> 30 | J30: =J28+J29 -> 30 | K30: 17/7/1 | L30: 17/7/1 | M30: =M28+M29 -> 6 | N30: =N28+N29 -> 6 | O30: =O28+O29 -> 2 | P30: =P28+P29 -> 2 | Q30: =Q28+Q29 -> 1 | R30: =R28+R29 -> 1 | S30: =S28+S29 -> 1 | T30: =T28+T29 -> 1 | ... X30: =X28+X29 -> 1 | Z30: =E30+G30+I30+M30+O30+Q30+S30+U30+W30+17 -> 657 | AA30: =F30+H30+J30+N30+P30+R30+T30+V30+X30+17 -> 655
A31: Кроме того:
A32: Сторонние учреждения культуры | C32: =E32+G32+I32+K32+M32+O32+Q32+S32+U32+W32 -> 8 | D32: =F32+H32+J32+L32+N32+P32+R32+T32+V32+X32 -> 8 | E32: 2 | F32: 2 | G32: 2 | H32: 2 | K32: 1 | L32: 1 | M32: 3 | N32: 3
D34: =D30+D32 -> 663
A38: ВСЕГО: | C38: =C30+C37 -> 657 | D38: =D30+D37 -> 655
C39: =C38-'[1]УК гг '!F17 -> 2 | D39: =D38-'[1]УК гг '!G17 -> -3

Sheet биб-ки
A1: Общие сведения по библиотекам | AR1: Электронные ресурсы библиотек | BS1: Среднее количество населения на одну библиотеку в муниципальных образованиях (тыс.чел.) | CL1: Движение библиотечного фонда | DO1: Работа с пользователями | FG1: Персонал библиотек | GE1: Поступление и использование финансовых средств библиотек за 2021 г.
A3: N п/п | B3: Наименование | C3: Код стр. | D3: Общее число библиотек и библиотек-филиалов на конец отч. года, всего (сет. ед.) | J3: из общего числа библиотек имеют помещения | R3: Число детских библиотек, сет. ед. | T3: из них имеют помещения | AB3: из общего числа библиотек имеют | AN3: Число пунктов вне стационарного обслуживания пользователей б-ки, ед. | AR3: N п/п | AS3: Наименование | AT3: Код стр. | AU3: Из общего числа библиотек | BL3: Объем электронного каталога на конец отчетного года, тыс. ед. | BS3: N п/п | BT3: Наименование районов и городов | BU3: Код стр. | BV3: Численность постоянного населения на 1 января соотв. года | CB3: Среднее число жителей на одну библиотеку | CL3: N п/п | CM3: Наименование | CN3: Код стр. | CO3: Библиотечный фонд (состоит документов на конец отчетного года), тыс.экз. | CX3: Поступило документов за отчетный год, тыс.экз. | DG3: Поступило документов за год в среднем на 1000 жителей, ед. | DJ3: Обеспеченность жителей фондами библиотек (на 1 жителя), экз. | DM3: Место среди районов | DO3: N п/п | DP3: Наименование | DQ3: Код стр. | DR3: Число зарегистрированных пользователей библиотеки - всего, тыс. чел. | DU3: из них пользователей, обслуженных в стационарных условиях | DX3: % охвата населения библиотечным обслуживанием | EA3: Место среди районов | EB3: Число посещений библиотеки в стационарных условиях - всего, тыс. ед. | EE3: из них число посещений библиотечных мероприятий в стационарных условиях | EH3: Число обращений к библиотеке удаленных пользователей - всего, тыс. ед. | EK3: Обеспеченность пользователей фондами библиотек, экз. | EN3: Число библиотечных мероприятий, ед. | EQ3: Выдано (просмотрено) документов из фондов данной библиотеки - ВСЕГО (в стационарном, во внестационарном и удаленном режиме), тыс.ед. | ET3: Читаемость | EW3: Обращаемость | EZ3: Выполнено справок и консультаций - ВСЕГО (в стационарном, во внестационарном и удаленном режиме), тыс.ед. | FC3: Выдано (просмотрено) документов из фондов других библиотек - ВСЕГО (в стационарном, во внестационарном и удаленном режиме), тыс.ед. | FG3: N п/п | FH3: Наименование | FI3: Код стр. | FJ3: Численность работников - всего, чел. | FM3: из общей численности работников - основной персонал | FP3: из них имеют образование | FV3: % работников осн. перс. с высш. и ср.професс. образованием 2021 г. | FW3: Место среди районов | FX3: Нагрузка на одного библиотечного работника | GE3: N п/п | GF3: Наименование | GG3: Код стр. | GH3: Поступило за год - всего, тыс. руб. | GI3: В сред-нем на 1 библиотеку, тыс. руб. | GJ3: Место среди районов | GK3: из общей суммы поступлений | GQ3: Израсходовано за год - всего, тыс. руб. | GR3: из них расходы на: | GY3: Количество финансовых средств
J4: требующие капитального ремонта | M4: аварийные | P4: % помещений библиотек в неудовлетв. состоянии | T4: требующие капитального ремонта | W4: аварийные | Z4: % помещений библиотек в неудовлетв. состоянии | AB4: Пункты вне стационарного обслуживания пользователей библиотеки | AE4: Посадочные места для пользователей | AU4: имеют доступ в Интернет | AX4: из них имеют доступ посетители | BA4: % библиотек, имеющих доступ в Интернет | BC4: имеют собственный Интернет-сайт или Интернет-страницу | BF4: имеют электронные каталоги | BI4: из них доступных в Интернете | GK4: бюджетные ассигнования учредителя | GL4: финансирование из бюджетов других уровней | GM4: поступл. от оказания услуг (выполнения работ) на платной основе и от иной приносящей доход деят-сти, всего | GN4: из них | GP4: % бюджетного финансирования | GR4: оплату труда | GS4: кап. ремонт и реконструкцию | GT4: приобретение (замену) оборудования | GU4: из них для улучш. условий доступности для инвалидов и лиц с ОВЗ | GV4: комплектование фонда | GW4: организацию и провед. мероприятий | GX4: информатизацию библ-ной деят-сти
AE5: всего | AH5: из них компьютеризированные (из гр.29 и гр.30 соотв-но) | AK5: из них с возможностью выхода в Интернет (из гр.32 и гр.33 соотв-но) | BL5: общее число записей | BO5: из них число записей, доступных в Интернете | BV5: 2020 г. | BY5: 2021 г. | CB5: 2020 г. | CE5: 2021 г. | CH5: Отклонения к 2020 г. | CO5: Всего | CR5: Город | CU5: Село | CX5: Всего | DA5: Город | DD5: Село | FP5: высшее | FS5: среднее профессиональное | FX5: Число пользователей, чел. | GA5: Выдача фонда, тыс.экз. | GN5: благотворительные и спонсорские вклады | GO5: от сдачи имущества в аренду | GY5: на 1 жителя, руб. | GZ5: Место среди районов | HA5: на 1 читателя, руб. | HB5: Место среди районов
D6: 2020 | G6: 2021
D8: Всего | E8: Город | F8: Село | G8: Всего | H8: Город | I8: Село | J8: 2020 | K8: 2021 | L8: отк. | M8: 2020 | N8: 2021 | O8: отк. | P8: 2020 | Q8: 2021 | R8: 2020 | S8: 2021 | T8: 2020 | U8: 2021 | V8: отк. | W8: 2020 | X8: 2021 | Y8: отк. | Z8: 2020 | AA8: 2021 | AB8: 2020 | AC8: 2021 | AD8: отк. | AE8: 2020 | AF8: 2021 | AG8: отк. | AH8: 2020 | AI8: 2021 | AJ8: отк. | AK8: 2020 | AL8: 2021 | AM8: отк. | AN8: 2020 | AO8: 2021 | AP8: отк. | AU8: 2020 | AV8: 2021 | AW8: отк. | AX8: 2020 | AY8: 2021 | AZ8: отк. | BA8: 2020 | BB8: 2021 | BC8: 2020 | BD8: 2021 | BE8: отк. | BF8: 2020 | BG8: 2021 | BH8: отк. | BI8: 2020 | BJ8: 2021 | BK8: отк. | BL8: 2020 | BM8: 2021 | BN8: отк. | BO8: 2020 | BP8: 2021 | BQ8: отк. | BV8: Всего | BW8: Город | BX8: Село | BY8: Всего | BZ8: Город | CA8: Село | CB8: Всего | CC8: Город | CD8: Село | CE8: Всего | CF8: Город | CG8: Село | CH8: Всего | CI8: Город | CJ8: Село | CO8: 2020 | CP8: 2021 | CQ8: отк. | CR8: 2020 | CS8: 2021 | CT8: отк. | CU8: 2020 | CV8: 2021 | CW8: отк. | CX8: 2020 | CY8: 2021 | CZ8: отк. | DA8: 2020 | DB8: 2021 | DC8: отк. | DD8: 2020 | DE8: 2021 | DF8: отк. | DG8: 2020 | DH8: 2021 | DI8: отк. | DJ8: 2020 | DK8: 2021 | DL8: отк. | DR8: 2020 | DS8: 2021 | DT8: отк. | DU8: 2020 | DV8: 2021 | DW8: отк. | DX8: 2020 | DY8: 2021 | DZ8: отк. | EB8: 2020 | EC8: 2021 | ED8: отк. | EE8: 2020 | EF8: 2021 | EG8: отк. | EH8: 2020 | EI8: 2021 | EJ8: отк. | EK8: 2020 | EL8: 2021 | EM8: отк. | EN8: 2020 | EO8: 2021 | EP8: отк. | EQ8: 2020 | ER8: 2021 | ES8: отк. | ET8: 2020 | EU8: 2021 | EV8: отк. | EW8: 2020 | EX8: 2021 | EY8: отк. | EZ8: 2020 | FA8: 2021 | FB8: отк. | FC8: 2020 | FD8: 2021 | FE8: отк. | FJ8: 2020 | FK8: 2021 | FL8: отк. | FM8: 2020 | FN8: 2021 | FO8: отк. | FP8: 2020 | FQ8: 2021 | FR8: отк. | FS8: 2020 | FT8: 2021 | FU8: отк. | FX8: 2020 | FY8: 2021 | FZ8: отк. | GA8: 2020 | GB8: 2021 | GC8: отк.
C9: 1 | D9: 2 | E9: 3 | F9: 4 | G9: 5 | H9: 6 | I9: 7 | J9: 8 | K9: 9 | L9: 10 | M9: 11 | N9: 12 | O9: 13 | P9: 14 | Q9: 15 | R9: 16 | S9: 17 | T9: 18 | U9: 19 | V9: 20 | W9: 21 | X9: 22 | Y9: 23 | Z9: 24 | AA9: 25 | AB9: 26 | AC9: 27 | AD9: 28 | AE9: 29 | AF9: 30 | AG9: 31 | AH9: 32 | AI9: 33 | AJ9: 34 | AK9: 35 | AL9: 36 | AM9: 37 | AN9: 38 | AO9: 39 | AP9: 40 | AT9: 1 | AU9: 2 | AV9: 3 | AW9: 4 | AX9: 5 | AY9: 6 | AZ9: 7 | BA9: 8 | BB9: 9 | BC9: 10 | BD9: 11 | BE9: 12 | BF9: 13 | BG9: 14 | BH9: 15 | BI9: 16 | BJ9: 17 | BK9: 18 | BL9: 19 | BM9: 20 | BN9: 21 | BO9: 22 | BP9: 23 | BQ9: 24 | BU9: 1 | BV9: 2 | BW9: 3 | BX9: 4 | BY9: 5 | BZ9: 6 | CA9: 7 | CB9: 8 | CC9: 9 | CD9: 10 | CE9: 11 | CF9: 12 | CG9: 13 | CH9: 14 | CI9: 15 | CJ9: 16 | CN9: 1 | CO9: 2 | CP9: 3 | CQ9: 4 | CR9: 5 | CS9: 6 | CT9: 7 | CU9: 8 | CV9: 9 | CW9: 10 | CX9: 11 | CY9: 12 | CZ9: 13 | DA9: 14 | DB9: 15 | DC9: 16 | DD9: 17 | DE9: 18 | DF9: 19 | DG9: 20 | DH9: 21 | DI9: 22 | DJ9: 23 | DK9: 24 | DL9: 25 | DM9: 26 | DQ9: 1 | DR9: 2 | DS9: 3 | DT9: 4 | DU9: 5 | DV9: 6 | DW9: 7 | DX9: 8 | DY9: 9 | DZ9: 10 | EA9: 11 | EB9: 12 | EC9: 13 | ED9: 14 | EE9: 15 | EF9: 16 | EG9: 17 | EH9: 18 | EI9: 19 | EJ9: 20 | EK9: 21 | EL9: 22 | EM9: 23 | EN9: 24 | EO9: 25 | EP9: 26 | EQ9: 27 | ER9: 28 | ES9: 29 | ET9: 30 | EU9: 31 | EV9: 32 | EW9: 33 | EX9: 34 | EY9: 35 | EZ9: 36 | FA9: 37 | FB9: 38 | FC9: 39 | FD9: 40 | FE9: 41 | FI9: 1 | FJ9: 2 | FK9: 3 | FL9: 4 | FM9: 5 | FN9: 6 | FO9: 7 | FP9: 8 | FQ9: 9 | FR9: 10 | FS9: 11 | FT9: 12 | FU9: 13 | FV9: 14 | FW9: 15 | FX9: 16 | FY9: 17 | FZ9: 18 | GA9: 19 | GB9: 20 | GC9: 21 | GG9: 1 | GH9: 2 | GI9: 3 | GJ9: 4 | GK9: 5 | GL9: 6 | GM9: 7 | GN9: 8 | GO9: 9 | GP9: 10 | GQ9: 11 | GR9: 12 | GS9: 13 | GT9: 14 | GU9: 15 | GV9: 16 | GW9: 17 | GX9: 18 | GY9: 19 | GZ9: 20 | HA9: 21 | HB9: 22
A10: 1 | B10: Александровский | C10: 01 | D10: =E10+F10 -> 8 | F10: 8 | G10: =H10+I10 -> 8 | I10: 8 | L10: =K10-J10 -> 0 | O10: =N10-M10 -> 0 | P10: =ROUND((J10+M10)/D10*100,1) -> 0 | Q10: =ROUND((K10+N10)/G10*100,1) -> 0 | R10: 1 | S10: 1 | V10: =U10-T10 -> 0 | Y10: =X10-W10 -> 0 | Z10: =ROUND((T10+W10)/R10*100,1) -> 0 | AA10: =ROUND((U10+X10)/S10*100,1) -> 0 | AD10: =AC10-AB10 -> 0 | AE10: 7 | AF10: 7 | AG10: =AF10-AE10 -> 0 | AH10: 1 | AI10: 2 | AJ10: =AI10-AH10 -> 1 | AK10: 1 | AL10: 1 | AM10: =AL10-AK10 -> 0 | AP10: =AO10-AN10 -> 0 | AR10: 1 | AS10: Александровский | AT10: 01 | AU10: 2 | AV10: 2 | AW10: =AV10-AU10 -> 0 | AX10: 1 | AY10: 2 | AZ10: =AY10-AX10 -> 1 | BA10: =ROUND(AU10/D10*100,1) -> 25 | BB10: =ROUND(AV10/G10*100,1) -> 25 | BC10: 2 | BD10: 2 | BE10: =BD10-BC10 -> 0 | BF10: 2 | BG10: 2 | BH10: =BG10-BF10 -> 0 | BI10: 2 | BJ10: 2 | BK10: =BJ10-BI10 -> 0 | BL10: 16.829 | BM10: 17.771 | BN10: =BM10-BL10 -> 0.942 | BO10: 16.829 | BP10: 17.771 | BQ10: =BP10-BO10 -> 0.942 | BS10: 1 | BT10: Александровский | BU10: 01 | BV10: =BW10+BX10 -> 7.7 | BX10: 7.7 | BY10: =BZ10+CA10 -> 7.7 | CA10: 7.7 | CB10: =ROUND(BV10/D10,2) -> 0.96 | CC10: 0 | CD10: =ROUND(BX10/F10,2) -> 0.96 | CE10: =ROUND(BY10/G10,2) -> 0.96 | CF10: 0 | CG10: =ROUND(CA10/I10,2) -> 0.96 | CH10: =CE10-CB10 -> 0 | CI10: =CF10-CC10 -> 0 | CJ10: =CG10-CD10 -> 0 | CL10: 1 | CM10: Александровский | CN10: 01 | CO10: =CR10+CU10 -> 68.445 | CP10: =CS10+CV10 -> 69.089 | CQ10: =CP10-CO10 -> 0.644 | CT10: =CS10-CR10 -> 0 | CU10: 68.445 | CV10: 69.089 | CW10: =CV10-CU10 -> 0.644 | CX10: =DA10+DD10 -> 4.186 | CY10: =DB10+DE10 -> 2.082 | CZ10: =CY10-CX10 -> -2.104 | DC10: =DB10-DA10 -> 0 | DD10: 4.186 | DE10: 2.082 | DF10: =DE10-DD10 -> -2.104 | DG10: =ROUND(CX10*1000/BV10,0) -> 544 | DH10: =ROUND(CY10*1000/BY10,0) -> 270 | DI10: =DH10-DG10 -> -274 | DJ10: =ROUND(CO10/BV10,1) -> 8.9 | DK10: =ROUND(CP10/BY10,1) -> 9 | DL10: =DK10-DJ10 -> 0.1 | DM10: 9 | DO10: 1 | DP10: Александровский | DQ10: 01 | DR10: 2.19 | DS10: 2.153 | DT10: =DS10-DR10 -> -0.037 | DU10: 2.18 | DV10: 2.149 | DW10: =DV10-DU10 -> -0.031 | DX10: =ROUND(DR10/BV10*100,1) -> 28.4 | DY10: =ROUND(DS10/BY10*100,1) -> 28 | DZ10: =DY10-DX10 -> -0.4 | EA10: 17 | EB10: 15.891 | EC10: 24.455 | ED10: =EC10-EB10 -> 8.564 | EE10: 1.265 | EF10: 3.75 | EG10: =EF10-EE10 -> 2.485 | EH10: 4.595 | EI10: 2.416 | EJ10: =EI10-EH10 -> -2.179 | EK10: =ROUND(CO10/DR10,1) -> 31.3 | EL10: =ROUND(CP10/DS10,1) -> 32.1 | EM10: =EL10-EK10 -> 0.8 | EN10: 91 | EO10: 247 | EP10: =EO10-EN10 -> 156 | EQ10: 69.953 | ER10: 105.419 | ES10: =ER10-EQ10 -> 35.466 | ET10: =ROUND(EQ10/DR10,1) -> 31.9 | EU10: =ROUND(ER10/DS10,1) -> 49 | EV10: =EU10-ET10 -> 17.1 | EW10: =ROUND(EQ10/CO10,1) -> 1 | EX10: =ROUND(ER10/CP10,1) -> 1.5 | EY10: =EX10-EW10 -> 0.5 | EZ10: 0.901 | FA10: 1.193 | FB10: =FA10-EZ10 -> 0.292 | FC10: 0.035 | FD10: 0.01 | FE10: =FD10-FC10 -> -0.025 | FG10: 1 | FH10: Александровский | FI10: 01 | FJ10: 20 | FK10: 20 | FL10: =FK10-FJ10 -> 0 | FM10: 13 | FN10: 11 | FO10: =FN10-FM10 -> -2 | FP10: 5 | FQ10: 4 | FR10: =FQ10-FP10 -> -1 | FS10: 4 | FT10: 5 | FU10: =FT10-FS10 -> 1 | FV10: =ROUND((FQ10+FT10)/FN10*100,1) -> 81.8 | FW10: 9 | FX10: =ROUND(DR10*1000/FM10,0) -> 168 | FY10: =ROUND(DS10*1000/FN10,0) -> 196 | FZ10: =FY10-FX10 -> 28 | GA10: =ROUND(EQ10/FM10,1) -> 5.4 | GB10: =ROUND(ER10/FN10,1) -> 9.6 | GC10: =GB10-GA10 -> 4.2 | GE10: 1 | GF10: Александровский | GG10: 01 | GH10: =GK10+GL10+GM10 -> 14403.9 | GI10: =ROUND(GH10/G10,0) -> 1800 | GJ10: 10 | GK10: 8963.4 | GL10: 5440.5 | GP10: =ROUND((GK10+GL10)/GH10*100,1) -> 100 | GQ10: 14213.2 | GR10: 11297 | GT10: 901.1 | GV10: 620.1 | GW10: 31.9 | GY10: =ROUND(GH10/BY10,0) -> 1871 | GZ10: 8 | HA10: =ROUND(GH10/DS10,0) -> 6690 | HB10: 3
A11: 2 | B11: Асиновский | C11: 02 | D11: =E11+F11 -> 20 | E11: 6 | F11: 14 | G11: =H11+I11 -> 20 | H11: 6 | I11: 14 | L11: =K11-J11 -> 0 | O11: =N11-M11 -> 0 | P11: =ROUND((J11+M11)/D11*100,1) -> 0 | Q11: =ROUND((K11+N11)/G11*100,1) -> 0 | R11: 1 | S11: 1 | V11: =U11-T11 -> 0 | Y11: =X11-W11 -> 0 | Z11: =ROUND((T11+W11)/R11*100,1) -> 0 | AA11: =ROUND((U11+X11)/S11*100,1) -> 0 | AB11: 3 | AC11: 2 | AD11: =AC11-AB11 -> -1 | AE11: 20 | AF11: 20 | AG11: =AF11-AE11 -> 0 | AH11: 18 | AI11: 18 | AJ11: =AI11-AH11 -> 0 | AK11: 18 | AL11: 18 | AM11: =AL11-AK11 -> 0 | AN11: 3 | AO11: 2 | AP11: =AO11-AN11 -> -1 | AR11: 2 | AS11: Асиновский | AT11: 02 | AU11: 18 | AV11: 18 | AW11: =AV11-AU11 -> 0 | AX11: 18 | AY11: 18 | AZ11: =AY11-AX11 -> 0 | BA11: =ROUND(AU11/D11*100,1) -> 90 | BB11: =ROUND(AV11/G11*100,1) -> 90 | BC11: 14 | BD11: 17 | BE11: =BD11-BC11 -> 3 | BF11: 1 | BG11: 1 | BH11: =BG11-BF11 -> 0 | BI11: 1 | BJ11: 1 | BK11: =BJ11-BI11 -> 0 | BL11: 85.545 | BM11: 91.21 | BN11: =BM11-BL11 -> 5.665 | BO11: 85.545 | BP11: 91.21 | BQ11: =BP11-BO11 -> 5.665 | BS11: 2 | BT11: Асиновский | BU11: 02 | BV11: =BW11+BX11 -> 33.4 | BW11: 24.4 | BX11: 9 | BY11: =BZ11+CA11 -> 33.4 | BZ11: 24.4 | CA11: 9 | CB11: =ROUND(BV11/D11,2) -> 1.67 | CC11: =ROUND(BW11/E11,2) -> 4.07 | CD11: =ROUND(BX11/F11,2) -> 0.64 | CE11: =ROUND(BY11/G11,2) -> 1.67 | CF11: =ROUND(BZ11/H11,2) -> 4.07 | CG11: =ROUND(CA11/I11,2) -> 0.64 | CH11: =CE11-CB11 -> 0 | CI11: =CF11-CC11 -> 0 | CJ11: =CG11-CD11 -> 0 | CL11: 2 | CM11: Асиновский | CN11: 02 | CO11: =CR11+CU11 -> 217.939 | CP11: =CS11+CV11 -> 215.234 | CQ11: =CP11-CO11 -> -2.705 | CR11: 92.288 | CS11: 89.351 | CT11: =CS11-CR11 -> -2.937 | CU11: 125.651 | CV11: 125.883 | CW11: =CV11-CU11 -> 0.232 | CX11: =DA11+DD11 -> 4.348 | CY11: =DB11+DE11 -> 8.273 | CZ11: =CY11-CX11 -> 3.925 | DA11: 2.558 | DB11: 4.881 | DC11: =DB11-DA11 -> 2.323 | DD11: 1.79 | DE11: 3.392 | DF11: =DE11-DD11 -> 1.602 | DG11: =ROUND(CX11*1000/BV11,0) -> 130 | DH11: =ROUND(CY11*1000/BY11,0) -> 248 | DI11: =DH11-DG11 -> 118 | DJ11: =ROUND(CO11/BV11,1) -> 6.5 | DK11: =ROUND(CP11/BY11,1) -> 6.4 | DL11: =DK11-DJ11 -> -0.1 | DM11: 15 | DO11: 2 | DP11: Асиновский | DQ11: 02 | DR11: 14.476 | DS11: 18.295 | DT11: =DS11-DR11 -> 3.819 | DU11: 14.136 | DV11: 17.826 | DW11: =DV11-DU11 -> 3.69 | DX11: =ROUND(DR11/BV11*100,1) -> 43.3 | DY11: =ROUND(DS11/BY11*100,1) -> 54.8 | DZ11: =DY11-DX11 -> 11.5 | EA11: 6 | EB11: 92.634 | EC11: 173.01 | ED11: =EC11-EB11 -> 80.376 | EE11: 14.987 | EF11: 33.026 | EG11: =EF11-EE11 -> 18.039 | EH11: 18.938 | EI11: 44.311 | EJ11: =EI11-EH11 -> 25.373 | EK11: =ROUND(CO11/DR11,1) -> 15.1 | EL11: =ROUND(CP11/DS11,1) -> 11.8 | EM11: =EL11-EK11 -> -3.3 | EN11: 1293 | EO11: 2298 | EP11: =EO11-EN11 -> 1005 | EQ11: 290.227 | ER11: 491.746 | ES11: =ER11-EQ11 -> 201.519 | ET11: =ROUND(EQ11/DR11,1) -> 20 | EU11: =ROUND(ER11/DS11,1) -> 26.9 | EV11: =EU11-ET11 -> 6.9 | EW11: =ROUND(EQ11/CO11,1) -> 1.3 | EX11: =ROUND(ER11/CP11,1) -> 2.3 | EY11: =EX11-EW11 -> 1 | EZ11: 8.077 | FA11: 16.294 | FB11: =FA11-EZ11 -> 8.217 | FC11: 0.202 | FD11: 3.057 | FE11: =FD11-FC11 -> 2.855 | FG11: 2 | FH11: Асиновский | FI11: 02 | FJ11: 58 | FK11: 58 | FL11: =FK11-FJ11 -> 0 | FM11: 48 | FN11: 48 | FO11: =FN11-FM11 -> 0 | FP11: 21 | FQ11: 27 | FR11: =FQ11-FP11 -> 6 | FS11: 26 | FT11: 20 | FU11: =FT11-FS11 -> -6 | FV11: =ROUND((FQ11+FT11)/FN11*100,1) -> 97.9 | FW11: 2 | FX11: =ROUND(DR11*1000/FM11,0) -> 302 | FY11: =ROUND(DS11*1000/FN11,0) -> 381 | FZ11: =FY11-FX11 -> 79 | GA11: =ROUND(EQ11/FM11,1) -> 6 | GB11: =ROUND(ER11/FN11,1) -> 10.2 | GC11: =GB11-GA11 -> 4.2 | GE11: 2 | GF11: Асиновский | GG11: 02 | GH11: =GK11+GL11+GM11 -> 47703.3 | GI11: =ROUND(GH11/G11,0) -> 2385 | GJ11: 7 | GK11: 25949.5 | GL11: 21721 | GM11: 32.8 | GP11: =ROUND((GK11+GL11)/GH11*100,1) -> 99.9 | GQ11: 47544.8 | GR11: 25815.9 | GT11: 5575.6 | GU11: 114.8 | GV11: 1966.5 | GW11: 73.7 | GY11: =ROUND(GH11/BY11,0) -> 1428 | GZ11: 11 | HA11: =ROUND(GH11/DS11,0) -> 2607 | HB11: 12
A12: 3 | B12: Бакчарский | C12: 03 | D12: =E12+F12 -> 13 | F12: 13 | G12: =H12+I12 -> 13 | I12: 13 | J12: 1 | L12: =K12-J12 -> -1 | O12: =N12-M12 -> 0 | P12: =ROUND((J12+M12)/D12*100,1) -> 7.7 | Q12: =ROUND((K12+N12)/G12*100,1) -> 0 | R12: 1 | S12: 1 | T12: 1 | V12: =U12-T12 -> -1 | Y12: =X12-W12 -> 0 | Z12: =ROUND((T12+W12)/R12*100,1) -> 100 | AA12: =ROUND((U12+X12)/S12*100,1) -> 0 | AB12: 5 | AC12: 5 | AD12: =AC12-AB12 -> 0 | AE12: 13 | AF12: 13 | AG12: =AF12-AE12 -> 0 | AH12: 11 | AI12: 13 | AJ12: =AI12-AH12 -> 2 | AK12: 11 | AL12: 12 | AM12: =AL12-AK12 -> 1 | AN12: 28 | AO12: 28 | AP12: =AO12-AN12 -> 0 | AR12: 3 | AS12: Бакчарский | AT12: 03 | AU12: 11 | AV12: 13 | AW12: =AV12-AU12 -> 2 | AX12: 11 | AY12: 13 | AZ12: =AY12-AX12 -> 2 | BA12: =ROUND(AU12/D12*100,1) -> 84.6 | BB12: =ROUND(AV12/G12*100,1) -> 100 | BC12: 1 | BD12: 1 | BE12: =BD12-BC12 -> 0 | BF12: 1 | BG12: 1 | BH12: =BG12-BF12 -> 0 | BI12: 1 | BJ12: 1 | BK12: =BJ12-BI12 -> 0 | BL12: 13.923 | BM12: 17.565 | BN12: =BM12-BL12 -> 3.642 | BO12: 0.905 | BP12: 17.565 | BQ12: =BP12-BO12 -> 16.66 | BS12: 3 | BT12: Бакчарский | BU12: 03 | BV12: =BW12+BX12 -> 11.7 | BX12: 11.7 | BY12: =BZ12+CA12 -> 11.6 | CA12: 11.6 | CB12: =ROUND(BV12/D12,2) -> 0.9 | CC12: 0 | CD12: =ROUND(BX12/F12,2) -> 0.9 | CE12: =ROUND(BY12/G12,2) -> 0.89 | CF12: 0 | CG12: =ROUND(CA12/I12,2) -> 0.89 | CH12: =CE12-CB12 -> -0.01 | CI12: =CF12-CC12 -> 0 | CJ12: =CG12-CD12 -> -0.01 | CL12: 3 | CM12: Бакчарский | CN12: 03 | CO12: =CR12+CU12 -> 67.939 | CP12: =CS12+CV12 -> 72.629 | CQ12: =CP12-CO12 -> 4.69 | CT12: =CS12-CR12 -> 0 | CU12: 67.939 | CV12: 72.629 | CW12: =CV12-CU12 -> 4.69 | CX12: =DA12+DD12 -> 0.938 | CY12: =DB12+DE12 -> 5.16 | CZ12: =CY12-CX12 -> 4.222 | DC12: =DB12-DA12 -> 0 | DD12: 0.938 | DE12: 5.16 | DF12: =DE12-DD12 -> 4.222 | DG12: =ROUND(CX12*1000/BV12,0) -> 80 | DH12: =ROUND(CY12*1000/BY12,0) -> 445 | DI12: =DH12-DG12 -> 365 | DJ12: =ROUND(CO12/BV12,1) -> 5.8 | DK12: =ROUND(CP12/BY12,1) -> 6.3 | DL12: =DK12-DJ12 -> 0.5 | DM12: 16 | DO12: 3 | DP12: Бакчарский | DQ12: 03 | DR12: 4.293 | DS12: 4.288 | DT12: =DS12-DR12 -> -0.005 | DU12: 4.144 | DV12: 4.221 | DW12: =DV12-DU12 -> 0.077 | DX12: =ROUND(DR12/BV12*100,1) -> 36.7 | DY12: =ROUND(DS12/BY12*100,1) -> 37 | DZ12: =DY12-DX12 -> 0.3 | EA12: 15 | EB12: 50.803 | EC12: 48.162 | ED12: =EC12-EB12 -> -2.641 | EE12: 17.211 | EF12: 9.32 | EG12: =EF12-EE12 -> -7.891 | EH12: 3.938 | EI12: 7.309 | EJ12: =EI12-EH12 -> 3.371 | EK12: =ROUND(CO12/DR12,1) -> 15.8 | EL12: =ROUND(CP12/DS12,1) -> 16.9 | EM12: =EL12-EK12 -> 1.1 | EN12: 1777 | EO12: 1589 | EP12: =EO12-EN12 -> -188 | EQ12: 94.249 | ER12: 89.419 | ES12: =ER12-EQ12 -> -4.83 | ET12: =ROUND(EQ12/DR12,1) -> 22 | EU12: =ROUND(ER12/DS12,1) -> 20.9 | EV12: =EU12-ET12 -> -1.1 | EW12: =ROUND(EQ12/CO12,1) -> 1.4 | EX12: =ROUND(ER12/CP12,1) -> 1.2 | EY12: =EX12-EW12 -> -0.2 | EZ12: 4.494 | FA12: 2.187 | FB12: =FA12-EZ12 -> -2.307 | FE12: =FD12-FC12 -> 0 | FG12: 3 | FH12: Бакчарский | FI12: 03 | FJ12: 23 | FK12: 24 | FL12: =FK12-FJ12 -> 1 | FM12: 20 | FN12: 21 | FO12: =FN12-FM12 -> 1 | FP12: 8 | FQ12: 11 | FR12: =FQ12-FP12 -> 3 | FS12: 7 | FT12: 6 | FU12: =FT12-FS12 -> -1 | FV12: =ROUND((FQ12+FT12)/FN12*100,1) -> 81 | FW12: 10 | FX12: =ROUND(DR12*1000/FM12,0) -> 215 | FY12: =ROUND(DS12*1000/FN12,0) -> 204 | FZ12: =FY12-FX12 -> -11 | GA12: =ROUND(EQ12/FM12,1) -> 4.7 | GB12: =ROUND(ER12/FN12,1) -> 4.3 | GC12: =GB12-GA12 -> -0.4 | GE12: 3 | GF12: Бакчарский | GG12: 03 | GH12: =GK12+GL12+GM12 -> 32618.8 | GI12: =ROUND(GH12/G12,0) -> 2509 | GJ12: 6 | GK12: 32365 | GM12: 253.8 | GO12: 4.5 | GP12: =ROUND((GK12+GL12)/GH12*100,1) -> 99.2 | GQ12: 32508.6 | GR12: 12853.1 | GS12: 7668.2 | GT12: 8174.8 | GV12: 1375.9 | GW12: 7.3 | GY12: =ROUND(GH12/BY12,0) -> 2812 | GZ12: 2 | HA12: =ROUND(GH12/DS12,0) -> 7607 | HB12: 2
A13: 4 | B13: Верхнекетский | C13: 04 | D13: =E13+F13 -> 13 | E13: 2 | F13: 11 | G13: =H13+I13 -> 13 | H13: 2 | I13: 11 | J13: 1 | L13: =K13-J13 -> -1 | O13: =N13-M13 -> 0 | P13: =ROUND((J13+M13)/D13*100,1) -> 7.7 | Q13: =ROUND((K13+N13)/G13*100,1) -> 0 | R13: 1 | S13: 1 | V13: =U13-T13 -> 0 | Y13: =X13-W13 -> 0 | Z13: =ROUND((T13+W13)/R13*100,1) -> 0 | AA13: =ROUND((U13+X13)/S13*100,1) -> 0 | AB13: 10 | AC13: 9 | AD13: =AC13-AB13 -> -1 | AE13: 13 | AF13: 13 | AG13: =AF13-AE13 -> 0 | AH13: 6 | AI13: 6 | AJ13: =AI13-AH13 -> 0 | AK13: 6 | AL13: 6 | AM13: =AL13-AK13 -> 0 | AN13: 37 | AO13: 35 | AP13: =AO13-AN13 -> -2 | AR13: 4 | AS13: Верхнекетский | AT13: 04 | AU13: 9 | AV13: 10 | AW13: =AV13-AU13 -> 1 | AX13: 5 | AY13: 6 | AZ13: =AY13-AX13 -> 1 | BA13: =ROUND(AU13/D13*100,1) -> 69.2 | BB13: =ROUND(AV13/G13*100,1) -> 76.9 | BC13: 1 | BD13: 1 | BE13: =BD13-BC13 -> 0 | BF13: 1 | BG13: 1 | BH13: =BG13-BF13 -> 0 | BK13: =BJ13-BI13 -> 0 | BL13: 32.589 | BM13: 35.696 | BN13: =BM13-BL13 -> 3.107 | BQ13: =BP13-BO13 -> 0 | BS13: 4 | BT13: Верхнекетский | BU13: 04 | BV13: =BW13+BX13 -> 15.8 | BW13: 8.4 | BX13: 7.4 | BY13: =BZ13+CA13 -> 15.7 | BZ13: 8.3 | CA13: 7.4 | CB13: =ROUND(BV13/D13,2) -> 1.22 | CC13: =ROUND(BW13/E13,2) -> 4.2 | CD13: =ROUND(BX13/F13,2) -> 0.67 | CE13: =ROUND(BY13/G13,2) -> 1.21 | CF13: =ROUND(BZ13/H13,2) -> 4.15 | CG13: =ROUND(CA13/I13,2) -> 0.67 | CH13: =CE13-CB13 -> -0.01 | CI13: =CF13-CC13 -> -0.05 | CJ13: =CG13-CD13 -> 0 | CL13: 4 | CM13: Верхнекетский | CN13: 04 | CO13: =CR13+CU13 -> 115.209 | CP13: =CS13+CV13 -> 109.451 | CQ13: =CP13-CO13 -> -5.758 | CR13: 47.098 | CS13: 41.242 | CT13: =CS13-CR13 -> -5.856 | CU13: 68.111 | CV13: 68.209 | CW13: =CV13-CU13 -> 0.098 | CX13: =DA13+DD13 -> 1.243 | CY13: =DB13+DE13 -> 2.583 | CZ13: =CY13-CX13 -> 1.34 | DA13: 0.585 | DB13: 1.6 | DC13: =DB13-DA13 -> 1.015 | DD13: 0.658 | DE13: 0.983 | DF13: =DE13-DD13 -> 0.325 | DG13: =ROUND(CX13*1000/BV13,0) -> 79 | DH13: =ROUND(CY13*1000/BY13,0) -> 165 | DI13: =DH13-DG13 -> 86 | DJ13: =ROUND(CO13/BV13,1) -> 7.3 | DK13: =ROUND(CP13/BY13,1) -> 7 | DL13: =DK13-DJ13 -> -0.3 | DM13: 14 | DO13: 4 | DP13: Верхнекетский | DQ13: 04 | DR13: 5.864 | DS13: 7.126 | DT13: =DS13-DR13 -> 1.262 | DU13: 5.158 | DV13: 6.339 | DW13: =DV13-DU13 -> 1.181 | DX13: =ROUND(DR13/BV13*100,1) -> 37.1 | DY13: =ROUND(DS13/BY13*100,1) -> 45.4 | DZ13: =DY13-DX13 -> 8.3 | EA13: 9 | EB13: 71.848 | EC13: 132.38 | ED13: =EC13-EB13 -> 60.532 | EF13: 29.088 | EG13: =EF13-EE13 -> 29.088 | EH13: 36.211 | EI13: 4.159 | EJ13: =EI13-EH13 -> -32.052 | EK13: =ROUND(CO13/DR13,1) -> 19.6 | EL13: =ROUND(CP13/DS13,1) -> 15.4 | EM13: =EL13-EK13 -> -4.2 | EN13: 1250 | EO13: 1744 | EP13: =EO13-EN13 -> 494 | EQ13: 146.808 | ER13: 221.888 | ES13: =ER13-EQ13 -> 75.08 | ET13: =ROUND(EQ13/DR13,1) -> 25 | EU13: =ROUND(ER13/DS13,1) -> 31.1 | EV13: =EU13-ET13 -> 6.1 | EW13: =ROUND(EQ13/CO13,1) -> 1.3 | EX13: =ROUND(ER13/CP13,1) -> 2 | EY13: =EX13-EW13 -> 0.7 | EZ13: 1.336 | FA13: 1.656 | FB13: =FA13-EZ13 -> 0.32 | FE13: =FD13-FC13 -> 0 | FG13: 4 | FH13: Верхнекетский | FI13: 04 | FJ13: 35 | FK13: 36 | FL13: =FK13-FJ13 -> 1 | FM13: 25 | FN13: 24 | FO13: =FN13-FM13 -> -1 | FP13: 9 | FQ13: 7 | FR13: =FQ13-FP13 -> -2 | FS13: 12 | FT13: 17 | FU13: =FT13-FS13 -> 5 | FV13: =ROUND((FQ13+FT13)/FN13*100,1) -> 100 | FW13: 1 | FX13: =ROUND(DR13*1000/FM13,0) -> 235 | FY13: =ROUND(DS13*1000/FN13,0) -> 297 | FZ13: =FY13-FX13 -> 62 | GA13: =ROUND(EQ13/FM13,1) -> 5.9 | GB13: =ROUND(ER13/FN13,1) -> 9.2 | GC13: =GB13-GA13 -> 3.3 | GE13: 4 | GF13: Верхнекетский | GG13: 04 | GH13: =GK13+GL13+GM13 -> 22976.5 | GI13: =ROUND(GH13/G13,0) -> 1767 | GJ13: 11 | GK13: 22697 | GM13: 279.5 | GN13: 14.6 | GP13: =ROUND((GK13+GL13)/GH13*100,1) -> 98.8 | GQ13: 22976 | GR13: 18341 | GT13: 794.7 | GV13: 922.9 | GW13: 82.3 | GY13: =ROUND(GH13/BY13,0) -> 1463 | GZ13: 10 | HA13: =ROUND(GH13/DS13,0) -> 3224 | HB13: 11
A14: 5 | B14: Зырянский | C14: 05 | D14: =E14+F14 -> 18 | F14: 18 | G14: =H14+I14 -> 18 | I14: 18 | J14: 1 | K14: 1 | L14: =K14-J14 -> 0 | O14: =N14-M14 -> 0 | P14: =ROUND((J14+M14)/D14*100,1) -> 5.6 | Q14: =ROUND((K14+N14)/G14*100,1) -> 5.6 | V14: =U14-T14 -> 0 | Y14: =X14-W14 -> 0 | Z14: 0 | AA14: 0 | AD14: =AC14-AB14 -> 0 | AE14: 15 | AF14: 15 | AG14: =AF14-AE14 -> 0 | AH14: 14 | AI14: 14 | AJ14: =AI14-AH14 -> 0 | AK14: 14 | AL14: 14 | AM14: =AL14-AK14 -> 0 | AP14: =AO14-AN14 -> 0 | AR14: 5 | AS14: Зырянский | AT14: 05 | AU14: 14 | AV14: 14 | AW14: =AV14-AU14 -> 0 | AX14: 14 | AY14: 14 | AZ14: =AY14-AX14 -> 0 | BA14: =ROUND(AU14/D14*100,1) -> 77.8 | BB14: =ROUND(AV14/G14*100,1) -> 77.8 | BC14: 1 | BD14: 2 | BE14: =BD14-BC14 -> 1 | BF14: 1 | BG14: 1 | BH14: =BG14-BF14 -> 0 | BI14: 1 | BJ14: 1 | BK14: =BJ14-BI14 -> 0 | BL14: 14.092 | BM14: 14.471 | BN14: =BM14-BL14 -> 0.379 | BO14: 14.092 | BP14: 14.471 | BQ14: =BP14-BO14 -> 0.379 | BS14: 5 | BT14: Зырянский | BU14: 05 | BV14: =BW14+BX14 -> 11.2 | BX14: 11.2 | BY14: =BZ14+CA14 -> 11.1 | CA14: 11.1 | CB14: =ROUND(BV14/D14,2) -> 0.62 | CC14: 0 | CD14: =ROUND(BX14/F14,2) -> 0.62 | CE14: =ROUND(BY14/G14,2) -> 0.62 | CF14: 0 | CG14: =ROUND(CA14/I14,2) -> 0.62 | CH14: =CE14-CB14 -> 0 | CI14: =CF14-CC14 -> 0 | CJ14: =CG14-CD14 -> 0 | CL14: 5 | CM14: Зырянский | CN14: 05 | CO14: =CR14+CU14 -> 154.093 | CP14: =CS14+CV14 -> 162.016 | CQ14: =CP14-CO14 -> 7.923 | CT14: =CS14-CR14 -> 0 | CU14: 154.093 | CV14: 162.016 | CW14: =CV14-CU14 -> 7.923 | CX14: =DA14+DD14 -> 0.55 | CY14: =DB14+DE14 -> 7.923 | CZ14: =CY14-CX14 -> 7.373 | DC14: =DB14-DA14 -> 0 | DD14: 0.55 | DE14: 7.923 | DF14: =DE14-DD14 -> 7.373 | DG14: =ROUND(CX14*1000/BV14,0) -> 49 | DH14: =ROUND(CY14*1000/BY14,0) -> 714 | DI14: =DH14-DG14 -> 665 | DJ14: =ROUND(CO14/BV14,1) -> 13.8 | DK14: =ROUND(CP14/BY14,1) -> 14.6 | DL14: =DK14-DJ14 -> 0.8 | DM14: 2 | DO14: 5 | DP14: Зырянский | DQ14: 05 | DR14: 6.006 | DS14: 6.035 | DT14: =DS14-DR14 -> 0.029 | DU14: 6.006 | DV14: 6.035 | DW14: =DV14-DU14 -> 0.029 | DX14: =ROUND(DR14/BV14*100,1) -> 53.6 | DY14: =ROUND(DS14/BY14*100,1) -> 54.4 | DZ14: =DY14-DX14 -> 0.8 | EA14: 7 | EB14: 81.498 | EC14: 96.546 | ED14: =EC14-EB14 -> 15.048 | EE14: 20.45 | EF14: 7.576 | EG14: =EF14-EE14 -> -12.874 | EH14: 25.848 | EI14: 23.589 | EJ14: =EI14-EH14 -> -2.259 | EK14: =ROUND(CO14/DR14,1) -> 25.7 | EL14: =ROUND(CP14/DS14,1) -> 26.8 | EM14: =EL14-EK14 -> 1.1 | EN14: 1146 | EO14: 1149 | EP14: =EO14-EN14 -> 3 | EQ14: 149.463 | ER14: 207.867 | ES14: =ER14-EQ14 -> 58.404 | ET14: =ROUND(EQ14/DR14,1) -> 24.9 | EU14: =ROUND(ER14/DS14,1) -> 34.4 | EV14: =EU14-ET14 -> 9.5 | EW14: =ROUND(EQ14/CO14,1) -> 1 | EX14: =ROUND(ER14/CP14,1) -> 1.3 | EY14: =EX14-EW14 -> 0.3 | EZ14: 4.474 | FA14: 5.491 | FB14: =FA14-EZ14 -> 1.017 | FC14: 0.065 | FD14: 0.054 | FE14: =FD14-FC14 -> -0.011 | FG14: 5 | FH14: Зырянский | FI14: 05 | FJ14: 31 | FK14: 31 | FL14: =FK14-FJ14 -> 0 | FM14: 25 | FN14: 26 | FO14: =FN14-FM14 -> 1 | FP14: 7 | FQ14: 8 | FR14: =FQ14-FP14 -> 1 | FS14: 18 | FT14: 18 | FU14: =FT14-FS14 -> 0 | FV14: =ROUND((FQ14+FT14)/FN14*100,1) -> 100 | FW14: 1 | FX14: =ROUND(DR14*1000/FM14,0) -> 240 | FY14: =ROUND(DS14*1000/FN14,0) -> 232 | FZ14: =FY14-FX14 -> -8 | GA14: =ROUND(EQ14/FM14,1) -> 6 | GB14: =ROUND(ER14/FN14,1) -> 8 | GC14: =GB14-GA14 -> 2 | GE14: 5 | GF14: Зырянский | GG14: 05 | GH14: =GK14+GL14+GM14 -> 12505 | GI14: =ROUND(GH14/G14,0) -> 695 | GJ14: 19 | GK14: 7653 | GL14: 4798 | GM14: 54 | GN14: 49 | GP14: =ROUND((GK14+GL14)/GH14*100,1) -> 99.6 | GQ14: 12505 | GR14: 9230 | GT14: 1132 | GV14: 379 | GW14: 29 | GY14: =ROUND(GH14/BY14,0) -> 1127 | GZ14: 14 | HA14: =ROUND(GH14/DS14,0) -> 2072 | HB14: 14
A15: 6 | B15: Каргасокский | C15: 06 | D15: =E15+F15 -> 22 | F15: 22 | G15: =H15+I15 -> 22 | I15: 22 | L15: =K15-J15 -> 0 | O15: =N15-M15 -> 0 | P15: =ROUND((J15+M15)/D15*100,1) -> 0 | Q15: =ROUND((K15+N15)/G15*100,1) -> 0 | R15: 1 | S15: 1 | V15: =U15-T15 -> 0 | Y15: =X15-W15 -> 0 | Z15: =ROUND((T15+W15)/R15*100,1) -> 0 | AA15: =ROUND((U15+X15)/S15*100,1) -> 0 | AB15: 17 | AC15: 17 | AD15: =AC15-AB15 -> 0 | AE15: 22 | AF15: 22 | AG15: =AF15-AE15 -> 0 | AH15: 7 | AI15: 7 | AJ15: =AI15-AH15 -> 0 | AK15: 7 | AL15: 7 | AM15: =AL15-AK15 -> 0 | AN15: 38 | AO15: 38 | AP15: =AO15-AN15 -> 0 | AR15: 6 | AS15: Каргасокский | AT15: 06 | AU15: 15 | AV15: 15 | AW15: =AV15-AU15 -> 0 | AX15: 7 | AY15: 7 | AZ15: =AY15-AX15 -> 0 | BA15: =ROUND(AU15/D15*100,1) -> 68.2 | BB15: =ROUND(AV15/G15*100,1) -> 68.2 | BC15: 10 | BD15: 11 | BE15: =BD15-BC15 -> 1 | BF15: 1 | BG15: 1 | BH15: =BG15-BF15 -> 0 | BI15: 1 | BJ15: 1 | BK15: =BJ15-BI15 -> 0 | BL15: 23.722 | BM15: 25.722 | BN15: =BM15-BL15 -> 2 | BO15: 23.722 | BP15: 25.722 | BQ15: =BP15-BO15 -> 2 | BS15: 6 | BT15: Каргасокский | BU15: 06 | BV15: =BW15+BX15 -> 18.8 | BX15: 18.8 | BY15: =BZ15+CA15 -> 18.7 | CA15: 18.7 | CB15: =ROUND(BV15/D15,2) -> 0.85 | CC15: 0 | CD15: =ROUND(BX15/F15,2) -> 0.85 | CE15: =ROUND(BY15/G15,2) -> 0.85 | CF15: 0 | CG15: =ROUND(CA15/I15,2) -> 0.85 | CH15: =CE15-CB15 -> 0 | CI15: =CF15-CC15 -> 0 | CJ15: =CG15-CD15 -> 0 | CL15: 6 | CM15: Каргасокский | CN15: 06 | CO15: =CR15+CU15 -> 173.938 | CP15: =CS15+CV15 -> 170.319 | CQ15: =CP15-CO15 -> -3.619 | CT15: =CS15-CR15 -> 0 | CU15: 173.938 | CV15: 170.319 | CW15: =CV15-CU15 -> -3.619 | CX15: =DA15+DD15 -> 2.364 | CY15: =DB15+DE15 -> 2.927 | CZ15: =CY15-CX15 -> 0.563 | DC15: =DB15-DA15 -> 0 | DD15: 2.364 | DE15: 2.927 | DF15: =DE15-DD15 -> 0.563 | DG15: =ROUND(CX15*1000/BV15,0) -> 126 | DH15: =ROUND(CY15*1000/BY15,0) -> 157 | DI15: =DH15-DG15 -> 31 | DJ15: =ROUND(CO15/BV15,1) -> 9.3 | DK15: =ROUND(CP15/BY15,1) -> 9.1 | DL15: =DK15-DJ15 -> -0.2 | DM15: 8 | DO15: 6 | DP15: Каргасокский | DQ15: 06 | DR15: 7.014 | DS15: 7.738 | DT15: =DS15-DR15 -> 0.724 | DU15: 6.448 | DV15: 6.881 | DW15: =DV15-DU15 -> 0.433 | DX15: =ROUND(DR15/BV15*100,1) -> 37.3 | DY15: =ROUND(DS15/BY15*100,1) -> 41.4 | DZ15: =DY15-DX15 -> 4.1 | EA15: 11 | EB15: 53.987 | EC15: 97.475 | ED15: =EC15-EB15 -> 43.488 | EE15: 11.939 | EF15: 19.731 | EG15: =EF15-EE15 -> 7.792 | EH15: 12.696 | EI15: 11.088 | EJ15: =EI15-EH15 -> -1.608 | EK15: =ROUND(CO15/DR15,1) -> 24.8 | EL15: =ROUND(CP15/DS15,1) -> 22 | EM15: =EL15-EK15 -> -2.8 | EN15: 1548 | EO15: 1768 | EP15: =EO15-EN15 -> 220 | EQ15: 162.011 | ER15: 179.381 | ES15: =ER15-EQ15 -> 17.37 | ET15: =ROUND(EQ15/DR15,1) -> 23.1 | EU15: =ROUND(ER15/DS15,1) -> 23.2 | EV15: =EU15-ET15 -> 0.1 | EW15: =ROUND(EQ15/CO15,1) -> 0.9 | EX15: =ROUND(ER15/CP15,1) -> 1.1 | EY15: =EX15-EW15 -> 0.2 | EZ15: 5.424 | FA15: 5.836 | FB15: =FA15-EZ15 -> 0.412 | FE15: =FD15-FC15 -> 0 | FG15: 6 | FH15: Каргасокский | FI15: 06 | FJ15: 53 | FK15: 53 | FL15: =FK15-FJ15 -> 0 | FM15: 38 | FN15: 38 | FO15: =FN15-FM15 -> 0 | FP15: 13 | FQ15: 14 | FR15: =FQ15-FP15 -> 1 | FS15: 23 | FT15: 22 | FU15: =FT15-FS15 -> -1 | FV15: =ROUND((FQ15+FT15)/FN15*100,1) -> 94.7 | FW15: 6 | FX15: =ROUND(DR15*1000/FM15,0) -> 185 | FY15: =ROUND(DS15*1000/FN15,0) -> 204 | FZ15: =FY15-FX15 -> 19 | GA15: =ROUND(EQ15/FM15,1) -> 4.3 | GB15: =ROUND(ER15/FN15,1) -> 4.7 | GC15: =GB15-GA15 -> 0.4 | GE15: 6 | GF15: Каргасокский | GG15: 06 | GH15: =GK15+GL15+GM15 -> 49072.6 | GI15: =ROUND(GH15/G15,0) -> 2231 | GJ15: 8 | GK15: 34915.8 | GL15: 13829.3 | GM15: 327.5 | GP15: =ROUND((GK15+GL15)/GH15*100,1) -> 99.3 | GQ15: 49022.4 | GR15: 33099.1 | GT15: 6021.7 | GU15: 74.8 | GV15: 1310.4 | GX15: 3227.8 | GY15: =ROUND(GH15/BY15,0) -> 2624 | GZ15: 3 | HA15: =ROUND(GH15/DS15,0) -> 6342 | HB15: 4
A16: 7 | B16: Кожевниковский | C16: 07 | D16: =E16+F16 -> 21 | F16: 21 | G16: =H16+I16 -> 21 | I16: 21 | L16: =K16-J16 -> 0 | O16: =N16-M16 -> 0 | P16: =ROUND((J16+M16)/D16*100,1) -> 0 | Q16: =ROUND((K16+N16)/G16*100,1) -> 0 | V16: =U16-T16 -> 0 | Y16: =X16-W16 -> 0 | Z16: 0 | AA16: 0 | AB16: 10 | AC16: 9 | AD16: =AC16-AB16 -> -1 | AE16: 20 | AF16: 20 | AG16: =AF16-AE16 -> 0 | AH16: 19 | AI16: 20 | AJ16: =AI16-AH16 -> 1 | AK16: 10 | AL16: 15 | AM16: =AL16-AK16 -> 5 | AN16: 17 | AO16: 16 | AP16: =AO16-AN16 -> -1 | AR16: 7 | AS16: Кожевниковский | AT16: 07 | AU16: 20 | AV16: 19 | AW16: =AV16-AU16 -> -1 | AX16: 12 | AY16: 12 | AZ16: =AY16-AX16 -> 0 | BA16: =ROUND(AU16/D16*100,1) -> 95.2 | BB16: =ROUND(AV16/G16*100,1) -> 90.5 | BC16: 20 | BD16: 19 | BE16: =BD16-BC16 -> -1 | BF16: 1 | BG16: 1 | BH16: =BG16-BF16 -> 0 | BJ16: 1 | BK16: =BJ16-BI16 -> 1 | BL16: 23.305 | BM16: 24.148 | BN16: =BM16-BL16 -> 0.843 | BP16: 24.148 | BQ16: =BP16-BO16 -> 24.148 | BS16: 7 | BT16: Кожевниковский | BU16: 07 | BV16: =BW16+BX16 -> 20.3 | BX16: 20.3 | BY16: =BZ16+CA16 -> 20.3 | CA16: 20.3 | CB16: =ROUND(BV16/D16,2) -> 0.97 | CC16: 0 | CD16: =ROUND(BX16/F16,2) -> 0.97 | CE16: =ROUND(BY16/G16,2) -> 0.97 | CF16: 0 | CG16: =ROUND(CA16/I16,2) -> 0.97 | CH16: =CE16-CB16 -> 0 | CI16: =CF16-CC16 -> 0 | CJ16: =CG16-CD16 -> 0 | CL16: 7 | CM16: Кожевниковский | CN16: 07 | CO16: =CR16+CU16 -> 193.993 | CP16: =CS16+CV16 -> 192.79 | CQ16: =CP16-CO16 -> -1.203 | CT16: =CS16-CR16 -> 0 | CU16: 193.993 | CV16: 192.79 | CW16: =CV16-CU16 -> -1.203 | CX16: =DA16+DD16 -> 0.848 | CY16: =DB16+DE16 -> 1.314 | CZ16: =CY16-CX16 -> 0.466 | DC16: =DB16-DA16 -> 0 | DD16: 0.848 | DE16: 1.314 | DF16: =DE16-DD16 -> 0.466 | DG16: =ROUND(CX16*1000/BV16,0) -> 42 | DH16: =ROUND(CY16*1000/BY16,0) -> 65 | DI16: =DH16-DG16 -> 23 | DJ16: =ROUND(CO16/BV16,1) -> 9.6 | DK16: =ROUND(CP16/BY16,1) -> 9.5 | DL16: =DK16-DJ16 -> -0.1 | DM16: 7 | DO16: 7 | DP16: Кожевниковский | DQ16: 07 | DR16: 17.713 | DS16: 13.417 | DT16: =DS16-DR16 -> -4.296 | DU16: 11.005 | DV16: 11.895 | DW16: =DV16-DU16 -> 0.89 | DX16: =ROUND(DR16/BV16*100,1) -> 87.3 | DY16: =ROUND(DS16/BY16*100,1) -> 66.1 | DZ16: =DY16-DX16 -> -21.2 | EA16: 3 | EB16: 144.3 | EC16: 178.681 | ED16: =EC16-EB16 -> 34.381 | EE16: 22.54 | EF16: 44.232 | EG16: =EF16-EE16 -> 21.692 | EH16: 131.366 | EI16: 52.019 | EJ16: =EI16-EH16 -> -79.347 | EK16: =ROUND(CO16/DR16,1) -> 11 | EL16: =ROUND(CP16/DS16,1) -> 14.4 | EM16: =EL16-EK16 -> 3.4 | EN16: 2596 | EO16: 2088 | EP16: =EO16-EN16 -> -508 | EQ16: 220.184 | ER16: 249.229 | ES16: =ER16-EQ16 -> 29.045 | ET16: =ROUND(EQ16/DR16,1) -> 12.4 | EU16: =ROUND(ER16/DS16,1) -> 18.6 | EV16: =EU16-ET16 -> 6.2 | EW16: =ROUND(EQ16/CO16,1) -> 1.1 | EX16: =ROUND(ER16/CP16,1) -> 1.3 | EY16: =EX16-EW16 -> 0.2 | EZ16: 55.595 | FA16: 59.615 | FB16: =FA16-EZ16 -> 4.02 | FC16: 0.368 | FD16: 0.326 | FE16: =FD16-FC16 -> -0.042 | FG16: 7 | FH16: Кожевниковский | FI16: 07 | FJ16: 33 | FK16: 34 | FL16: =FK16-FJ16 -> 1 | FM16: 30 | FN16: 31 | FO16: =FN16-FM16 -> 1 | FP16: 9 | FQ16: 8 | FR16: =FQ16-FP16 -> -1 | FS16: 18 | FT16: 23 | FU16: =FT16-FS16 -> 5 | FV16: =ROUND((FQ16+FT16)/FN16*100,1) -> 100 | FW16: 1 | FX16: =ROUND(DR16*1000/FM16,0) -> 590 | FY16: =ROUND(DS16*1000/FN16,0) -> 433 | FZ16: =FY16-FX16 -> -157 | GA16: =ROUND(EQ16/FM16,1) -> 7.3 | GB16: =ROUND(ER16/FN16,1) -> 8 | GC16: =GB16-GA16 -> 0.7 | GE16: 7 | GF16: Кожевниковский | GG16: 07 | GH16: =GK16+GL16+GM16 -> 16444 | GI16: =ROUND(GH16/G16,0) -> 783 | GJ16: 18 | GK16: 16404 | GM16: 40 | GN16: 40 | GP16: =ROUND((GK16+GL16)/GH16*100,1) -> 99.8 | GQ16: 16320.9 | GR16: 13783.4 | GS16: 300 | GV16: 294 | GY16: =ROUND(GH16/BY16,0) -> 810 | GZ16: 16 | HA16: =ROUND(GH16/DS16,0) -> 1226 | HB16: 19
A17: 8 | B17: Колпашевский | C17: 08 | D17: =E17+F17 -> 26 | E17: 5 | F17: 21 | G17: =H17+I17 -> 26 | H17: 5 | I17: 21 | L17: =K17-J17 -> 0 | O17: =N17-M17 -> 0 | P17: =ROUND((J17+M17)/D17*100,1) -> 0 | Q17: =ROUND((K17+N17)/G17*100,1) -> 0 | R17: 2 | S17: 2 | V17: =U17-T17 -> 0 | Y17: =X17-W17 -> 0 | Z17: =ROUND((T17+W17)/R17*100,1) -> 0 | AA17: =ROUND((U17+X17)/S17*100,1) -> 0 | AB17: 1 | AC17: 1 | AD17: =AC17-AB17 -> 0 | AE17: 26 | AF17: 25 | AG17: =AF17-AE17 -> -1 | AH17: 6 | AI17: 7 | AJ17: =AI17-AH17 -> 1 | AK17: 6 | AL17: 7 | AM17: =AL17-AK17 -> 1 | AN17: 8 | AO17: 8 | AP17: =AO17-AN17 -> 0 | AR17: 8 | AS17: Колпашевский | AT17: 08 | AU17: 24 | AV17: 25 | AW17: =AV17-AU17 -> 1 | AX17: 24 | AY17: 25 | AZ17: =AY17-AX17 -> 1 | BA17: =ROUND(AU17/D17*100,1) -> 92.3 | BB17: =ROUND(AV17/G17*100,1) -> 96.2 | BC17: 25 | BD17: 25 | BE17: =BD17-BC17 -> 0 | BF17: 1 | BG17: 1 | BH17: =BG17-BF17 -> 0 | BI17: 1 | BJ17: 1 | BK17: =BJ17-BI17 -> 0 | BL17: 90.291 | BM17: 93.551 | BN17: =BM17-BL17 -> 3.26 | BO17: 89.38 | BP17: 92.64 | BQ17: =BP17-BO17 -> 3.26 | BS17: 8 | BT17: Колпашевский | BU17: 08 | BV17: =BW17+BX17 -> 37.7 | BW17: 22.9 | BX17: 14.8 | BY17: =BZ17+CA17 -> 37.2 | BZ17: 22.6 | CA17: 14.6 | CB17: =ROUND(BV17/D17,2) -> 1.45 | CC17: =ROUND(BW17/E17,2) -> 4.58 | CD17: =ROUND(BX17/F17,2) -> 0.7 | CE17: =ROUND(BY17/G17,2) -> 1.43 | CF17: =ROUND(BZ17/H17,2) -> 4.52 | CG17: =ROUND(CA17/I17,2) -> 0.7 | CH17: =CE17-CB17 -> -0.02 | CI17: =CF17-CC17 -> -0.06 | CJ17: =CG17-CD17 -> 0 | CL17: 8 | CM17: Колпашевский | CN17: 08 | CO17: =CR17+CU17 -> 288.188 | CP17: =CS17+CV17 -> 283.414 | CQ17: =CP17-CO17 -> -4.774 | CR17: 152.477 | CS17: 150.527 | CT17: =CS17-CR17 -> -1.95 | CU17: 135.711 | CV17: 132.887 | CW17: =CV17-CU17 -> -2.824 | CX17: =DA17+DD17 -> 5.584 | CY17: =DB17+DE17 -> 7.183 | CZ17: =CY17-CX17 -> 1.599 | DA17: 3.369 | DB17: 4.454 | DC17: =DB17-DA17 -> 1.085 | DD17: 2.215 | DE17: 2.729 | DF17: =DE17-DD17 -> 0.514 | DG17: =ROUND(CX17*1000/BV17,0) -> 148 | DH17: =ROUND(CY17*1000/BY17,0) -> 193 | DI17: =DH17-DG17 -> 45 | DJ17: =ROUND(CO17/BV17,1) -> 7.6 | DK17: =ROUND(CP17/BY17,1) -> 7.6 | DL17: =DK17-DJ17 -> 0 | DM17: 12 | DO17: 8 | DP17: Колпашевский | DQ17: 08 | DR17: 12.818 | DS17: 12.813 | DT17: =DS17-DR17 -> -0.005 | DU17: 11.782 | DV17: 11.875 | DW17: =DV17-DU17 -> 0.093 | DX17: =ROUND(DR17/BV17*100,1) -> 34 | DY17: =ROUND(DS17/BY17*100,1) -> 34.4 | DZ17: =DY17-DX17 -> 0.4 | EA17: 16 | EB17: 67.864 | EC17: 89.462 | ED17: =EC17-EB17 -> 21.598 | EE17: 7.323 | EF17: 12.041 | EG17: =EF17-EE17 -> 4.718 | EH17: 75.007 | EI17: 35.971 | EJ17: =EI17-EH17 -> -39.036 | EK17: =ROUND(CO17/DR17,1) -> 22.5 | EL17: =ROUND(CP17/DS17,1) -> 22.1 | EM17: =EL17-EK17 -> -0.4 | EN17: 1151 | EO17: 1673 | EP17: =EO17-EN17 -> 522 | EQ17: 231.344 | ER17: 295.479 | ES17: =ER17-EQ17 -> 64.135 | ET17: =ROUND(EQ17/DR17,1) -> 18 | EU17: =ROUND(ER17/DS17,1) -> 23.1 | EV17: =EU17-ET17 -> 5.1 | EW17: =ROUND(EQ17/CO17,1) -> 0.8 | EX17: =ROUND(ER17/CP17,1) -> 1 | EY17: =EX17-EW17 -> 0.2 | EZ17: 14.418 | FA17: 21.277 | FB17: =FA17-EZ17 -> 6.859 | FC17: 0.628 | FD17: 5.152 | FE17: =FD17-FC17 -> 4.524 | FG17: 8 | FH17: Колпашевский | FI17: 08 | FJ17: 75 | FK17: 75 | FL17: =FK17-FJ17 -> 0 | FM17: 54 | FN17: 54 | FO17: =FN17-FM17 -> 0 | FP17: 22 | FQ17: 23 | FR17: =FQ17-FP17 -> 1 | FS17: 25 | FT17: 25 | FU17: =FT17-FS17 -> 0 | FV17: =ROUND((FQ17+FT17)/FN17*100,1) -> 88.9 | FW17: 8 | FX17: =ROUND(DR17*1000/FM17,0) -> 237 | FY17: =ROUND(DS17*1000/FN17,0) -> 237 | FZ17: =FY17-FX17 -> 0 | GA17: =ROUND(EQ17/FM17,1) -> 4.3 | GB17: =ROUND(ER17/FN17,1) -> 5.5 | GC17: =GB17-GA17 -> 1.2 | GE17: 8 | GF17: Колпашевский | GG17: 08 | GH17: =GK17+GL17+GM17 -> 73696.2 | GI17: =ROUND(GH17/G17,0) -> 2834 | GJ17: 3 | GK17: 73593 | GM17: 103.2 | GP17: =ROUND((GK17+GL17)/GH17*100,1) -> 99.9 | GQ17: 73702.3 | GR17: 45975.2 | GT17: 6035 | GV17: 1550.6 | GW17: 73.7 | GY17: =ROUND(GH17/BY17,0) -> 1981 | GZ17: 7 | HA17: =ROUND(GH17/DS17,0) -> 5752 | HB17: 5
A18: 9 | B18: Кривошеинский | C18: 09 | D18: =E18+F18 -> 13 | F18: 13 | G18: =H18+I18 -> 13 | I18: 13 | J18: 1 | K18: 1 | L18: =K18-J18 -> 0 | O18: =N18-M18 -> 0 | P18: =ROUND((J18+M18)/D18*100,1) -> 7.7 | Q18: =ROUND((K18+N18)/G18*100,1) -> 7.7 | V18: =U18-T18 -> 0 | Y18: =X18-W18 -> 0 | Z18: 0 | AA18: 0 | AB18: 3 | AC18: 3 | AD18: =AC18-AB18 -> 0 | AE18: 13 | AF18: 13 | AG18: =AF18-AE18 -> 0 | AH18: 7 | AI18: 7 | AJ18: =AI18-AH18 -> 0 | AK18: 7 | AL18: 7 | AM18: =AL18-AK18 -> 0 | AN18: 11 | AO18: 11 | AP18: =AO18-AN18 -> 0 | AR18: 9 | AS18: Кривошеинский | AT18: 09 | AU18: 8 | AV18: 8 | AW18: =AV18-AU18 -> 0 | AX18: 7 | AY18: 7 | AZ18: =AY18-AX18 -> 0 | BA18: =ROUND(AU18/D18*100,1) -> 61.5 | BB18: =ROUND(AV18/G18*100,1) -> 61.5 | BC18: 10 | BD18: 10 | BE18: =BD18-BC18 -> 0 | BF18: 1 | BG18: 1 | BH18: =BG18-BF18 -> 0 | BI18: 1 | BJ18: 1 | BK18: =BJ18-BI18 -> 0 | BL18: 22.782 | BM18: 24.064 | BN18: =BM18-BL18 -> 1.282 | BO18: 22.782 | BP18: 24.064 | BQ18: =BP18-BO18 -> 1.282 | BS18: 9 | BT18: Кривошеинский | BU18: 09 | BV18: =BW18+BX18 -> 11.8 | BX18: 11.8 | BY18: =BZ18+CA18 -> 11.8 | CA18: 11.8 | CB18: =ROUND(BV18/D18,2) -> 0.91 | CC18: 0 | CD18: =ROUND(BX18/F18,2) -> 0.91 | CE18: =ROUND(BY18/G18,2) -> 0.91 | CF18: 0 | CG18: =ROUND(CA18/I18,2) -> 0.91 | CH18: =CE18-CB18 -> 0 | CI18: =CF18-CC18 -> 0 | CJ18: =CG18-CD18 -> 0 | CL18: 9 | CM18: Кривошеинский | CN18: 09 | CO18: =CR18+CU18 -> 132.036 | CP18: =CS18+CV18 -> 131.224 | CQ18: =CP18-CO18 -> -0.812 | CT18: =CS18-CR18 -> 0 | CU18: 132.036 | CV18: 131.224 | CW18: =CV18-CU18 -> -0.812 | CX18: =DA18+DD18 -> 1.306 | CY18: =DB18+DE18 -> 0.672 | CZ18: =CY18-CX18 -> -0.634 | DC18: =DB18-DA18 -> 0 | DD18: 1.306 | DE18: 0.672 | DF18: =DE18-DD18 -> -0.634 | DG18: =ROUND(CX18*1000/BV18,0) -> 111 | DH18: =ROUND(CY18*1000/BY18,0) -> 57 | DI18: =DH18-DG18 -> -54 | DJ18: =ROUND(CO18/BV18,1) -> 11.2 | DK18: =ROUND(CP18/BY18,1) -> 11.1 | DL18: =DK18-DJ18 -> -0.1 | DM18: 5 | DO18: 9 | DP18: Кривошеинский | DQ18: 09 | DR18: 6.273 | DS18: 7.11 | DT18: =DS18-DR18 -> 0.837 | DU18: 5.72 | DV18: 6.324 | DW18: =DV18-DU18 -> 0.604 | DX18: =ROUND(DR18/BV18*100,1) -> 53.2 | DY18: =ROUND(DS18/BY18*100,1) -> 60.3 | DZ18: =DY18-DX18 -> 7.1 | EA18: 4 | EB18: 57.411 | EC18: 67.473 | ED18: =EC18-EB18 -> 10.062 | EE18: 7.237 | EF18: 10.917 | EG18: =EF18-EE18 -> 3.68 | EH18: 5.23 | EI18: 5.179 | EJ18: =EI18-EH18 -> -0.051 | EK18: =ROUND(CO18/DR18,1) -> 21 | EL18: =ROUND(CP18/DS18,1) -> 18.5 | EM18: =EL18-EK18 -> -2.5 | EN18: 614 | EO18: 780 | EP18: =EO18-EN18 -> 166 | EQ18: 170.323 | ER18: 197.234 | ES18: =ER18-EQ18 -> 26.911 | ET18: =ROUND(EQ18/DR18,1) -> 27.2 | EU18: =ROUND(ER18/DS18,1) -> 27.7 | EV18: =EU18-ET18 -> 0.5 | EW18: =ROUND(EQ18/CO18,1) -> 1.3 | EX18: =ROUND(ER18/CP18,1) -> 1.5 | EY18: =EX18-EW18 -> 0.2 | EZ18: 4.639 | FA18: 5.451 | FB18: =FA18-EZ18 -> 0.812 | FD18: 0.001 | FE18: =FD18-FC18 -> 0.001 | FG18: 9 | FH18: Кривошеинский | FI18: 09 | FJ18: 26 | FK18: 26 | FL18: =FK18-FJ18 -> 0 | FM18: 21 | FN18: 21 | FO18: =FN18-FM18 -> 0 | FP18: 9 | FQ18: 9 | FR18: =FQ18-FP18 -> 0 | FS18: 11 | FT18: 11 | FU18: =FT18-FS18 -> 0 | FV18: =ROUND((FQ18+FT18)/FN18*100,1) -> 95.2 | FW18: 4 | FX18: =ROUND(DR18*1000/FM18,0) -> 299 | FY18: =ROUND(DS18*1000/FN18,0) -> 339 | FZ18: =FY18-FX18 -> 40 | GA18: =ROUND(EQ18/FM18,1) -> 8.1 | GB18: =ROUND(ER18/FN18,1) -> 9.4 | GC18: =GB18-GA18 -> 1.3 | GE18: 9 | GF18: Кривошеинский | GG18: 09 | GH18: =GK18+GL18+GM18 -> 15666 | GI18: =ROUND(GH18/G18,0) -> 1205 | GJ18: 16 | GK18: 9002 | GL18: 6585 | GM18: 79 | GP18: =ROUND((GK18+GL18)/GH18*100,1) -> 99.5 | GQ18: 15666 | GR18: 13923 | GT18: 128 | GV18: 414 | GY18: =ROUND(GH18/BY18,0) -> 1328 | GZ18: 12 | HA18: =ROUND(GH18/DS18,0) -> 2203 | HB18: 13
A19: 10 | B19: Молчановский | C19: 10 | D19: =E19+F19 -> 13 | F19: 13 | G19: =H19+I19 -> 13 | I19: 13 | J19: 1 | K19: 1 | L19: =K19-J19 -> 0 | O19: =N19-M19 -> 0 | P19: =ROUND((J19+M19)/D19*100,1) -> 7.7 | Q19: =ROUND((K19+N19)/G19*100,1) -> 7.7 | V19: =U19-T19 -> 0 | Y19: =X19-W19 -> 0 | Z19: 0 | AA19: 0 | AD19: =AC19-AB19 -> 0 | AE19: 12 | AF19: 12 | AG19: =AF19-AE19 -> 0 | AH19: 6 | AI19: 6 | AJ19: =AI19-AH19 -> 0 | AK19: 6 | AL19: 6 | AM19: =AL19-AK19 -> 0 | AP19: =AO19-AN19 -> 0 | AR19: 10 | AS19: Молчановский | AT19: 10 | AU19: 13 | AV19: 13 | AW19: =AV19-AU19 -> 0 | AX19: 6 | AY19: 6 | AZ19: =AY19-AX19 -> 0 | BA19: =ROUND(AU19/D19*100,1) -> 100 | BB19: =ROUND(AV19/G19*100,1) -> 100 | BC19: 1 | BD19: 1 | BE19: =BD19-BC19 -> 0 | BF19: 1 | BG19: 1 | BH19: =BG19-BF19 -> 0 | BI19: 1 | BJ19: 1 | BK19: =BJ19-BI19 -> 0 | BL19: 32.869 | BM19: 34.331 | BN19: =BM19-BL19 -> 1.462 | BO19: 32.869 | BP19: 34.331 | BQ19: =BP19-BO19 -> 1.462 | BS19: 10 | BT19: Молчановский | BU19: 10 | BV19: =BW19+BX19 -> 12.1 | BX19: 12.1 | BY19: =BZ19+CA19 -> 12.1 | CA19: 12.1 | CB19: =ROUND(BV19/D19,2) -> 0.93 | CC19: 0 | CD19: =ROUND(BX19/F19,2) -> 0.93 | CE19: =ROUND(BY19/G19,2) -> 0.93 | CF19: 0 | CG19: =ROUND(CA19/I19,2) -> 0.93 | CH19: =CE19-CB19 -> 0 | CI19: =CF19-CC19 -> 0 | CJ19: =CG19-CD19 -> 0 | CL19: 10 | CM19: Молчановский | CN19: 10 | CO19: =CR19+CU19 -> 126.254 | CP19: =CS19+CV19 -> 123.021 | CQ19: =CP19-CO19 -> -3.233 | CT19: =CS19-CR19 -> 0 | CU19: 126.254 | CV19: 123.021 | CW19: =CV19-CU19 -> -3.233 | CX19: =DA19+DD19 -> 1.535 | CY19: =DB19+DE19 -> 3.192 | CZ19: =CY19-CX19 -> 1.657 | DC19: =DB19-DA19 -> 0 | DD19: 1.535 | DE19: 3.192 | DF19: =DE19-DD19 -> 1.657 | DG19: =ROUND(CX19*1000/BV19,0) -> 127 | DH19: =ROUND(CY19*1000/BY19,0) -> 264 | DI19: =DH19-DG19 -> 137 | DJ19: =ROUND(CO19/BV19,1) -> 10.4 | DK19: =ROUND(CP19/BY19,1) -> 10.2 | DL19: =DK19-DJ19 -> -0.2 | DM19: 6 | DO19: 10 | DP19: Молчановский | DQ19: 10 | DR19: 7.484 | DS19: 8.272 | DT19: =DS19-DR19 -> 0.788 | DU19: 7.442 | DV19: 8.266 | DW19: =DV19-DU19 -> 0.824 | DX19: =ROUND(DR19/BV19*100,1) -> 61.9 | DY19: =ROUND(DS19/BY19*100,1) -> 68.4 | DZ19: =DY19-DX19 -> 6.5 | EA19: 1 | EB19: 74.036 | EC19: 96.106 | ED19: =EC19-EB19 -> 22.07 | EE19: 19.436 | EF19: 28.568 | EG19: =EF19-EE19 -> 9.132 | EH19: 18.036 | EI19: 7.106 | EJ19: =EI19-EH19 -> -10.93 | EK19: =ROUND(CO19/DR19,1) -> 16.9 | EL19: =ROUND(CP19/DS19,1) -> 14.9 | EM19: =EL19-EK19 -> -2 | EN19: 531 | EO19: 1012 | EP19: =EO19-EN19 -> 481 | EQ19: 133.855 | ER19: 160.529 | ES19: =ER19-EQ19 -> 26.674 | ET19: =ROUND(EQ19/DR19,1) -> 17.9 | EU19: =ROUND(ER19/DS19,1) -> 19.4 | EV19: =EU19-ET19 -> 1.5 | EW19: =ROUND(EQ19/CO19,1) -> 1.1 | EX19: =ROUND(ER19/CP19,1) -> 1.3 | EY19: =EX19-EW19 -> 0.2 | EZ19: 11.71 | FA19: 10.865 | FB19: =FA19-EZ19 -> -0.845 | FC19: 0.411 | FD19: 0.519 | FE19: =FD19-FC19 -> 0.108 | FG19: 10 | FH19: Молчановский | FI19: 10 | FJ19: 30 | FK19: 29 | FL19: =FK19-FJ19 -> -1 | FM19: 23 | FN19: 23 | FO19: =FN19-FM19 -> 0 | FP19: 11 | FQ19: 11 | FR19: =FQ19-FP19 -> 0 | FS19: 12 | FT19: 12 | FU19: =FT19-FS19 -> 0 | FV19: =ROUND((FQ19+FT19)/FN19*100,1) -> 100 | FW19: 1 | FX19: =ROUND(DR19*1000/FM19,0) -> 325 | FY19: =ROUND(DS19*1000/FN19,0) -> 360 | FZ19: =FY19-FX19 -> 35 | GA19: =ROUND(EQ19/FM19,1) -> 5.8 | GB19: =ROUND(ER19/FN19,1) -> 7 | GC19: =GB19-GA19 -> 1.2 | GE19: 10 | GF19: Молчановский | GG19: 10 | GH19: =GK19+GL19+GM19 -> 16048 | GI19: =ROUND(GH19/G19,0) -> 1234 | GJ19: 15 | GK19: 15578.6 | GL19: 394.4 | GM19: 75 | GP19: =ROUND((GK19+GL19)/GH19*100,1) -> 99.5 | GQ19: 16048 | GR19: 14410.4 | GV19: 188.9 | GX19: 46.5 | GY19: =ROUND(GH19/BY19,0) -> 1326 | GZ19: 13 | HA19: =ROUND(GH19/DS19,0) -> 1940 | HB19: 16
