Workbook
Name ___xlfn_IFERROR: #N/A
Name __kat6: [1]Титул!$A$15
Name __xlfn_IFERROR: #N/A
Name _inf2007: NA()
Name _inf2008: NA()
Name _inf2009: NA()
Name _inf2010: NA()
Name _inf2011: NA()
Name _inf2012: NA()
Name _inf2013: NA()
Name _inf2014: NA()
Name _inf2015: NA()
Name _kat6: [2]Титул!$A$15
Name ColLastYearFB: NA()
Name ColLastYearFB1: NA()
Name ColThisYearFB: NA()
Name ghj: NA()
Name PeriodLastYearName: NA()
Name PeriodThisYearName: NA()
Name titul: [2]Титул!$B$3
Name zpl: NA()
Name ааа: NA()
Name АнМ: NA()
Name вв: NA()
Name График: "Диагр. 4"
Name ДПО: '[3]2002(v2)'!#REF!
Name иии: NA()
Name культура: '[3]2002(v2)'!#REF!
Name М1: NA()
Name Минздрав: NA()
Name мммммммммм: '[3]2002(v2)'!#REF!
Name Мониторинг1: NA()
Name ненужное: '[3]2002(v2)'!#REF!
Name новое: '[3]2002(v2)'!#REF!
Name новый: '[3]2002(v2)'!#REF!
Name ПОКАЗАТЕЛИ_ДОЛГОСР.ПРОГНОЗА: '[3]2002(v2)'!#REF!
Name ПОКАЗАТЕЛИ_ДОЛГОСР_ПРОГНОЗА: NA()
Name пппп: '[3]2002(v2)'!#REF!
Name пр: NA()
Name приб: NA()
Name прибвб2: NA()
Name Прогноз97: NA()
Name ррр: '[3]2002(v2)'!#REF!
Name старое: '[3]2002(v2)'!#REF!
Name фф: NA()
Name ффф: NA()
Name хрень: '[3]2002(v2)'!#REF!
Name ыыы: NA()

Sheet приложение 1 СПО (+без кл.рук)
G1: Приложение № 1
F2: к письму от ______________________№___________________________
A4: Мониторинг целевых показателей, установленных в плане мероприятий "дорожной карте" за 2022 год
A7: Наименование ОГОАУ | B7: Планируемая среднесписочная численность отдельной категории работников государственных и муниципальных учреждений, чел. | C7: Фактическая среднесписочная численность отдельной категории работников государственных и муниципальных учреждений на отчетный период, чел. | D7: Отношение средней заработной платы работников соответствующей категории к среднемесячному доходу от трудовой деятельности по Томской области, %* | E7: Средняя заработная плата отдельной категории работников списочного состава, руб. | G7: Плановое значение средней заработной платы отдельной категории работников на год, руб. | H7: Отклонение факта за отчетный период от планового значения на год, руб.
E8: план на отчетный период** | F8: факт за отчетный период
A9: 1 | B9: 2 | C9: 3 | D9: 4 | E9: 5 | F9: 6 | G9: 7 | H9: 8=6-7
A10: Преподаватели и мастера производственного обучения образовательных учреждений начального и среднего профессионального образования
A11: Областное государственное автономное профессиональное образовательное учреждение "Губернаторский колледж социально - культурных технологий и инноваций" | B11: ='[4]Форма 2 июнь 2022'!$IZ$14 -> 44 | C11: ='[5]УК расш(о)'!$F$11 -> 51 | D11: =F11/45193*100 -> 100.26171 | E11: ='[4]Форма 2 июнь 2022'!$JA$14 -> 41246.518 | F11: ='[5]УК расш(о)'!$Q$11 -> 45311.275 | G11: ='[4]Форма 2 июнь 2022'!$JA$14 -> 41246.518 | H11: =F11-G11 -> 4064.7565
A12: ='[6]Итого УК расш (о)'!$C$9 -> Областное государственное образовательное автономное учреждение среднего профессионального образования «Томский музыкальный колледж имени Э.В. Денисова» | B12: ='[4]Форма 2 июнь 2022'!$IZ$13 -> 61 | C12: ='[5]УК расш(о)'!$F$9 -> 61 | D12: =F12/45193*100 -> 96.917967 | E12: ='[4]Форма 2 июнь 2022'!$JA$13 -> 41123.423 | F12: ='[5]УК расш(о)'!$Q$9 -> 43800.137 | G12: ='[4]Форма 2 июнь 2022'!$JA$13 -> 41123.423 | H12: =F12-G12 -> 2676.7138
A13: Всего по СПО: | B13: =SUM(B11:B12) -> 105 | C13: =SUM(C11:C12) -> 112 | D13: =F13/45193*100 -> 98.440564 | E13: =(E11*B11+B12*E12)/B13 -> 41175.006 | F13: =(F11*C11+C12*F12)/C13 -> 44488.244 | G13: =(G11*B11+B12*G12)/B13 -> 41175.006 | H13: =F13-G13 -> 3313.2385
A14: Преподаватели и мастера производственного обучения образовательных учреждений начального и среднего профессионального образования (без классного руководства)
A15: Областное государственное автономное профессиональное образовательное учреждение "Губернаторский колледж социально - культурных технологий и инноваций" | B15: =B11 -> 44 | C15: =C11 -> 51 | D15: =F15/45193*100 -> 91.267605 | E15: =E11 -> 41246.518 | F15: ='[7]ОГАУК 2022 '!$BO$103 -> 41246.569 | G15: =G11 -> 41246.518 | H15: =F15-G15 -> 0.050636481
A16: ='[6]Итого УК расш (о)'!$C$9 -> Областное государственное образовательное автономное учреждение среднего профессионального образования «Томский музыкальный колледж имени Э.В. Денисова» | B16: =B12 -> 61 | C16: =C12 -> 61 | D16: =F16/45193*100 -> 90.995281 | E16: =E12 -> 41123.423 | F16: ='[7]ОГАУК 2022 '!$BO$104 -> 41123.497 | G16: =G12 -> 41123.423 | H16: =F16-G16 -> 0.074496571
A17: Всего по СПО: | B17: =SUM(B15:B16) -> 105 | C17: =SUM(C15:C16) -> 112 | D17: =F17/45193*100 -> 91.119285 | E17: =(E15*B15+B16*E16)/B17 -> 41175.006 | F17: =(F15*C15+C16*F16)/C17 -> 41179.539 | G17: =(G15*B15+B16*G16)/B17 -> 41175.006 | H17: =F17-G17 -> 4.5331605
A18: *Среднемесячный доход от трудовой деятельности по Томской области на 2022 год по ДК составляет 45 193,0 рублей
A19: **В соответствии с показателями, установленными в Финансовом обеспечении мероприятий региональной "дорожной карты" субъекта Российской Федерации в части повышения заработной платы за отчетный период

Sheet приложение 2 спо
E1: Приложение № 2
B2: к письму от ______________________№___________________________
A4: Мониторинг целевых показателей, установленных в плане мероприятий "дорожной карте"
A5: за 2022 год (данные ведомственной статистики)
A7: Наименование ОГАПОУ | B7: Среднесписочная численность, чел. | C7: ФОТ, тыс.руб | D7: Среднемесячная заработная плата по группам персонала, руб. | E7: Доля ФОТ АУП и вспомогательного персонала в общем ФОТ, %
A8: 1 | B8: 2 | C8: 3 | E8: 4
A9: Преподаватели и мастера производственного обучения образовательных учреждений начального и среднего профессионального образования
A10: ='приложение 3 спо'!A10:C10 -> Областное государственное автономное профессиональное образовательное учреждение "Губернаторский колледж социально - культурных технологий и инноваций" | E10: =(C13+C15)/C11 -> 0.3172091
A11: ФОТ , всего: | B11: =B13+B14+B15 -> 91.8 | C11: =C13+C14+C15 -> 49327.4 | D11: =C11/B11/12*1000 -> 44777.959
A12: в том числе по группам персонала:
A13: Административно-управленческий персонал | B13: 4 | C13: 4765.1 | D13: =C13/B13/12*1000 -> 99272.917
A14: Основной персонал | B14: 62.2 | C14: 33680.3 | D14: =C14/B14/12*1000 -> 45123.66
A15: Прочий персонал (вспомогательный) | B15: 25.6 | C15: 10882 | D15: =C15/B15/12*1000 -> 35423.177
A16: ='приложение 3 спо'!A14:C14 -> Областное государственное автономное профессиональное образовательное учреждение "Томский музыкальный колледж имени Э.В. Денисова " | E16: =(C19+C21)/C17 -> 0.22370442
A17: ФОТ , всего: | B17: =B19+B20+B21 -> 86.3 | C17: =C19+C20+C21 -> 46230.2 | D17: =C17/B17/12*1000 -> 44640.981
A18: в том числе по группам персонала:
A19: Административно-управленческий персонал | B19: 3.3 | C19: 3395.2 | D19: =C19/B19/12*1000 -> 85737.374
A20: Основной персонал | B20: 67.3 | C20: 35888.3 | D20: =C20/B20/12*1000 -> 44438.212
A21: Прочий персонал (вспомогательный) | B21: 15.7 | C21: 6946.7 | D21: =C21/B21/12*1000 -> 36872.081
A22: ИТОГО СПО: | E22: =(C25+C27)/C23 -> 0.27197209
A23: ФОТ , всего: | B23: =B25+B26+B27 -> 178.1 | C23: =C25+C26+C27 -> 95557.6 | D23: =C23/B23/12*1000 -> 44711.585
A24: в том числе по группам персонала:
A25: Административно-управленческий персонал | B25: =B19+B13 -> 7.3 | C25: =C19+C13 -> 8160.3 | D25: =C25/B25/12*1000 -> 93154.11
A26: Основной персонал | B26: =B20+B14 -> 129.5 | C26: =C20+C14 -> 69568.6 | D26: =C26/B26/12*1000 -> 44767.439
A27: Прочий персонал (вспомогательный) | B27: =B21+B15 -> 41.3 | C27: =C21+C15 -> 17828.7 | D27: =C27/B27/12*1000 -> 35973.971

Sheet приложение 3 спо
E1: Приложение № 3
C2: к письму от ______________________№___________________________
A4: Мониторинг целевых показателей, установленных в плане мероприятий "дорожной карте"
A5: за 2022 год (данные ведомственной статистики)
A7: Наименование ОГАПОУ | B7: Среднесписочная численность, чел. | C7: Среднемесячная заработная плата по категориям персонала, руб. | D7: ФОТ, тыс.руб* | E7: Отношение среднемесячной заработной платы категорий персонала к среднемесячной заработной плате основного персонала учреждений, раз
A8: 1 | B8: 2 | C8: 3 | E8: 4
A9: Преподаватели и мастера производственного обучения образовательных учреждений начального и среднего профессионального образования
A10: Областное государственное автономное профессиональное образовательное учреждение "Губернаторский колледж социально - культурных технологий и инноваций"
A11: Административно-управленческий персонал | B11: ='приложение 2 спо'!B13 -> 4 | C11: =D11/B11/12*1000 -> 99272.917 | D11: ='приложение 2 спо'!C13 -> 4765.1 | E11: =C11/C12 -> 2.2000192
A12: Основной персонал | B12: ='приложение 2 спо'!B14 -> 62.2 | C12: =D12/B12/12*1000 -> 45123.66 | D12: ='приложение 2 спо'!C14 -> 33680.3 | E12: =C12/C12 -> 1
A13: Вспомогательный персонал | B13: ='приложение 2 спо'!B15 -> 25.6 | C13: =D13/B13/12*1000 -> 35423.177 | D13: ='приложение 2 спо'!C15 -> 10882 | E13: =C13/C12 -> 0.78502446
A14: Областное государственное автономное профессиональное образовательное учреждение "Томский музыкальный колледж имени Э.В. Денисова "
A15: Административно-управленческий персонал | B15: ='приложение 2 спо'!B19 -> 3.3 | C15: =D15/B15/12*1000 -> 85737.374 | D15: ='приложение 2 спо'!C19 -> 3395.2 | E15: =C15/C16 -> 1.9293615
A16: Основной персонал | B16: ='приложение 2 спо'!B20 -> 67.3 | C16: =D16/B16/12*1000 -> 44438.212 | D16: ='приложение 2 спо'!C20 -> 35888.3 | E16: =C16/C16 -> 1
A17: Вспомогательный персонал | B17: ='приложение 2 спо'!B21 -> 15.7 | C17: =D17/B17/12*1000 -> 36872.081 | D17: ='приложение 2 спо'!C21 -> 6946.7 | E17: =C17/C16 -> 0.82973817
A18: ИТОГО СПО:
A19: ИТОГО: | B19: ='приложение 2 спо'!B23 -> 178.1 | C19: =D19/B19/12*1000 -> 44711.585 | D19: ='приложение 2 спо'!C23 -> 95557.6
A20: в том числе по группам персонала:
A21: Административно-управленческий персонал | B21: ='приложение 2 спо'!B25 -> 7.3 | C21: =D21/B21/12*1000 -> 93154.11 | D21: ='приложение 2 спо'!C25 -> 8160.3 | E21: =C21/C22 -> 2.0808452 | F21: =B11+B15 -> 7.3 | G21: =H21/F21/12*1000 -> 93154.11 | H21: =D11+D15 -> 8160.3
A22: Основной персонал | B22: ='приложение 2 спо'!B26 -> 129.5 | C22: =D22/B22/12*1000 -> 44767.439 | D22: ='приложение 2 спо'!C26 -> 69568.6 | E22: =C22/C22 -> 1 | F22: =B12+B16 -> 129.5 | G22: =H22/F22/12*1000 -> 44767.439 | H22: =D12+D16 -> 69568.6
A23: Прочий персонал (вспомогательный) | B23: ='приложение 2 спо'!B27 -> 41.3 | C23: =D23/B23/12*1000 -> 35973.971 | D23: ='приложение 2 спо'!C27 -> 17828.7 | E23: =C23/C22 -> 0.80357447 | F23: =B13+B17 -> 41.3 | G23: =H23/F23/12*1000 -> 35973.971 | H23: =D13+D17 -> 17828.7

Sheet приложение 1 ДПО
G1: Приложение 2
G2: к письму от _____________________№___________
A4: Мониторинг целевых показателей, установленных в плане мероприятий "дорожной карте" за 2022 год
A7: Наименование МУ | B7: Планируемая среднесписочная численность отдельной категории работников государственных и муниципальных учреждений, чел. | C7: Фактическая среднесписочная численность отдельной категории работников государственных и муниципальных учреждений на отчетный период, чел. | D7: Отношение средней заработной платы работников соответствующей категории к среднемесячному доходу от трудовой деятельности по Томской области, %* | E7: Средняя заработная плата отдельной категории работников списочного состава, руб. | G7: Плановое значение средней заработной платы отдельной категории работников на год, руб. | H7: Отклонение факта за отчетный период от планового значения на год, руб.
E8: план на отчетный период** | F8: факт за отчетный период
A9: 1 | B9: 2 | C9: 3 | D9: 4 | E9: 5 | F9: 6 | G9: 7 | H9: 8=6-7
A10: Педагогические работники дополнительного образования детей
A11: ОГАОУ ДО
A12: ОГАОУ ДО «Асиновская ДШИ» | B12: ='[8]ФОРМА 2 2022 июль'!$OE$13 -> 19 | C12: ='[5]УК расш(о)'!$F$15 -> 19 | D12: =F12/41175*100 -> 92.908957 | E12: =G12 -> 38255.263 | F12: ='[5]УК расш(о)'!$Q$15 -> 38255.263 | G12: ='[8]ФОРМА 2 2022 июль'!$OF$13 -> 38255.263 | H12: =F12-G12 -> 0
A13: ОГАОУ ДО «ДШИ» Верхнекетского района | B13: ='[8]ФОРМА 2 2022 июль'!$OE$14 -> 10 | C13: ='[5]УК расш(о)'!$F$17 -> 10 | D13: =F13/41175*100 -> 112.43473 | E13: =G13 -> 45564.167 | F13: ='[5]УК расш(о)'!$Q$17 -> 46295 | G13: ='[8]ФОРМА 2 2022 июль'!$OF$14 -> 45564.167 | H13: =F13-G13 -> 730.83333
A14: ОГАОУ ДО «Зырянская ДШИ» | B14: ='[8]ФОРМА 2 2022 июль'!$OE$15 -> 11 | C14: ='[5]УК расш(о)'!$F$19 -> 10 | D14: =F14/41175*100 -> 92.558187 | E14: =G14 -> 38110.606 | F14: ='[5]УК расш(о)'!$Q$19 -> 38110.833 | G14: ='[8]ФОРМА 2 2022 июль'!$OF$15 -> 38110.606 | H14: =F14-G14 -> 0.22727273
A15: ОГАОУ ДО «Кожевниковская ДШИ» | B15: ='[8]ФОРМА 2 2022 июль'!$OE$16 -> 15.6 | C15: ='[5]УК расш(о)'!$F$21 -> 15.6 | D15: =F15/41175*100 -> 100.25999 | E15: =G15 -> 41282.051 | F15: ='[5]УК расш(о)'!$Q$21 -> 41282.051 | G15: ='[8]ФОРМА 2 2022 июль'!$OF$16 -> 41282.051 | H15: =F15-G15 -> 0
A16: ОГАОУ ДО «Тегульдетская ДШИ» | B16: ='[8]ФОРМА 2 2022 июль'!$OE$17 -> 5 | C16: ='[5]УК расш(о)'!$F$23 -> 5 | D16: =F16/41175*100 -> 134.13884 | E16: =G16 -> 55231.667 | F16: ='[5]УК расш(о)'!$Q$23 -> 55231.667 | G16: ='[8]ФОРМА 2 2022 июль'!$OF$17 -> 55231.667 | H16: =F16-G16 -> 0
A17: ОГАОУ ДО «ДШИ с.Мельниково» | B17: ='[8]ФОРМА 2 2022 июль'!$OE$18 -> 9.8 | C17: ='[5]УК расш(о)'!$F$25 -> 9.8 | D17: =F17/41175*100 -> 95.67798 | E17: =G17 -> 39394.558 | F17: ='[5]УК расш(о)'!$Q$25 -> 39395.408 | G17: ='[8]ФОРМА 2 2022 июль'!$OF$18 -> 39394.558 | H17: =F17-G17 -> 0.85034014
A18: ИТОГО ОГАОУ: | B18: =B12+B13+B14+B15+B16+B17 -> 70.4 | C18: =C12+C13+C14+C15+C16+C17 -> 69.4 | D18: =F18/41175*100 -> 100.68579 | E18: =G18 -> 41305.871 | F18: =(F12*C12+F13*C13+F14*C14+F15*C15+F16*C16+F17*C17)/C18 -> 41457.373 | G18: =(B12*G12+B13*G13+G14*B14+G15*B15+G16*B16+G17*B17)/B18 -> 41305.871 | H18: =F18-G18 -> 151.50151
A19: Муниципальное образование
A20: Александровский район
A21: Муниципальное бюджетное учреждение дополнительного образования "Детская школа искусств" | B21: ='[8]ФОРМА 2 2022 июль'!$OE$20 -> 8 | C21: ='[5]УК расш(о)'!$F$28 -> 8 | D21: =F21/41175*100 -> 148.38089 | E21: =G21 -> 61095.833 | F21: ='[5]УК расш(о)'!$Q$28 -> 61095.833 | G21: ='[8]ФОРМА 2 2022 июль'!$OF$20 -> 61095.833 | H21: =F21-G21 -> 0
A22: Всего по муниципальному образованию "Александровский район" | B22: =SUM(B21:B21) -> 8 | C22: =SUM(C21:C21) -> 8 | D22: =F22/41175*100 -> 148.38089 | E22: =(B21*E21)/B22 -> 61095.833 | F22: =(C21*F21)/C22 -> 61095.833 | G22: =(B21*G21)/B22 -> 61095.833 | H22: =F22-G22 -> 0
A23: Каргасокский район
A24: Муниципальное бюджетное образовательное учреждение дополнительного образования "Каргасокская детская школа искусств" | B24: ='[8]ФОРМА 2 2022 июль'!$OE$22 -> 14.4 | C24: ='[5]УК расш(о)'!$F$37 -> 14.6 | D24: =F24/41175*100 -> 125.07728 | E24: =G24 -> 51500.579 | F24: ='[5]УК расш(о)'!$Q$37 -> 51500.571 | G24: ='[8]ФОРМА 2 2022 июль'!$OF$22 -> 51500.579 | H24: =F24-G24 -> -0.007927448
A25: Всего по муниципальному образованию "Каргасокский район" | B25: =SUM(B24:B24) -> 14.4 | C25: =SUM(C24:C24) -> 14.6 | D25: =F25/41175*100 -> 125.07728 | E25: =(B24*E24)/B25 -> 51500.579 | F25: =(C24*F24)/C25 -> 51500.571 | G25: =(B24*G24)/B25 -> 51500.579 | H25: =F25-G25 -> -0.007927448
A26: Молчановский район
A27: муниципальное бюджетное образовательное учреждение дополнительного образования "Молчановская детская музыкальная школа" | B27: ='[8]ФОРМА 2 2022 июль'!$OE$24 -> 10 | C27: ='[5]УК расш(о)'!$F$43 -> 10.3 | D27: =F27/41175*100 -> 121.82 | E27: =G27 -> 50159.167 | F27: ='[5]УК расш(о)'!$Q$43 -> 50159.385 | G27: ='[8]ФОРМА 2 2022 июль'!$OF$24 -> 50159.167 | H27: =F27-G27 -> 0.2184466
A28: Всего по муниципальному образованию "Молчановский район" | B28: =SUM(B27:B27) -> 10 | C28: =SUM(C27:C27) -> 10.3 | D28: =F28/41175*100 -> 121.82 | E28: =(B27*E27)/B28 -> 50159.167 | F28: =(C27*F27)/C28 -> 50159.385 | G28: =(B27*G27)/B28 -> 50159.167 | H28: =F28-G28 -> 0.2184466
A29: Парабельский район
A30: Муниципальное бюджетное учреждение дополнительного образования "Детская школа искусств им. Геннадия и Александра Заволокиных" | B30: ='[8]ФОРМА 2 2022 июль'!$OE$25 -> 9.6 | C30: ='[5]УК расш(о)'!$F$46 -> 9.6 | D30: =F30/41175*100 -> 128.53758 | E30: =G30 -> 52925.347 | F30: ='[5]УК расш(о)'!$Q$46 -> 52925.347 | G30: ='[8]ФОРМА 2 2022 июль'!$OF$25 -> 52925.347 | H30: =F30-G30 -> 0
A31: Всего по муниципальному образованию "Парабельский район" | B31: =SUM(B30:B30) -> 9.6 | C31: =SUM(C30:C30) -> 9.6 | D31: =F31/41175*100 -> 128.53758 | E31: =(B30*E30)/B31 -> 52925.347 | F31: =(C30*F30)/C31 -> 52925.347 | G31: =(B30*G30)/B31 -> 52925.347 | H31: =F31-G31 -> 0
A32: Первомайский район
A33: Муниципальное автономное образовательное учреждение дополнительного образования «Первомайская детская школа искусств" | B33: ='[8]ФОРМА 2 2022 июль'!$OE$26 -> 8.5 | C33: ='[5]УК расш(о)'!$F$49 -> 8.5 | D33: =F33/41175*100 -> 110.59443 | E33: =G33 -> 45537.255 | F33: ='[5]УК расш(о)'!$Q$49 -> 45537.255 | G33: ='[8]ФОРМА 2 2022 июль'!$OF$26 -> 45537.255 | H33: =F33-G33 -> 0
A34: Всего по муниципальному образованию "Первомайский район" | B34: =B33 -> 8.5 | C34: =C33 -> 8.5 | D34: =F34/41175*100 -> 110.59443 | E34: =(B33*E33)/B34 -> 45537.255 | F34: =(F33*C33)/C34 -> 45537.255 | G34: =(G33*B33)/B34 -> 45537.255 | H34: =F34-G34 -> 0
A35: Томский район
A36: Муниципальное бюджетное образовательное учреждение дополнительного образования "Детская школа искусств п.Зональная Станция" | B36: ='[8]ФОРМА 2 2022 июль'!$OE$31 -> 8 | C36: ='[5]УК расш(о)'!$F$61 -> 6.8 | D36: =F36/41175*100 -> 97.976713 | E36: =G36 -> 35637.417 | F36: ='[5]УК расш(о)'!$Q$61 -> 40341.912 | G36: ='[8]ФОРМА 2 2022 июль'!$OF$31 -> 35637.417 | H36: =F36-G36 -> 4704.495
A37: Муниципальное бюджетное образовательное учреждение дополнительного образования "Детская школа искусств д.Кисловка" | B37: ='[8]ФОРМА 2 2022 июль'!$OE$32 -> 5.7 | C37: ='[5]УК расш(о)'!$F$60 -> 5.7 | D37: =F37/41175*100 -> 91.593079 | E37: =G37 -> 37021.93 | F37: ='[5]УК расш(о)'!$Q$60 -> 37713.45 | G37: ='[8]ФОРМА 2 2022 июль'!$OF$32 -> 37021.93 | H37: =F37-G37 -> 691.52047
A38: Муниципальное бюджетное образовательное учреждение дополнительного образования "Детская школа искусств п.Молодежный" | B38: ='[8]ФОРМА 2 2022 июль'!$OE$33 -> 11.3 | C38: ='[5]УК расш(о)'!$F$63 -> 11 | D38: =F38/41175*100 -> 90.92381 | E38: =G38 -> 37022.861 | F38: ='[5]УК расш(о)'!$Q$63 -> 37437.879 | G38: ='[8]ФОРМА 2 2022 июль'!$OF$33 -> 37022.861 | H38: =F38-G38 -> 415.01743
A39: Муниципальное бюджетное образовательное учреждение дополнительного образования "Детская школа искусств п.Мирный" | B39: ='[8]ФОРМА 2 2022 июль'!$OE$34 -> 10.9 | C39: ='[5]УК расш(о)'!$F$62 -> 11 | D39: =F39/41175*100 -> 97.122408 | E39: =G39 -> 37622.324 | F39: ='[5]УК расш(о)'!$Q$62 -> 39990.152 | G39: ='[8]ФОРМА 2 2022 июль'!$OF$34 -> 37622.324 | H39: =F39-G39 -> 2367.8274
A40: Всего по муниципальному образованию "Томский район" | B40: =SUM(B36:B39) -> 35.9 | C40: =SUM(C36:C39) -> 34.5 | D40: =F40/41175*100 -> 94.400887 | E40: =(E36*B36+E37*B37+E38*B38+E39*B39)/B40 -> 36895.989 | F40: =(C36*F36+C37*F37+C38*F38+C39*F39)/C40 -> 38869.565 | G40: =(G36*B36+G37*B37+G38*B38+G39*B39)/B40 -> 36895.989 | H40: =F40-G40 -> 1973.5763
A41: Чаинский район
A42: Муниципальное бюджетное образовательное учреждение дополнительного образования "Подгорнская детская музыкальная школа" | B42: ='[8]ФОРМА 2 2022 июль'!$OE$37 -> 5 | C42: ='[5]УК расш(о)'!$F$67 -> 4.9 | D42: =F42/41175*100 -> 138.62351 | E42: =G42 -> 55936.667 | F42: ='[5]УК расш(о)'!$Q$67 -> 57078.231 | G42: ='[8]ФОРМА 2 2022 июль'!$OF$37 -> 55936.667 | H42: =F42-G42 -> 1141.5646
A43: Муниципальное бюджетное образовательное учреждение дополнительного образования "Подгорнская детская художественная школа" | B43: ='[8]ФОРМА 2 2022 июль'!$OE$36 -> 4 | C43: ='[5]УК расш(о)'!$F$68 -> 4.1 | D43: =F43/41175*100 -> 126.26061 | E43: =G43 -> 53287.5 | F43: ='[5]УК расш(о)'!$Q$68 -> 51987.805 | G43: ='[8]ФОРМА 2 2022 июль'!$OF$36 -> 53287.5 | H43: =F43-G43 -> -1299.6951
...

Sheet приложение 2 ДПО
G1: Приложение № 3
D2: к письму от _____________________№________________
A4: Мониторинг целевых показателей, установленных в плане мероприятий "дорожной карте"
A5: за 2022 год (данные ведомственной статистики)
A7: Наименование муниципального образования | B7: Наименование организации дополнительного образования детей | C7: категория персонала | D7: Среднесписочная численность, чел. | E7: ФОТ, тыс.руб | F7: СЗП | G7: Доля ФОТ АУП и вспомогательного персонала в общем ФОТ, % | H7: Доля фонда оплаты труда в общем фонде оплаты труда, %
A8: 1 | B8: 2 | C8: 3 | D8: 4 | E8: 5 | G8: 6 | H8: 7
A9: Работники учреждений дополнительного образования детей
A10: ОГАОУ ДО
B11: ОГАОУ ДО «Асиновская ДШИ» | G11: =(E14+E16)/E12 -> 0.34894865
C12: ФОТ , всего: | D12: =D14+D15+D16 -> 28.1 | E12: =SUM(E14:E16) -> 13397.1 | F12: =E12/D12/12*1000 -> 39730.427 | H12: =E12/E12*100 -> 100
C13: в том числе по группам персонала:
C14: Административно-управленческий персонал | D14: 2.3 | E14: 1385.9 | F14: =E14/D14/12*1000 -> 50213.768 | H14: =E14*100/E12 -> 10.344776
C15: Основной персонал | D15: 19 | E15: 8722.2 | F15: =E15/D15/12*1000 -> 38255.263 | H15: =E15*100/E12 -> 65.105135
C16: Прочий персонал (вспомогательный) | D16: 6.8 | E16: 3289 | F16: =E16/D16/12*1000 -> 40306.373 | H16: =E16*100/E12 -> 24.550089
B17: ОГАОУ ДО «ДШИ» Верхнекетского района | G17: =(E20+E22)/E18 -> 0.37300799
C18: ФОТ , всего: | D18: =D20+D21+D22 -> 16.5 | E18: =SUM(E20:E22) -> 8860.4 | F18: =E18/D18/12*1000 -> 44749.495 | H18: =E18/E18*100 -> 100
C19: в том числе по группам персонала:
C20: Административно-управленческий персонал | D20: 0.5 | E20: 467.8 | F20: =E20/D20/12*1000 -> 77966.667 | H20: =E20*100/E18 -> 5.2796713
C21: Основной персонал | D21: 10 | E21: 5555.4 | F21: =E21/D21/12*1000 -> 46295 | H21: =E21*100/E18 -> 62.699201
C22: Прочий персонал (вспомогательный) | D22: 6 | E22: 2837.2 | F22: =E22/D22/12*1000 -> 39405.556 | H22: =E22*100/E18 -> 32.021128
B23: ОГАОУ ДО «Зырянская ДШИ» | G23: =(E26+E28)/E24 -> 0.30925266
C24: ФОТ , всего: | D24: =D26+D27+D28 -> 15.6 | E24: =SUM(E26:E28) -> 6620.8 | F24: =E24/D24/12*1000 -> 35367.521 | H24: =E24/E24*100 -> 100
C25: в том числе по группам персонала:
C26: Административно-управленческий персонал | D26: 0.6 | E26: 340 | F26: =E26/D26/12*1000 -> 47222.222 | H26: =E26*100/E24 -> 5.1353311
C27: Основной персонал | D27: 10 | E27: 4573.3 | F27: =E27/D27/12*1000 -> 38110.833 | H27: =E27*100/E24 -> 69.074734
C28: Прочий персонал (вспомогательный) | D28: 5 | E28: 1707.5 | F28: =E28/D28/12*1000 -> 28458.333 | H28: =E28*100/E24 -> 25.789935
B29: ОГАОУ ДО «Кожевниковская ДШИ» | G29: =(E32+E34)/E30 -> 0.36304368
C30: ФОТ , всего: | D30: =D32+D33+D34 -> 28.7 | E30: =SUM(E32:E34) -> 12132.7 | F30: =E30/D30/12*1000 -> 35228.513 | H30: =E30/E30*100 -> 100
C31: в том числе по группам персонала:
C32: Административно-управленческий персонал | D32: 2.5 | E32: 1409.5 | F32: =E32/D32/12*1000 -> 46983.333 | H32: =E32*100/E30 -> 11.617365
C33: Основной персонал | D33: 15.6 | E33: 7728 | F33: =E33/D33/12*1000 -> 41282.051 | H33: =E33*100/E30 -> 63.695632
C34: Прочий персонал (вспомогательный) | D34: 10.6 | E34: 2995.2 | F34: =E34/D34/12*1000 -> 23547.17 | H34: =E34*100/E30 -> 24.687003
B35: ОГАОУ ДО «Тегульдетская ДШИ» | G35: =(E38+E40)/E36 -> 0.40305148
C36: ФОТ , всего: | D36: =D38+D39+D40 -> 10.9 | E36: =SUM(E38:E40) -> 5551.4 | F36: =E36/D36/12*1000 -> 42441.896 | H36: =E36/E36*100 -> 100
C37: в том числе по группам персонала:
C38: Административно-управленческий персонал | D38: 1 | E38: 560 | F38: =E38/D38/12*1000 -> 46666.667 | H38: =E38*100/E36 -> 10.087545
C39: Основной персонал | D39: 5 | E39: 3313.9 | F39: =E39/D39/12*1000 -> 55231.667 | H39: =E39*100/E36 -> 59.694852
C40: Прочий персонал (вспомогательный) | D40: 4.9 | E40: 1677.5 | F40: =E40/D40/12*1000 -> 28528.912 | H40: =E40*100/E36 -> 30.217603
B41: ОГАОУ ДО «ДШИ с.Мельниково» | G41: =(E44+E46)/E42 -> 0.26761832
C42: ФОТ , всего: | D42: =D44+D45+D46 -> 14.7 | E42: =SUM(E44:E46) -> 6325.8 | F42: =E42/D42/12*1000 -> 35860.544 | H42: =E42/E42*100 -> 100
...

Sheet приложение 3 ДПО 
G1: Приложение № 4
E2: к письму от _____________________№________________
B4: Мониторинг целевых показателей, установленных в плане мероприятий "дорожной карте" за 2022 год
B5: (данные ведомственной статистики)
A7: Наименование муниципального образования | B7: Наименование организации дополнительного образования детей | C7: Категория персонала | D7: Среднесписочная численность, чел. | E7: Среднемесячная заработная плата по категориям персонала, руб. | F7: ФОТ, тыс.руб* | G7: Отношение среднемесячной заработной платы категорий персонала к среднемесячной заработной плате основного персонала учреждений, раз
A8: 1 | B8: 2 | C8: 3 | D8: 4 | E8: 5 | G8: 6
A9: Работники учреждений дополнительного образования детей
B11: ОГАОУ ДО «Асиновская ДШИ»
C12: Административно-управленческий персонал | D12: ='приложение 2 ДПО'!D14 -> 2.3 | E12: =F12/D12/12*1000 -> 50213.768 | F12: ='приложение 2 ДПО'!E14 -> 1385.9 | G12: =E12/E13 -> 1.3125976
C13: Основной персонал | D13: ='приложение 2 ДПО'!D15 -> 19 | E13: =F13/D13/12*1000 -> 38255.263 | F13: ='приложение 2 ДПО'!E15 -> 8722.2 | G13: =E13/E13 -> 1
C14: Вспомогательный персонал | D14: ='приложение 2 ДПО'!D16 -> 6.8 | E14: =F14/D14/12*1000 -> 40306.373 | F14: ='приложение 2 ДПО'!E16 -> 3289 | G14: =E14/E13 -> 1.0536164
B15: ОГАОУ ДО «ДШИ» Верхнекетского района
C16: Административно-управленческий персонал | D16: ='приложение 2 ДПО'!D20 -> 0.5 | E16: =F16/D16/12*1000 -> 77966.667 | F16: ='приложение 2 ДПО'!E20 -> 467.8 | G16: =E16/E17 -> 1.6841272
C17: Основной персонал | D17: ='приложение 2 ДПО'!D21 -> 10 | E17: =F17/D17/12*1000 -> 46295 | F17: ='приложение 2 ДПО'!E21 -> 5555.4 | G17: =E17/E17 -> 1
C18: Вспомогательный персонал | D18: ='приложение 2 ДПО'!D22 -> 6 | E18: =F18/D18/12*1000 -> 39405.556 | F18: ='приложение 2 ДПО'!E22 -> 2837.2 | G18: =E18/E17 -> 0.85118383
B19: ОГАОУ ДО «Зырянская ДШИ»
C20: Административно-управленческий персонал | D20: ='приложение 2 ДПО'!D26 -> 0.6 | E20: =F20/D20/12*1000 -> 47222.222 | F20: ='приложение 2 ДПО'!E26 -> 340 | G20: =E20/E21 -> 1.2390761
C21: Основной персонал | D21: ='приложение 2 ДПО'!D27 -> 10 | E21: =F21/D21/12*1000 -> 38110.833 | F21: ='приложение 2 ДПО'!E27 -> 4573.3 | G21: =E21/E21 -> 1
C22: Вспомогательный персонал | D22: ='приложение 2 ДПО'!D28 -> 5 | E22: =F22/D22/12*1000 -> 28458.333 | F22: ='приложение 2 ДПО'!E28 -> 1707.5 | G22: =E22/E21 -> 0.74672556
B23: ОГАОУ ДО «Кожевниковская ДШИ»
C24: Административно-управленческий персонал | D24: ='приложение 2 ДПО'!D32 -> 2.5 | E24: =F24/D24/12*1000 -> 46983.333 | F24: ='приложение 2 ДПО'!E32 -> 1409.5 | G24: =E24/E25 -> 1.1381056
C25: Основной персонал | D25: ='приложение 2 ДПО'!D33 -> 15.6 | E25: =F25/D25/12*1000 -> 41282.051 | F25: ='приложение 2 ДПО'!E33 -> 7728 | G25: =E25/E25 -> 1
C26: Вспомогательный персонал | D26: ='приложение 2 ДПО'!D34 -> 10.6 | E26: =F26/D26/12*1000 -> 23547.17 | F26: ='приложение 2 ДПО'!E34 -> 2995.2 | G26: =E26/E25 -> 0.57039728
B27: ОГАОУ ДО «Тегульдетская ДШИ»
C28: Административно-управленческий персонал | D28: ='приложение 2 ДПО'!D38 -> 1 | E28: =F28/D28/12*1000 -> 46666.667 | F28: ='приложение 2 ДПО'!E38 -> 560 | G28: =E28/E29 -> 0.84492592
C29: Основной персонал | D29: ='приложение 2 ДПО'!D39 -> 5 | E29: =F29/D29/12*1000 -> 55231.667 | F29: ='приложение 2 ДПО'!E39 -> 3313.9 | G29: =E29/E29 -> 1
C30: Вспомогательный персонал | D30: ='приложение 2 ДПО'!D40 -> 4.9 | E30: =F30/D30/12*1000 -> 28528.912 | F30: ='приложение 2 ДПО'!E40 -> 1677.5 | G30: =E30/E29 -> 0.51653179
B31: ОГАОУ ДО «ДШИ с.Мельниково»
C32: Административно-управленческий персонал | D32: ='приложение 2 ДПО'!D44 -> 1 | E32: =F32/D32/12*1000 -> 40508.333 | F32: ='приложение 2 ДПО'!E44 -> 486.1 | G32: =E32/E33 -> 1.0282501
C33: Основной персонал | D33: ='приложение 2 ДПО'!D45 -> 9.8 | E33: =F33/D33/12*1000 -> 39395.408 | F33: ='приложение 2 ДПО'!E45 -> 4632.9 | G33: =E33/E33 -> 1
C34: Вспомогательный персонал | D34: ='приложение 2 ДПО'!D46 -> 3.9 | E34: =F34/D34/12*1000 -> 25786.325 | F34: ='приложение 2 ДПО'!E46 -> 1206.8 | G34: =E34/E33 -> 0.65455153
B35: ИТОГО ПО ОГАОУ:
C36: Административно-управленческий персонал | D36: ='приложение 2 ДПО'!D50 -> 7.9 | E36: =F36/D36/12*1000 -> 49043.249 | F36: ='приложение 2 ДПО'!E50 -> 4649.3 | G36: =E36/E37 -> 1.1829801
C37: Основной персонал | D37: ='приложение 2 ДПО'!D51 -> 69.4 | E37: =F37/D37/12*1000 -> 41457.373 | F37: ='приложение 2 ДПО'!E51 -> 34525.7 | G37: =E37/E37 -> 1
C38: Вспомогательный персонал | D38: ='приложение 2 ДПО'!D52 -> 37.2 | E38: =F38/D38/12*1000 -> 30719.534 | F38: ='приложение 2 ДПО'!E52 -> 13713.2 | G38: =E38/E37 -> 0.74099085
A39: Муниципальное образование
A40: Александровский район
B41: МБОУ ДОД "ДШИ"
C42: Административно-управленческий персонал | D42: ='приложение 2 ДПО'!D58 -> 1 | E42: =F42/D42/12*1000 -> 67850 | F42: ='приложение 2 ДПО'!E58 -> 814.2 | G42: =E42/E43 -> 1.1105504
C43: Основной персонал | D43: ='приложение 2 ДПО'!D59 -> 8 | E43: =F43/D43/12*1000 -> 61095.833 | F43: ='приложение 2 ДПО'!E59 -> 5865.2 | G43: =E43/E43 -> 1
...

Sheet приложение 1 культура
H1: Приложение № 1
F2: к письму от _____________________№________________
A4: Мониторинг целевых показателей, установленных в плане мероприятий "дорожной карте" за 2022 год
A5: (данные ведомственной статистики)
A7: Наименование ОГУ/МУ | B7: Планируемая среднесписочная численность отдельной категории работников государственных и муниципальных учреждений, чел. | C7: Фактическая среднесписочная численность отдельной категории работников государственных и муниципальных учреждений на отчетный период, чел. | D7: Отношение средней заработной платы работников соответствующей категории к среднемесячному доходу от трудовой деятельности по Томской области, %* | E7: Средняя заработная плата отдельной категории работников списочного состава, руб. | G7: Плановое значение средней заработной платы отдельной категории работников на год, руб. | H7: Отклонение факта за отчетный период от планового значения на год, руб.
E8: план на отчетный период** | F8: факт за отчетный период
A9: 1 | B9: 2 | C9: 3 | D9: 4 | E9: 5 | F9: 6 | G9: 7 | H9: 8=6-7
A10: Работники учреждений культуры
A11: ОГАУК "ТОУНБ им.А.С.Пушкина" | B11: ='[10]Ф2 2022 15.06'!$OE$16 -> 138.1 | C11: ='[11]УК расш(к)'!$F$9 -> 137.5 | D11: =F11/45193*100 -> 84.125659 | E11: =G11 -> 38018.941 | F11: ='[11]УК расш(к)'!$Q$9 -> 38018.909 | G11: ='[10]Ф2 2022 15.06'!$OF$16 -> 38018.941 | H11: =F11-G11 -> -0.031601214
A12: ='[12]Sheet1 (2)'!$P$26 -> ОГАУК "ТОДЮБ" | B12: ='[10]Ф2 2022 15.06'!$OE$17 -> 49.5 | C12: ='[11]УК расш(к)'!$F$10 -> 49.3 | D12: =F12/45193*100 -> 87.849128 | E12: =G12 -> 39659.056 | F12: ='[11]УК расш(к)'!$Q$10 -> 39701.657 | G12: ='[10]Ф2 2022 15.06'!$OF$17 -> 39659.056 | H12: =F12-G12 -> 42.600612
A13: ОГАУК "Дом искусств" | B13: ='[10]Ф2 2022 15.06'!$OE$29 -> 12.9 | C13: ='[11]УК расш(к)'!$F$14 -> 11 | D13: =F13/45193*100 -> 71.694195 | E13: =G13 -> 30602.113 | F13: ='[11]УК расш(к)'!$Q$14 -> 32400.758 | G13: ='[10]Ф2 2022 15.06'!$OF$29 -> 30602.113 | H13: =F13-G13 -> 1798.6442
A14: ОГАУК "ТОХМ" | B14: ='[10]Ф2 2022 15.06'!$OE$20 -> 69.1 | C14: ='[11]УК расш(к)'!$F$16 -> 68.7 | D14: =F14/45193*100 -> 80.768746 | E14: =G14 -> 36493.462 | F14: ='[11]УК расш(к)'!$Q$16 -> 36501.82 | G14: ='[10]Ф2 2022 15.06'!$OF$20 -> 36493.462 | H14: =F14-G14 -> 8.3579264
A15: ОГАУК "Томский областной краеведческий музей им.М.Б. Шатилова" | B15: ='[10]Ф2 2022 15.06'!$OE$19 -> 160.3 | C15: ='[11]УК расш(к)'!$F$15 -> 160.3 | D15: =F15/45193*100 -> 72.671155 | E15: =G15 -> 32153.934 | F15: ='[11]УК расш(к)'!$Q$15 -> 32842.275 | G15: ='[10]Ф2 2022 15.06'!$OF$19 -> 32153.934 | H15: =F15-G15 -> 688.34118
A16: ОГАУК "ДНТ "Авангард" | B16: ='[10]Ф2 2022 15.06'!$OE$26 -> 88.5 | C16: ='[11]УК расш(к)'!$F$11 -> 88.5 | D16: =F16/45193*100 -> 89.001417 | E16: =G16 -> 40209.791 | F16: ='[11]УК расш(к)'!$Q$11 -> 40222.411 | G16: ='[10]Ф2 2022 15.06'!$OF$26 -> 40209.791 | H16: =F16-G16 -> 12.619872
A17: ОГАУК "ЦТК" | B17: ='[10]Ф2 2022 15.06'!$OE$28 -> 9.8 | C17: ='[11]УК расш(к)'!$F$13 -> 9.8 | D17: =F17/45193*100 -> 82.800584 | E17: =G17 -> 36937.406 | F17: ='[11]УК расш(к)'!$Q$13 -> 37420.068 | G17: ='[10]Ф2 2022 15.06'!$OF$28 -> 36937.406 | H17: =F17-G17 -> 482.66247
A18: ОГАУК "РНД" | B18: ='[10]Ф2 2022 15.06'!$OE$27 -> 13.8 | C18: ='[11]УК расш(к)'!$F$12 -> 13.8 | D18: =F18/45193*100 -> 81.875095 | E18: =G18 -> 36643.872 | F18: ='[11]УК расш(к)'!$Q$12 -> 37001.812 | G18: ='[10]Ф2 2022 15.06'!$OF$27 -> 36643.872 | H18: =F18-G18 -> 357.93957
A19: ОГАУК "ТОТК Скоморох" | B19: ='[10]Ф2 2022 15.06'!$OE$24 -> 64.8 | C19: ='[11]УК расш(к)'!$F$19 -> 64.8 | D19: =F19/45193*100 -> 88.507575 | E19: =G19 -> 39419.024 | F19: ='[11]УК расш(к)'!$Q$19 -> 39999.228 | G19: ='[10]Ф2 2022 15.06'!$OF$24 -> 39419.024 | H19: =F19-G19 -> 580.20464
A20: ='[12]Sheet1 (2)'!$P$45 -> ОГАУК "Театр драмы" | B20: ='[10]Ф2 2022 15.06'!$OE$22 -> 139.2 | C20: ='[11]УК расш(к)'!$F$17 -> 138.6 | D20: =F20/45193*100 -> 100.20861 | E20: =G20 -> 45287.315 | F20: ='[11]УК расш(к)'!$Q$17 -> 45287.278 | G20: ='[10]Ф2 2022 15.06'!$OF$22 -> 45287.315 | H20: =F20-G20 -> -0.037932012
A21: ОГАУК ТО ТЮЗ | B21: ='[10]Ф2 2022 15.06'!$OE$23 -> 106.6 | C21: ='[11]УК расш(к)'!$F$18 -> 104.8 | D21: =F21/45193*100 -> 82.155068 | E21: =G21 -> 36636.43 | F21: ='[11]УК расш(к)'!$Q$18 -> 37128.34 | G21: ='[10]Ф2 2022 15.06'!$OF$23 -> 36636.43 | H21: =F21-G21 -> 491.90938
A22: ОГАУК "ТОГФ" | B22: ='[10]Ф2 2022 15.06'!$OE$31 -> 169.6 | C22: ='[11]УК расш(к)'!$F$20 -> 172.7 | D22: =F22/45193*100 -> 150.56027 | E22: =G22 -> 68042.747 | F22: ='[11]УК расш(к)'!$Q$20 -> 68042.704 | G22: ='[10]Ф2 2022 15.06'!$OF$31 -> 68042.747 | H22: =F22-G22 -> -0.042549139
A23: ОГКУ "ГАТО" | B23: ='[10]Ф2 2022 15.06'!$OE$33 -> 69.5 | C23: ='[11]УК расш(к)'!$F$21 -> 69.6 | D23: =F23/45193*100 -> 91.199426 | E23: =G23 -> 41215.806 | F23: ='[11]УК расш(к)'!$Q$21 -> 41215.757 | G23: ='[10]Ф2 2022 15.06'!$OF$33 -> 41215.806 | H23: =F23-G23 -> -0.048899384
A24: ='[12]Sheet1 (2)'!$P$314 -> ОГКУ ЦДНИ ТО | B24: ='[10]Ф2 2022 15.06'!$OE$34 -> 39.4 | C24: ='[11]УК расш(к)'!$F$22 -> 38.9 | D24: =F24/45193*100 -> 96.990948 | E24: =G24 -> 43833.012 | F24: ='[11]УК расш(к)'!$Q$22 -> 43833.119 | G24: ='[10]Ф2 2022 15.06'!$OF$34 -> 43833.012 | H24: =F24-G24 -> 0.10677066
A25: ОГАУК "ЦОП" | B25: ='[10]Ф2 2022 15.06'!$OE$213 -> 13.6 | C25: ='[11]УК расш(к)'!$F$182 -> 13.1 | D25: =F25/45193*100 -> 106.95012 | E25: =G25 -> 41919.859 | F25: ='[11]УК расш(к)'!$Q$182 -> 48333.969 | G25: ='[10]Ф2 2022 15.06'!$OF$213 -> 41919.859 | H25: =F25-G25 -> 6414.1101
A26: ИТОГО ОГУ: | B26: =B11+B12+B13+B14+B15+B16+B17+B18+B19+B20+B21+B22+B23+B24 -> 1131.1 | C26: =C11+C12+C13+C14+C15+C16+C17+C18+C19+C20+C21+C22+C23+C24 -> 1128.3 | D26: =F26/45193*100 -> 95.771572 | E26: =(E11*B11+E12*B12+E13*B13+E14*B14+E15*B15+E16*B16+E17*B17+E18*B18+E19*B19+E20*B20+E21*B21+E22*B22+E23*B23+E24*B24)/B26 -> 42972.22 | F26: =(F11*C11+F12*C12+F13*C13+F14*C14+F15*C15+F16*C16+F17*C17+F18*C18+F19*C19+F20*C20+F21*C21+F22*C22+F23*C23+F24*C24)/C26 -> 43282.047 | G26: =(G11*B11+G12*B12+G13*B13+G14*B14+G15*B15+G16*B16+G17*B17+G18*B18+G19*B19+G20*B20+G21*B21+G22*B22+G23*B23+G24*B24)/B26 -> 42972.22 | H26: =F26-G26 -> 309.82675
A27: ИТОГО ОГУ+ЦОП: | B27: =B26+B25 -> 1144.7 | C27: =C26+C25 -> 1141.4 | D27: =F27/45193*100 -> 95.89987 | E27: =(E26*B26+E25*B25)/B27 -> 42959.717 | F27: =(F26*C26+F25*C25)/C27 -> 43340.028 | G27: =(G25*B25+G26*B26)/B27 -> 42959.717 | H27: =F27-G27 -> 380.31127
A28: Александровский район
A29: Муниципальное бюджетное учреждение "Центр досуга и народного творчества" Александровского района | B29: ='[10]Ф2 2022 15.06'!$OE$46 -> 57.6 | C29: ='[11]УК расш(к)'!$F$27 -> 48.6 | D29: =F29/45193*100 -> 115.09963 | E29: =G29 -> 51041.883 | F29: ='[11]УК расш(к)'!$Q$27 -> 52016.975 | G29: ='[10]Ф2 2022 15.06'!$OF$46 -> 51041.883 | H29: =F29-G29 -> 975.09196
A30: Муниципальное бюджетное учреждение "Централизованная библиотечная система" Александровского района | B30: ='[10]Ф2 2022 15.06'!$OE$48 -> 9.5 | C30: ='[11]УК расш(к)'!$F$28 -> 16.3 | D30: =F30/45193*100 -> 105.54822 | E30: =G30 -> 51293.784 | F30: ='[11]УК расш(к)'!$Q$28 -> 47700.409 | G30: ='[10]Ф2 2022 15.06'!$OF$48 -> 51293.784 | H30: =F30-G30 -> -3593.3752
A31: Муниципальное бюджетное учреждение "Музей истории и культуры" Александровского района | B31: ='[10]Ф2 2022 15.06'!$OE$47 -> 2 | C31: ='[11]УК расш(к)'!$F$29 -> 3.5 | D31: =F31/45193*100 -> 141.59378 | E31: =G31 -> 69159.146 | F31: ='[11]УК расш(к)'!$Q$29 -> 63990.476 | G31: ='[10]Ф2 2022 15.06'!$OF$47 -> 69159.146 | H31: =F31-G31 -> -5168.67
A32: Всего по муниципальному образованию "Александровский район" | B32: =B29+B30+B31 -> 69.1 | C32: =C29+C30+C31 -> 68.4 | D32: =F32/45193*100 -> 114.17918 | E32: =(E29*B29+E30*B30+E31*B31)/B32 -> 51600.893 | F32: =(F29*C29+F30*C30+F31*C31)/C32 -> 51600.999 | G32: =(G29*B29+G30*B30+G31*B31)/B32 -> 51600.893 | H32: =F32-G32 -> 0.1057838
A33: Бакчарский район
A34: Муниципальное бюджетное учреждение культуры "Бакчарский краеведческий музей северного садоводства" | B34: ='[10]Ф2 2022 15.06'!$OE$60 -> 3.8 | C34: ='[11]УК расш(к)'!$F$35 -> 4 | D34: =F34/45193*100 -> 81.299464 | E34: =G34 -> 36323.631 | F34: ='[11]УК расш(к)'!$Q$35 -> 36741.667 | G34: ='[10]Ф2 2022 15.06'!$OF$60 -> 36323.631 | H34: =F34-G34 -> 418.03568
A35: Муниципальное бюджетное учреждение культуры "Бакчарская межпоселенческая централизованная библиотечная система" | B35: ='[10]Ф2 2022 15.06'!$OE$53 -> 17.7 | C35: ='[11]УК расш(к)'!$F$36 -> 18.1 | D35: =F35/45193*100 -> 104.09621 | E35: =G35 -> 47145.034 | F35: ='[11]УК расш(к)'!$Q$36 -> 47044.199 | G35: ='[10]Ф2 2022 15.06'!$OF$53 -> 47145.034 | H35: =F35-G35 -> -100.83547
A36: Муниципальное бюджетное учреждение культуры "Бакчарская межпоселенческая централизованная клубная система" | B36: ='[10]Ф2 2022 15.06'!$OE$62 -> 36.4 | C36: ='[11]УК расш(к)'!$F$37 -> 36.7 | D36: =F36/45193*100 -> 90.330114 | E36: =G36 -> 40822.902 | F36: ='[11]УК расш(к)'!$Q$37 -> 40822.888 | G36: ='[10]Ф2 2022 15.06'!$OF$62 -> 40822.902 | H36: =F36-G36 -> -0.013683446
A37: Всего по муниципальному образованию "Бакчарский район" | B37: =B35+B34+B36 -> 57.9 | C37: =C35+C34+C36 -> 58.8 | D37: =F37/45193*100 -> 93.953306 | E37: =(E34*B34+E35*B35+E36*B36)/B37 -> 42460.286 | F37: =(F34*C34+F35*C35+F36*C36)/C37 -> 42460.317 | G37: =(G34*B34+G35*B35+G36*B36)/B37 -> 42460.286 | H37: =F37-G37 -> 0.031836234
A38: Верхнекетский район
A39: Муниципальное автономное учреждение "Культура" | B39: ='[10]Ф2 2022 15.06'!$OE$70 -> 64.9 | C39: ='[11]УК расш(к)'!$F$41 -> 64.9 | D39: =F39/45193*100 -> 110.01097 | E39: =G39 -> 49717.265 | F39: ='[11]УК расш(к)'!$Q$41 -> 49717.257 | G39: ='[10]Ф2 2022 15.06'!$OF$70 -> 49717.265 | H39: =F39-G39 -> -0.0074950868
A40: Муниципальное автономное учреждение "Верхнекетская централизованная библиотечная система" | B40: ='[10]Ф2 2022 15.06'!$OE$71 -> 28 | C40: ='[11]УК расш(к)'!$F$42 -> 28 | D40: =F40/45193*100 -> 101.14688 | E40: =G40 -> 45711.199 | F40: ='[11]УК расш(к)'!$Q$42 -> 45711.31 | G40: ='[10]Ф2 2022 15.06'!$OF$71 -> 45711.199 | H40: =F40-G40 -> 0.11063565
A41: Всего по муниципальному образованию "Верхнекетский район" | B41: =B39+B40 -> 92.9 | C41: =C40+C39 -> 92.9 | D41: =F41/45193*100 -> 107.33934 | E41: =(E39*B39+E40*B40)/B41 -> 48509.839 | F41: =(F39*C39+F40*C40)/C41 -> 48509.867 | G41: =(G39*B39+G40*B40)/B41 -> 48509.839 | H41: =F41-G41 -> 0.028109442
A42: Зырянский район
...

Sheet приложение 2 культура 
E1: Приложение № 2
B2: к письму от __________№_________
A4: Мониторинг целевых показателей, установленных в плане мероприятий "дорожной карте"
A5: за 2022 год (данные ведомственной статистики)
A7: Наименование МУ | B7: Среднесписочная численность, чел. | C7: ФОТ, тыс.руб | D7: Среднемесячная заработная плата по категориям персонала, руб. | E7: Доля ФОТ АУП и вспомогательного персонала в общем ФОТ, % | F7: Доля фонда оплаты труда в общем фонде оплаты труда, %
A8: 1 | B8: 2 | C8: 3 | E8: 4 | F8: 5
A9: Работники учреждений культуры
A10: ОГУ
A11: ОГАУК "ТОУНБ им.А.С. Пушкина" | E11: =(C14+C16)/C12 -> 0.30102724
A12: ФОТ , всего: | B12: =B14+B15+B16 -> 137.5 | C12: =C14+C15+C16 -> 62731.2 | D12: =C12/B12/12*1000 -> 38018.909 | F12: =C12/C12*100 -> 100
A13: в том числе по группам персонала:
A14: Административно-управленческий персонал | B14: 5 | C14: 5077 | D14: =C14/B14/12*1000 -> 84616.667 | F14: =C14*100/C12 -> 8.0932614
A15: Основной персонал | B15: 93.8 | C15: 43847.4 | D15: =C15/B15/12*1000 -> 38954.691 | F15: =C15*100/C12 -> 69.897276
A16: Прочий персонал (вспомогательный) | B16: 38.7 | C16: 13806.8 | D16: =C16/B16/12*1000 -> 29730.405 | F16: =C16/C12*100 -> 22.009463
A17: ОГАУК "ТОДЮБ" | E17: =(C20+C22)/C18 -> 0.3543289
A18: ФОТ, всего: | B18: =B20+B21+B22 -> 49.3 | C18: =C20+C21+C22 -> 23487.5 | D18: =C18/B18/12*1000 -> 39701.657 | F18: =C18/C18*100 -> 100
A19: в том числе по группам персонала:
A20: Административно-управленческий персонал | B20: 4 | C20: 3594.4 | D20: =C20/B20/12*1000 -> 74883.333 | F20: =C20*100/C18 -> 15.303459
A21: Основной персонал | B21: 32.4 | C21: 15165.2 | D21: =C21/B21/12*1000 -> 39005.144 | F21: =C21*100/C18 -> 64.56711
A22: Прочий персонал (вспомогательный) | B22: 12.9 | C22: 4727.9 | D22: =C22/B22/12*1000 -> 30541.99 | F22: =C22/C18*100 -> 20.129431
A23: ОГАУК «ДНТ «Авангард» | E23: =(C26+C28)/C24 -> 0.39949481
A24: ФОТ, всего: | B24: =B26+B27+B28 -> 88.5 | C24: =C26+C27+C28 -> 42716.2 | D24: =C24/B24/12*1000 -> 40222.411 | F24: =C24/C24*100 -> 100
A25: в том числе по группам персонала:
A26: Административно-управленческий персонал | B26: 3 | C26: 2859.2 | D26: =C26/B26/12*1000 -> 79422.222 | F26: =C26*100/C24 -> 6.6934793
A27: Основной персонал | B27: 52.9 | C27: 25651.3 | D27: =C27/B27/12*1000 -> 40408.475 | F27: =C27*100/C24 -> 60.050519
A28: Прочий персонал (вспомогательный) | B28: 32.6 | C28: 14205.7 | D28: =C28/B28/12*1000 -> 36313.139 | F28: =C28/C24*100 -> 33.256001
A29: ОГАУК «ТО РНД» | E29: =(C32+C34)/C30 -> 0.52971032
A30: ФОТ , всего: | B30: =B32+B33+B34 -> 13.8 | C30: =C32+C33+C34 -> 6127.5 | D30: =C30/B30/12*1000 -> 37001.812 | F30: =C30/C30*100 -> 100
A31: в том числе по группам персонала:
A32: Административно-управленческий персонал | B32: 3 | C32: 2098.9 | D32: =C32/B32/12*1000 -> 58302.778 | F32: =C32*100/C30 -> 34.253774
A33: Основной персонал | B33: 7 | C33: 2881.7 | D33: =C33/B33/12*1000 -> 34305.952 | F33: =C33*100/C30 -> 47.028968
A34: Прочий персонал (вспомогательный) | B34: 3.8 | C34: 1146.9 | D34: =C34/B34/12*1000 -> 25151.316 | F34: =C34/C30*100 -> 18.717258
A35: ОГАУК «ЦТК» | E35: =(C38+C40)/C36 -> 0.44271236
A36: ФОТ, всего: | B36: =B38+B39+B40 -> 9.8 | C36: =C38+C39+C40 -> 4400.6 | D36: =C36/B36/12*1000 -> 37420.068 | F36: =C36/C36*100 -> 100
A37: в том числе по группам персонала:
A38: Административно-управленческий персонал | B38: 2 | C38: 1373.7 | D38: =C38/B38/12*1000 -> 57237.5 | F38: =C38*100/C36 -> 31.216198
A39: Основной персонал | B39: 5.5 | C39: 2452.4 | D39: =C39/B39/12*1000 -> 37157.576 | F39: =C39*100/C36 -> 55.728764
A40: Прочий персонал (вспомогательный) | B40: 2.3 | C40: 574.5 | D40: =C40/B40/12*1000 -> 20815.217 | F40: =C40/C36*100 -> 13.055038
A41: ОГАУК «Дом искусств» | E41: =(C44+C46)/C42 -> 0.62271739
A42: ФОТ , всего: | B42: =B44+B45+B46 -> 11 | C42: =C44+C45+C46 -> 4276.9 | D42: =C42/B42/12*1000 -> 32400.758 | F42: =C42/C42*100 -> 100
...

Sheet приложение 3 культура 
C1: Приложение № 3
C2: к письму от ________________№__________
A4: Мониторинг целевых показателей, установленных в плане мероприятий "дорожной карте"
A5: за 2022 год (данные ведомственной статистики)
A7: Наименование МУ | B7: Среднесписочная численность работников, чел. | C7: Среднемесячная заработная плата по категориям персонала, руб. | D7: ФОТ, тыс.руб | E7: Отношение среднемесячной заработной платы категорий персонала к среднемесячной заработной плате основного персонала учреждений, раз
A8: 1 | B8: 2 | C8: 3 | E8: 4
A9: Работники культуры
A10: ВСЕГО (МО+ОГУ): | B10: ='приложение 2 культура '!B759 -> 3779.5 | C10: =D10/B10/12*1000 -> 41295.315 | D10: ='приложение 2 культура '!C759 -> 1872907.7 | E10: =C10/C10*100 -> 100
A11: в том числе по группам персонала:
A12: АУП | B12: ='приложение 2 культура '!B761 -> 191.1 | C12: =D12/B12/12*1000 -> 71761.512 | D12: ='приложение 2 культура '!C761 -> 164563.5 | E12: =C12/C13 -> 1.609354
A13: основной | B13: ='приложение 2 культура '!B762 -> 2381.2 | C13: =D13/B13/12*1000 -> 44590.259 | D13: ='приложение 2 культура '!C762 -> 1274139.9 | E13: =C13/C13 -> 1
A14: вспомогательный | B14: ='приложение 2 культура '!B763 -> 1207.2 | C14: =D14/B14/12*1000 -> 29973.237 | D14: ='приложение 2 культура '!C763 -> 434204.3 | E14: =C14/C13 -> 0.67219248
A15: ОГУ
A16: Областные государственные учреждения, повведомственные Департаменту по культуре ТО, в том числе:
A17: АУП | B17: ='приложение 2 культура '!B104 -> 54.4 | C17: =D17/B17/12*1000 -> 81317.096 | D17: ='приложение 2 культура '!C104 -> 53083.8 | E17: =C17/C18 -> 1.7665039 | F17: =B21+B33+B53+B65+#REF!+B86+#REF! -> #REF! | G17: =H17/F17/12*1000 -> #REF! | H17: =D21+D33+D53+D65+#REF!+D86+#REF! -> #REF!
A18: основной | B18: ='приложение 2 культура '!B105 -> 679.9 | C18: =D18/B18/12*1000 -> 46032.787 | D18: ='приложение 2 культура '!C105 -> 375572.3 | E18: =C18/C18 -> 1 | F18: =B22+B34+B54+B66+#REF!+B87+#REF! -> #REF! | G18: =H18/F18/12*1000 -> #REF! | H18: =D22+D34+D54+D66+#REF!+D87+#REF! -> #REF!
A19: вспомогательный | B19: ='приложение 2 культура '!B106 -> 407.1 | C19: =D19/B19/12*1000 -> 33768.034 | D19: ='приложение 2 культура '!C106 -> 164963.6 | E19: =C19/C18 -> 0.73356485 | F19: =B23+B35+B55+B67+#REF!+B88+#REF! -> #REF! | G19: =H19/F19/12*1000 -> #REF! | H19: =D23+D35+D55+D67+#REF!+D88+#REF! -> #REF!
A20: Библиотеки
A21: АУП | B21: ='приложение 2 культура '!B14+'приложение 2 культура '!B20 -> 9 | C21: =D21/B21/12*1000 -> 80290.741 | D21: ='приложение 2 культура '!C14+'приложение 2 культура '!C20 -> 8671.4 | E21: =C21/C22 -> 2.0604464 | F21: =B25+B29 -> 9 | G21: =H21/F21/12*1000 -> 80290.741 | H21: =D25+D29 -> 8671.4
A22: основной | B22: ='приложение 2 культура '!B15+'приложение 2 культура '!B21 -> 126.2 | C22: =D22/B22/12*1000 -> 38967.644 | D22: ='приложение 2 культура '!C15+'приложение 2 культура '!C21 -> 59012.6 | E22: =C22/C22 -> 1 | F22: =B26+B30 -> 126.2 | G22: =H22/F22/12*1000 -> 38967.644 | H22: =D26+D30 -> 59012.6
A23: вспомогательный | B23: ='приложение 2 культура '!B16+'приложение 2 культура '!B22 -> 51.6 | C23: =D23/B23/12*1000 -> 29933.301 | D23: ='приложение 2 культура '!C16+'приложение 2 культура '!C22 -> 18534.7 | E23: =C23/C22 -> 0.76815784 | F23: =B27+B31 -> 51.6 | G23: =H23/F23/12*1000 -> 29933.301 | H23: =D27+D31 -> 18534.7
A24: ОГАУК "ТОУНБ им.А.С. Пушкина"
A25: АУП | B25: ='приложение 2 культура '!B14 -> 5 | C25: =D25/B25/12*1000 -> 84616.667 | D25: ='приложение 2 культура '!C14 -> 5077 | E25: =C25/C26 -> 2.1721817
A26: основной | B26: ='приложение 2 культура '!B15 -> 93.8 | C26: =D26/B26/12*1000 -> 38954.691 | D26: ='приложение 2 культура '!C15 -> 43847.4 | E26: =C26/C26 -> 1
A27: вспомогательный | B27: ='приложение 2 культура '!B16 -> 38.7 | C27: =D27/B27/12*1000 -> 29730.405 | D27: ='приложение 2 культура '!C16 -> 13806.8 | E27: =C27/C26 -> 0.76320474
A28: ОГАУК "ТОДЮБ"
A29: АУП | B29: ='приложение 2 культура '!B20 -> 4 | C29: =D29/B29/12*1000 -> 74883.333 | D29: ='приложение 2 культура '!C20 -> 3594.4 | E29: =C29/C30 -> 1.9198322
A30: основной | B30: ='приложение 2 культура '!B21 -> 32.4 | C30: =D30/B30/12*1000 -> 39005.144 | D30: ='приложение 2 культура '!C21 -> 15165.2 | E30: =C30/C30 -> 1
A31: вспомогательный | B31: ='приложение 2 культура '!B22 -> 12.9 | C31: =D31/B31/12*1000 -> 30541.99 | D31: ='приложение 2 культура '!C22 -> 4727.9 | E31: =C31/C30 -> 0.78302466
A32: Культурно-досуговые учреждения
A33: АУП | B33: ='приложение 2 культура '!B26+'приложение 2 культура '!B32+'приложение 2 культура '!B38+'приложение 2 культура '!B44 -> 9.8 | C33: =D33/B33/12*1000 -> 64083.333 | D33: ='приложение 2 культура '!C26+'приложение 2 культура '!C32+'приложение 2 культура '!C38+'приложение 2 культура '!C44 -> 7536.2 | E33: =C33/C34 -> 1.6442007 | F33: =B37+B41+B45+B49 -> 9.8 | G33: =H33/F33/12*1000 -> 64083.333 | H33: =D37+D41+D45+D49 -> 7536.2
A34: основной | B34: ='приложение 2 культура '!B27+'приложение 2 культура '!B33+'приложение 2 культура '!B39+'приложение 2 культура '!B45 -> 69.7 | C34: =D34/B34/12*1000 -> 38975.371 | D34: ='приложение 2 культура '!C27+'приложение 2 культура '!C33+'приложение 2 культура '!C39+'приложение 2 культура '!C45 -> 32599 | E34: =C34/C34 -> 1 | F34: =B38+B42+B46+B50 -> 69.7 | G34: =H34/F34/12*1000 -> 38975.371 | H34: =D38+D42+D46+D50 -> 32599
A35: вспомогательный | B35: ='приложение 2 культура '!B28+'приложение 2 культура '!B34+'приложение 2 культура '!B40+'приложение 2 культура '!B46 -> 43.6 | C35: =D35/B35/12*1000 -> 33230.122 | D35: ='приложение 2 культура '!C28+'приложение 2 культура '!C34+'приложение 2 культура '!C40+'приложение 2 культура '!C46 -> 17386 | E35: =C35/C34 -> 0.85259285 | F35: =B39+B43+B47+B51 -> 43.6 | G35: =H35/F35/12*1000 -> 33230.122 | H35: =D39+D43+D47+D51 -> 17386
A36: ОГАУК «ДНТ «Авангард»
A37: АУП | B37: ='приложение 2 культура '!B26 -> 3 | C37: =D37/B37/12*1000 -> 79422.222 | D37: ='приложение 2 культура '!C26 -> 2859.2 | E37: =C37/C38 -> 1.9654843
A38: основной | B38: ='приложение 2 культура '!B27 -> 52.9 | C38: =D38/B38/12*1000 -> 40408.475 | D38: ='приложение 2 культура '!C27 -> 25651.3 | E38: =C38/C38 -> 1
A39: вспомогательный | B39: ='приложение 2 культура '!B28 -> 32.6 | C39: =D39/B39/12*1000 -> 36313.139 | D39: ='приложение 2 культура '!C28 -> 14205.7 | E39: =C39/C38 -> 0.89865156
A40: ОГАУК «ТО РНД»
A41: АУП | B41: ='приложение 2 культура '!B32 -> 3 | C41: =D41/B41/12*1000 -> 58302.778 | D41: ='приложение 2 культура '!C32 -> 2098.9 | E41: =C41/C42 -> 1.6994945
A42: основной | B42: ='приложение 2 культура '!B33 -> 7 | C42: =D42/B42/12*1000 -> 34305.952 | D42: ='приложение 2 культура '!C33 -> 2881.7 | E42: =C42/C42 -> 1
...
