Workbook
Name ___xlfn_IFERROR: #N/A
Name __kat6: [1]Титул!$A$15
Name __xlfn_IFERROR: #N/A
Name _inf2007: NA()
Name _inf2008: NA()
Name _inf2009: NA()
Name _inf2010: NA()
Name _inf2011: NA()
Name _inf2012: NA()
Name _inf2013: NA()
Name _inf2014: NA()
Name _inf2015: NA()
Name _kat6: [2]Титул!$A$15
Name ColLastYearFB: NA()
Name ColLastYearFB1: NA()
Name ColThisYearFB: NA()
Name ghj: NA()
Name PeriodLastYearName: NA()
Name PeriodThisYearName: NA()
Name titul: [2]Титул!$B$3
Name zpl: NA()
Name ааа: NA()
Name АнМ: NA()
Name вв: NA()
Name График: "Диагр. 4"
Name ДПО: '[3]2002(v2)'!#REF!
Name иии: NA()
Name культура: '[3]2002(v2)'!#REF!
Name М1: NA()
Name Минздрав: NA()
Name мммммммммм: '[3]2002(v2)'!#REF!
Name Мониторинг1: NA()
Name ненужное: '[3]2002(v2)'!#REF!
Name новое: '[3]2002(v2)'!#REF!
Name новый: '[3]2002(v2)'!#REF!
Name ПОКАЗАТЕЛИ_ДОЛГОСР.ПРОГНОЗА: '[3]2002(v2)'!#REF!
Name ПОКАЗАТЕЛИ_ДОЛГОСР_ПРОГНОЗА: NA()
Name пппп: '[3]2002(v2)'!#REF!
Name пр: NA()
Name приб: NA()
Name прибвб2: NA()
Name Прогноз97: NA()
Name ррр: '[3]2002(v2)'!#REF!
Name старое: '[3]2002(v2)'!#REF!
Name фф: NA()
Name ффф: NA()
Name хрень: '[3]2002(v2)'!#REF!
Name ыыы: NA()

Sheet приложение 1 СПО (+без кл.рук)
G1: Приложение № 1
F2: к письму от ______________________№___________________________
A4: Мониторинг целевых показателей, установленных в плане мероприятий "дорожной карте" за 2022 год
A7: Наименование ОГОАУ | B7: Планируемая среднесписочная численность отдельной категории работников государственных и муниципальных учреждений, чел. | C7: Фактическая среднесписочная численность отдельной категории работников государственных и муниципальных учреждений на отчетный период, чел. | D7: Отношение средней заработной платы работников соответствующей категории к среднемесячному доходу от трудовой деятельности по Томской области, %* | E7: Средняя заработная плата отдельной категории работников списочного состава, руб. | G7: Плановое значение средней заработной платы отдельной категории работников на год, руб. | H7: Отклонение факта за отчетный период от планового значения на год, руб.
E8: план на отчетный период** | F8: факт за отчетный период
A9: 1 | B9: 2 | C9: 3 | D9: 4 | E9: 5 | F9: 6 | G9: 7 | H9: 8=6-7
A10: Преподаватели и мастера производственного обучения образовательных учреждений начального и среднего профессионального образования
A11: Областное государственное автономное профессиональное образовательное учреждение "Губернаторский колледж социально - культурных технологий и инноваций" | B11: ='[4]Форма 2 июнь 2022'!$IZ$14 -> 44 | C11: ='[5]УК расш(о)'!$F$11 -> 51 | D11: =F11/45193*100 -> 100.26171 | E11: ='[4]Форма 2 июнь 2022'!$JA$14 -> 41246.518 | F11: ='[5]УК расш(о)'!$Q$11 -> 45311.275 | G11: ='[4]Форма 2 июнь 2022'!$JA$14 -> 41246.518 | H11: =F11-G11 -> 4064.7565
A12: ='[6]Итого УК расш (о)'!$C$9 -> Областное государственное образовательное автономное учреждение среднего профессионального образования «Томский музыкальный колледж имени Э.В. Денисова» | B12: ='[4]Форма 2 июнь 2022'!$IZ$13 -> 61 | C12: ='[5]УК расш(о)'!$F$9 -> 61 | D12: =F12/45193*100 -> 96.917967 | E12: ='[4]Форма 2 июнь 2022'!$JA$13 -> 41123.423 | F12: ='[5]УК расш(о)'!$Q$9 -> 43800.137 | G12: ='[4]Форма 2 июнь 2022'!$JA$13 -> 41123.423 | H12: =F12-G12 -> 2676.7138
A13: Всего по СПО: | B13: =SUM(B11:B12) -> 105 | C13: =SUM(C11:C12) -> 112 | D13: =F13/45193*100 -> 98.440564 | E13: =(E11*B11+B12*E12)/B13 -> 41175.006 | F13: =(F11*C11+C12*F12)/C13 -> 44488.244 | G13: =(G11*B11+B12*G12)/B13 -> 41175.006 | H13: =F13-G13 -> 3313.2385
A14: Преподаватели и мастера производственного обучения образовательных учреждений начального и среднего профессионального образования (без классного руководства)
A15: Областное государственное автономное профессиональное образовательное учреждение "Губернаторский колледж социально - культурных технологий и инноваций" | B15: =B11 -> 44 | C15: =C11 -> 51 | D15: =F15/45193*100 -> 91.267605 | E15: =E11 -> 41246.518 | F15: ='[7]ОГАУК 2022 '!$BO$103 -> 41246.569 | G15: =G11 -> 41246.518 | H15: =F15-G15 -> 0.050636481
A16: ='[6]Итого УК расш (о)'!$C$9 -> Областное государственное образовательное автономное учреждение среднего профессионального образования «Томский музыкальный колледж имени Э.В. Денисова» | B16: =B12 -> 61 | C16: =C12 -> 61 | D16: =F16/45193*100 -> 90.995281 | E16: =E12 -> 41123.423 | F16: ='[7]ОГАУК 2022 '!$BO$104 -> 41123.497 | G16: =G12 -> 41123.423 | H16: =F16-G16 -> 0.074496571
A17: Всего по СПО: | B17: =SUM(B15:B16) -> 105 | C17: =SUM(C15:C16) -> 112 | D17: =F17/45193*100 -> 91.119285 | E17: =(E15*B15+B16*E16)/B17 -> 41175.006 | F17: =(F15*C15+C16*F16)/C17 -> 41179.539 | G17: =(G15*B15+B16*G16)/B17 -> 41175.006 | H17: =F17-G17 -> 4.5331605
A18: *Среднемесячный доход от трудовой деятельности по Томской области на 2022 год по ДК составляет 45 193,0 рублей
A19: **В соответствии с показателями, установленными в Финансовом обеспечении мероприятий региональной "дорожной карты" субъекта Российской Федерации в части повышения заработной платы за отчетный период

Sheet приложение 2 спо
E1: Приложение № 2
B2: к письму от ______________________№___________________________
A4: Мониторинг целевых показателей, установленных в плане мероприятий "дорожной карте"
A5: за 2022 год (данные ведомственной статистики)
A7: Наименование ОГАПОУ | B7: Среднесписочная численность, чел. | C7: ФОТ, тыс.руб | D7: Среднемесячная заработная плата по группам персонала, руб. | E7: Доля ФОТ АУП и вспомогательного персонала в общем ФОТ, %
A8: 1 | B8: 2 | C8: 3 | E8: 4
A9: Преподаватели и мастера производственного обучения образовательных учреждений начального и среднего профессионального образования
A10: ='приложение 3 спо'!A10:C10 -> Областное государственное автономное профессиональное образовательное учреждение "Губернаторский колледж социально - культурных технологий и инноваций" | E10: =(C13+C15)/C11 -> 0.3172091
A11: ФОТ , всего: | B11: =B13+B14+B15 -> 91.8 | C11: =C13+C14+C15 -> 49327.4 | D11: =C11/B11/12*1000 -> 44777.959
A12: в том числе по группам персонала:
A13: Административно-управленческий персонал | B13: 4 | C13: 4765.1 | D13: =C13/B13/12*1000 -> 99272.917
A14: Основной персонал | B14: 62.2 | C14: 33680.3 | D14: =C14/B14/12*1000 -> 45123.66
A15: Прочий персонал (вспомогательный) | B15: 25.6 | C15: 10882 | D15: =C15/B15/12*1000 -> 35423.177
A16: ='приложение 3 спо'!A14:C14 -> Областное государственное автономное профессиональное образовательное учреждение "Томский музыкальный колледж имени Э.В. Денисова " | E16: =(C19+C21)/C17 -> 0.22370442
A17: ФОТ , всего: | B17: =B19+B20+B21 -> 86.3 | C17: =C19+C20+C21 -> 46230.2 | D17: =C17/B17/12*1000 -> 44640.981
A18: в том числе по группам персонала:
A19: Административно-управленческий персонал | B19: 3.3 | C19: 3395.2 | D19: =C19/B19/12*1000 -> 85737.374
A20: Основной персонал | B20: 67.3 | C20: 35888.3 | D20: =C20/B20/12*1000 -> 44438.212
A21: Прочий персонал (вспомогательный) | B21: 15.7 | C21: 6946.7 | D21: =C21/B21/12*1000 -> 36872.081
A22: ИТОГО СПО: | E22: =(C25+C27)/C23 -> 0.27197209
A23: ФОТ , всего: | B23: =B25+B26+B27 -> 178.1 | C23: =C25+C26+C27 -> 95557.6 | D23: =C23/B23/12*1000 -> 44711.585
A24: в том числе по группам персонала:
A25: Административно-управленческий персонал | B25: =B19+B13 -> 7.3 | C25: =C19+C13 -> 8160.3 | D25: =C25/B25/12*1000 -> 93154.11
A26: Основной персонал | B26: =B20+B14 -> 129.5 | C26: =C20+C14 -> 69568.6 | D26: =C26/B26/12*1000 -> 44767.439
A27: Прочий персонал (вспомогательный) | B27: =B21+B15 -> 41.3 | C27: =C21+C15 -> 17828.7 | D27: =C27/B27/12*1000 -> 35973.971

Sheet приложение 3 спо
E1: Приложение № 3
C2: к письму от ______________________№___________________________
A4: Мониторинг целевых показателей, установленных в плане мероприятий "дорожной карте"
A5: за 2022 год (данные ведомственной статистики)
A7: Наименование ОГАПОУ | B7: Среднесписочная численность, чел. | C7: Среднемесячная заработная плата по категориям персонала, руб. | D7: ФОТ, тыс.руб* | E7: Отношение среднемесячной заработной платы категорий персонала к среднемесячной заработной плате основного персонала учреждений, раз
A8: 1 | B8: 2 | C8: 3 | E8: 4
A9: Преподаватели и мастера производственного обучения образовательных учреждений начального и среднего профессионального образования
A10: Областное государственное автономное профессиональное образовательное учреждение "Губернаторский колледж социально - культурных технологий и инноваций"
A11: Административно-управленческий персонал | B11: ='приложение 2 спо'!B13 -> 4 | C11: =D11/B11/12*1000 -> 99272.917 | D11: ='приложение 2 спо'!C13 -> 4765.1 | E11: =C11/C12 -> 2.2000192
A12: Основной персонал | B12: ='приложение 2 спо'!B14 -> 62.2 | C12: =D12/B12/12*1000 -> 45123.66 | D12: ='приложение 2 спо'!C14 -> 33680.3 | E12: =C12/C12 -> 1
A13: Вспомогательный персонал | B13: ='приложение 2 спо'!B15 -> 25.6 | C13: =D13/B13/12*1000 -> 35423.177 | D13: ='приложение 2 спо'!C15 -> 10882 | E13: =C13/C12 -> 0.78502446
A14: Областное государственное автономное профессиональное образовательное учреждение "Томский музыкальный колледж имени Э.В. Денисова "
A15: Административно-управленческий персонал | B15: ='приложение 2 спо'!B19 -> 3.3 | C15: =D15/B15/12*1000 -> 85737.374 | D15: ='приложение 2 спо'!C19 -> 3395.2 | E15: =C15/C16 -> 1.9293615
A16: Основной персонал | B16: ='приложение 2 спо'!B20 -> 67.3 | C16: =D16/B16/12*1000 -> 44438.212 | D16: ='приложение 2 спо'!C20 -> 35888.3 | E16: =C16/C16 -> 1
A17: Вспомогательный персонал | B17: ='приложение 2 спо'!B21 -> 15.7 | C17: =D17/B17/12*1000 -> 36872.081 | D17: ='приложение 2 спо'!C21 -> 6946.7 | E17: =C17/C16 -> 0.82973817
A18: ИТОГО СПО:
A19: ИТОГО: | B19: ='приложение 2 спо'!B23 -> 178.1 | C19: =D19/B19/12*1000 -> 44711.585 | D19: ='приложение 2 спо'!C23 -> 95557.6
A20: в том числе по группам персонала:
A21: Административно-управленческий персонал | B21: ='приложение 2 спо'!B25 -> 7.3 | C21: =D21/B21/12*1000 -> 93154.11 | D21: ='приложение 2 спо'!C25 -> 8160.3 | E21: =C21/C22 -> 2.0808452 | F21: =B11+B15 -> 7.3 | G21: =H21/F21/12*1000 -> 93154.11 | H21: =D11+D15 -> 8160.3
A22: Основной персонал | B22: ='приложение 2 спо'!B26 -> 129.5 | C22: =D22/B22/12*1000 -> 44767.439 | D22: ='приложение 2 спо'!C26 -> 69568.6 | E22: =C22/C22 -> 1 | F22: =B12+B16 -> 129.5 | G22: =H22/F22/12*1000 -> 44767.439 | H22: =D12+D16 -> 69568.6
A23: Прочий персонал (вспомогательный) | B23: ='приложение 2 спо'!B27 -> 41.3 | C23: =D23/B23/12*1000 -> 35973.971 | D23: ='приложение 2 спо'!C27 -> 17828.7 | E23: =C23/C22 -> 0.80357447 | F23: =B13+B17 -> 41.3 | G23: =H23/F23/12*1000 -> 35973.971 | H23: =D13+D17 -> 17828.7

Sheet приложение 1 ДПО
G1: Приложение 2
G2: к письму от _____________________№___________
A4: Мониторинг целевых показателей, установленных в плане мероприятий "дорожной карте" за 2022 год
A7: Наименование МУ | B7: Планируемая среднесписочная численность отдельной категории работников государственных и муниципальных учреждений, чел. | C7: Фактическая среднесписочная численность отдельной категории работников государственных и муниципальных учреждений на отчетный период, чел. | D7: Отношение средней заработной платы работников соответствующей категории к среднемесячному доходу от трудовой деятельности по Томской области, %* | E7: Средняя заработная плата отдельной категории работников списочного состава, руб. | G7: Плановое значение средней заработной платы отдельной категории работников на год, руб. | H7: Отклонение факта за отчетный период от планового значения на год, руб.
E8: план на отчетный период** | F8: факт за отчетный период
A9: 1 | B9: 2 | C9: 3 | D9: 4 | E9: 5 | F9: 6 | G9: 7 | H9: 8=6-7
A10: Педагогические работники дополнительного образования детей
A11: ОГАОУ ДО
A12: ОГАОУ ДО «Асиновская ДШИ» | B12: ='[8]ФОРМА 2 2022 июль'!$OE$13 -> 19 | C12: ='[5]УК расш(о)'!$F$15 -> 19 | D12: =F12/41175*100 -> 92.908957 | E12: =G12 -> 38255.263 | F12: ='[5]УК расш(о)'!$Q$15 -> 38255.263 | G12: ='[8]ФОРМА 2 2022 июль'!$OF$13 -> 38255.263 | H12: =F12-G12 -> 0
A13: ОГАОУ ДО «ДШИ» Верхнекетского района | B13: ='[8]ФОРМА 2 2022 июль'!$OE$14 -> 10 | C13: ='[5]УК расш(о)'!$F$17 -> 10 | D13: =F13/41175*100 -> 112.43473 | E13: =G13 -> 45564.167 | F13: ='[5]УК расш(о)'!$Q$17 -> 46295 | G13: ='[8]ФОРМА 2 2022 июль'!$OF$14 -> 45564.167 | H13: =F13-G13 -> 730.83333
A14: ОГАОУ ДО «Зырянская ДШИ» | B14: ='[8]ФОРМА 2 2022 июль'!$OE$15 -> 11 | C14: ='[5]УК расш(о)'!$F$19 -> 10 | D14: =F14/41175*100 -> 92.558187 | E14: =G14 -> 38110.606 | F14: ='[5]УК расш(о)'!$Q$19 -> 38110.833 | G14: ='[8]ФОРМА 2 2022 июль'!$OF$15 -> 38110.606 | H14: =F14-G14 -> 0.22727273
A15: ОГАОУ ДО «Кожевниковская ДШИ» | B15: ='[8]ФОРМА 2 2022 июль'!$OE$16 -> 15.6 | C15: ='[5]УК расш(о)'!$F$21 -> 15.6 | D15: =F15/41175*100 -> 100.25999 | E15: =G15 -> 41282.051 | F15: ='[5]УК расш(о)'!$Q$21 -> 41282.051 | G15: ='[8]ФОРМА 2 2022 июль'!$OF$16 -> 41282.051 | H15: =F15-G15 -> 0
A16: ОГАОУ ДО «Тегульдетская ДШИ» | B16: ='[8]ФОРМА 2 2022 июль'!$OE$17 -> 5 | C16: ='[5]УК расш(о)'!$F$23 -> 5 | D16: =F16/41175*100 -> 134.13884 | E16: =G16 -> 55231.667 | F16: ='[5]УК расш(о)'!$Q$23 -> 55231.667 | G16: ='[8]ФОРМА 2 2022 июль'!$OF$17 -> 55231.667 | H16: =F16-G16 -> 0
A17: ОГАОУ ДО «ДШИ с.Мельниково» | B17: ='[8]ФОРМА 2 2022 июль'!$OE$18 -> 9.8 | C17: ='[5]УК расш(о)'!$F$25 -> 9.8 | D17: =F17/41175*100 -> 95.67798 | E17: =G17 -> 39394.558 | F17: ='[5]УК расш(о)'!$Q$25 -> 39395.408 | G17: ='[8]ФОРМА 2 2022 июль'!$OF$18 -> 39394.558 | H17: =F17-G17 -> 0.85034014
A18: ИТОГО ОГАОУ: | B18: =B12+B13+B14+B15+B16+B17 -> 70.4 | C18: =C12+C13+C14+C15+C16+C17 -> 69.4 | D18: =F18/41175*100 -> 100.68579 | E18: =G18 -> 41305.871 | F18: =(F12*C12+F13*C13+F14*C14+F15*C15+F16*C16+F17*C17)/C18 -> 41457.373 | G18: =(B12*G12+B13*G13+G14*B14+G15*B15+G16*B16+G17*B17)/B18 -> 41305.871 | H18: =F18-G18 -> 151.50151
A19: Муниципальное образование
A20: Александровский район
A21: Муниципальное бюджетное учреждение дополнительного образования "Детская школа искусств" | B21: ='[8]ФОРМА 2 2022 июль'!$OE$20 -> 8 | C21: ='[5]УК расш(о)'!$F$28 -> 8 | D21: =F21/41175*100 -> 148.38089 | E21: =G21 -> 61095.833 | F21: ='[5]УК расш(о)'!$Q$28 -> 61095.833 | G21: ='[8]ФОРМА 2 2022 июль'!$OF$20 -> 61095.833 | H21: =F21-G21 -> 0
A22: Всего по муниципальному образованию "Александровский район" | B22: =SUM(B21:B21) -> 8 | C22: =SUM(C21:C21) -> 8 | D22: =F22/41175*100 -> 148.38089 | E22: =(B21*E21)/B22 -> 61095.833 | F22: =(C21*F21)/C22 -> 61095.833 | G22: =(B21*G21)/B22 -> 61095.833 | H22: =F22-G22 -> 0
A23: Каргасокский район
A24: Муниципальное бюджетное образовательное учреждение дополнительного образования "Каргасокская детская школа искусств" | B24: ='[8]ФОРМА 2 2022 июль'!$OE$22 -> 14.4 | C24: ='[5]УК расш(о)'!$F$37 -> 14.6 | D24: =F24/41175*100 -> 125.07728 | E24: =G24 -> 51500.579 | F24: ='[5]УК расш(о)'!$Q$37 -> 51500.571 | G24: ='[8]ФОРМА 2 2022 июль'!$OF$22 -> 51500.579 | H24: =F24-G24 -> -0.007927448
A25: Всего по муниципальному образованию "Каргасокский район" | B25: =SUM(B24:B24) -> 14.4 | C25: =SUM(C24:C24) -> 14.6 | D25: =F25/41175*100 -> 125.07728 | E25: =(B24*E24)/B25 -> 51500.579 | F25: =(C24*F24)/C25 -> 51500.571 | G25: =(B24*G24)/B25 -> 51500.579 | H25: =F25-G25 -> -0.007927448
A26: Молчановский район
A27: муниципальное бюджетное образовательное учреждение дополнительного образования "Молчановская детская музыкальная школа" | B27: ='[8]ФОРМА 2 2022 июль'!$OE$24 -> 10 | C27: ='[5]УК расш(о)'!$F$43 -> 10.3 | D27: =F27/41175*100 -> 121.82 | E27: =G27 -> 50159.167 | F27: ='[5]УК расш(о)'!$Q$43 -> 50159.385 | G27: ='[8]ФОРМА 2 2022 июль'!$OF$24 -> 50159.167 | H27: =F27-G27 -> 0.2184466
A28: Всего по муниципальному образованию "Молчановский район" | B28: =SUM(B27:B27) -> 10 | C28: =SUM(C27:C27) -> 10.3 | D28: =F28/41175*100 -> 121.82 | E28: =(B27*E27)/B28 -> 50159.167 | F28: =(C27*F27)/C28 -> 50159.385 | G28: =(B27*G27)/B28 -> 50159.167 | H28: =F28-G28 -> 0.2184466
A29: Парабельский район
A30: Муниципальное бюджетное учреждение дополнительного образования "Детская школа искусств им. Геннадия и Александра Заволокиных" | B30: ='[8]ФОРМА 2 2022 июль'!$OE$25 -> 9.6 | C30: ='[5]УК расш(о)'!$F$46 -> 9.6 | D30: =F30/41175*100 -> 128.53758 | E30: =G30 -> 52925.347 | F30: ='[5]УК расш(о)'!$Q$46 -> 52925.347 | G30: ='[8]ФОРМА 2 2022 июль'!$OF$25 -> 52925.347 | H30: =F30-G30 -> 0
A31: Всего по муниципальному образованию "Парабельский район" | B31: =SUM(B30:B30) -> 9.6 | C31: =SUM(C30:C30) -> 9.6 | D31: =F31/41175*100 -> 128.53758 | E31: =(B30*E30)/B31 -> 52925.347 | F31: =(C30*F30)/C31 -> 52925.347 | G31: =(B30*G30)/B31 -> 52925.347 | H31: =F31-G31 -> 0
A32: Первомайский район
A33: Муниципальное автономное образовательное учреждение дополнительного образования «Первомайская детская школа искусств" | B33: ='[8]ФОРМА 2 2022 июль'!$OE$26 -> 8.5 | C33: ='[5]УК расш(о)'!$F$49 -> 8.5 | D33: =F33/41175*100 -> 110.59443 | E33: =G33 -> 45537.255 | F33: ='[5]УК расш(о)'!$Q$49 -> 45537.255 | G33: ='[8]ФОРМА 2 2022 июль'!$OF$26 -> 45537.255 | H33: =F33-G33 -> 0
A34: Всего по муниципальному образованию "Первомайский район" | B34: =B33 -> 8.5 | C34: =C33 -> 8.5 | D34: =F34/41175*100 -> 110.59443 | E34: =(B33*E33)/B34 -> 45537.255 | F34: =(F33*C33)/C34 -> 45537.255 | G34: =(G33*B33)/B34 -> 45537.255 | H34: =F34-G34 -> 0
A35: Томский район
A36: Муниципальное бюджетное образовательное учреждение дополнительного образования "Детская школа искусств п.Зональная Станция" | B36: ='[8]ФОРМА 2 2022 июль'!$OE$31 -> 8 | C36: ='[5]УК расш(о)'!$F$61 -> 6.8 | D36: =F36/41175*100 -> 97.976713 | E36: =G36 -> 35637.417 | F36: ='[5]УК расш(о)'!$Q$61 -> 40341.912 | G36: ='[8]ФОРМА 2 2022 июль'!$OF$31 -> 35637.417 | H36: =F36-G36 -> 4704.495
A37: Муниципальное бюджетное образовательное учреждение дополнительного образования "Детская школа искусств д.Кисловка" | B37: ='[8]ФОРМА 2 2022 июль'!$OE$32 -> 5.7 | C37: ='[5]УК расш(о)'!$F$60 -> 5.7 | D37: =F37/41175*100 -> 91.593079 | E37: =G37 -> 37021.93 | F37: ='[5]УК расш(о)'!$Q$60 -> 37713.45 | G37: ='[8]ФОРМА 2 2022 июль'!$OF$32 -> 37021.93 | H37: =F37-G37 -> 691.52047
A38: Муниципальное бюджетное образовательное учреждение дополнительного образования "Детская школа искусств п.Молодежный" | B38: ='[8]ФОРМА 2 2022 июль'!$OE$33 -> 11.3 | C38: ='[5]УК расш(о)'!$F$63 -> 11 | D38: =F38/41175*100 -> 90.92381 | E38: =G38 -> 37022.861 | F38: ='[5]УК расш(о)'!$Q$63 -> 37437.879 | G38: ='[8]ФОРМА 2 2022 июль'!$OF$33 -> 37022.861 | H38: =F38-G38 -> 415.01743
A39: Муниципальное бюджетное образовательное учреждение дополнительного образования "Детская школа искусств п.Мирный" | B39: ='[8]ФОРМА 2 2022 июль'!$OE$34 -> 10.9 | C39: ='[5]УК расш(о)'!$F$62 -> 11 | D39: =F39/41175*100 -> 97.122408 | E39: =G39 -> 37622.324 | F39: ='[5]УК расш(о)'!$Q$62 -> 39990.152 | G39: ='[8]ФОРМА 2 2022 июль'!$OF$34 -> 37622.324 | H39: =F39-G39 -> 2367.8274
A40: Всего по муниципальному образованию "Томский район" | B40: =SUM(B36:B39) -> 35.9 | C40: =SUM(C36:C39) -> 34.5 | D40: =F40/41175*100 -> 94.400887 | E40: =(E36*B36+E37*B37+E38*B38+E39*B39)/B40 -> 36895.989 | F40: =(C36*F36+C37*F37+C38*F38+C39*F39)/C40 -> 38869.565 | G40: =(G36*B36+G37*B37+G38*B38+G39*B39)/B40 -> 36895.989 | H40: =F40-G40 -> 1973.5763
A41: Чаинский район
A42: Муниципальное бюджетное образовательное учреждение дополнительного образования "Подгорнская детская музыкальная школа" | B42: ='[8]ФОРМА 2 2022 июль'!$OE$37 -> 5 | C42: ='[5]УК расш(о)'!$F$67 -> 4.9 | D42: =F42/41175*100 -> 138.62351 | E42: =G42 -> 55936.667 | F42: ='[5]УК расш(о)'!$Q$67 -> 57078.231 | G42: ='[8]ФОРМА 2 2022 июль'!$OF$37 -> 55936.667 | H42: =F42-G42 -> 1141.5646
A43: Муниципальное бюджетное образовательное учреждение дополнительного образования "Подгорнская детская художественная школа" | B43: ='[8]ФОРМА 2 2022 июль'!$OE$36 -> 4 | C43: ='[5]УК расш(о)'!$F$68 -> 4.1 | D43: =F43/41175*100 -> 126.26061 | E43: =G43 -> 53287.5 | F43: ='[5]УК расш(о)'!$Q$68 -> 51987.805 | G43: ='[8]ФОРМА 2 2022 июль'!$OF$36 -> 53287.5 | H43: =F43-G43 -> -1299.6951
A44: Всего по муниципальному образованию "Чаинский район" | B44: =SUM(B42:B43) -> 9 | C44: =SUM(C42:C43) -> 9 | D44: =F44/41175*100 -> 132.99152 | E44: =G44 -> 54759.259 | F44: =(C42*F42+C43*F43)/C44 -> 54759.259 | G44: ='[8]ФОРМА 2 2022 июль'!$OF$35 -> 54759.259 | H44: =F44-G44 -> 0
A45: г.Томск
A46: Муниципальное бюджетное образовательное учреждение дополнительного образования «Детская школа искусств № 1 имени А.Г.Рубинштейна» Города Томска | B46: ='[8]ФОРМА 2 2022 июль'!$OE$41 -> 42.3 | C46: ='[5]УК расш(о)'!$F$79 -> 41.2 | D46: =F46/41175*100 -> 86.444806 | E46: =G46 -> 36015.563 | F46: ='[5]УК расш(о)'!$Q$79 -> 35593.649 | G46: ='[8]ФОРМА 2 2022 июль'!$OF$41 -> 36015.563 | H46: =F46-G46 -> -421.91457
A47: Муниципальное бюджетное образовательное учреждение дополнительного образования «Детская музыкальная школа № 2» Города Томска | B47: ='[8]ФОРМА 2 2022 июль'!$OE$42 -> 30.2 | C47: ='[5]УК расш(о)'!$F$80 -> 31.3 | D47: =F47/41175*100 -> 89.672836 | E47: =G47 -> 36652.042 | F47: ='[5]УК расш(о)'!$Q$80 -> 36922.79 | G47: ='[8]ФОРМА 2 2022 июль'!$OF$42 -> 36652.042 | H47: =F47-G47 -> 270.74826
A48: Муниципальное автономное образовательное учреждение дополнительного образования «Детская школа искусств № 3» Города Томска | B48: ='[8]ФОРМА 2 2022 июль'!$OE$43 -> 55.8 | C48: ='[5]УК расш(о)'!$F$78 -> 55.1 | D48: =F48/41175*100 -> 88.581009 | E48: =G48 -> 34405.018 | F48: ='[5]УК расш(о)'!$Q$78 -> 36473.23 | G48: ='[8]ФОРМА 2 2022 июль'!$OF$43 -> 34405.018 | H48: =F48-G48 -> 2068.2126
A49: Муниципальное бюджетное образовательное учреждение дополнительного образования «Детская музыкальная школа № 4» Города Томска | B49: ='[8]ФОРМА 2 2022 июль'!$OE$44 -> 26.2 | C49: ='[5]УК расш(о)'!$F$77 -> 25.1 | D49: =F49/41175*100 -> 95.59334 | E49: =G49 -> 33851.463 | F49: ='[5]УК расш(о)'!$Q$77 -> 39360.558 | G49: ='[8]ФОРМА 2 2022 июль'!$OF$44 -> 33851.463 | H49: =F49-G49 -> 5509.0947
A50: Муниципальное бюджетное образовательное учреждение дополнительного образования «Детская школа искусств № 5» Города Томска | B50: ='[8]ФОРМА 2 2022 июль'!$OE$45 -> 27.1 | C50: ='[5]УК расш(о)'!$F$81 -> 27.7 | D50: =F50/41175*100 -> 100.12735 | E50: =G50 -> 43229.397 | F50: ='[5]УК расш(о)'!$Q$81 -> 41227.437 | G50: ='[8]ФОРМА 2 2022 июль'!$OF$45 -> 43229.397 | H50: =F50-G50 -> -2001.9605
A51: Муниципальное бюджетное образовательное учреждение дополнительного образования «Детская школа искусств № 8» Города Томска | B51: ='[8]ФОРМА 2 2022 июль'!$OE$47 -> 8.9 | C51: ='[5]УК расш(о)'!$F$82 -> 8.6 | D51: =F51/41175*100 -> 87.874124 | E51: =G51 -> 38667.603 | F51: ='[5]УК расш(о)'!$Q$82 -> 36182.171 | G51: ='[8]ФОРМА 2 2022 июль'!$OF$47 -> 38667.603 | H51: =F51-G51 -> -2485.4325
A52: Муниципальное автономное образовательное учреждение дополнительного образования «Детская художественная школа №1» Города Томска | B52: ='[8]ФОРМА 2 2022 июль'!$OE$48 -> 16.4 | C52: ='[5]УК расш(о)'!$F$75 -> 17.9 | D52: =F52/41175*100 -> 103.47915 | E52: =G52 -> 49810.467 | F52: ='[5]УК расш(о)'!$Q$75 -> 42607.542 | G52: ='[8]ФОРМА 2 2022 июль'!$OF$48 -> 49810.467 | H52: =F52-G52 -> -7202.9256
A53: Муниципальное автономное образовательное учреждение дополнительного образования «Детская художественная школа № 2» Города Томска | B53: ='[8]ФОРМА 2 2022 июль'!$OE$49 -> 17.1 | C53: ='[5]УК расш(о)'!$F$76 -> 17.1 | D53: =F53/41175*100 -> 90.106532 | E53: =G53 -> 40957.115 | F53: ='[5]УК расш(о)'!$Q$76 -> 37101.365 | G53: ='[8]ФОРМА 2 2022 июль'!$OF$49 -> 40957.115 | H53: =F53-G53 -> -3855.7505
A54: Всего по муниципальному образованию "г.Томск" | B54: =SUM(B46:B53) -> 224 | C54: =SUM(C46:C53) -> 224 | D54: =F54/41175*100 -> 91.834089 | E54: =G54 -> 37812.388 | F54: =(C46*F46+C47*F47+C48*F48+C49*F49+C50*F50+C51*F51+C52*F52+C53*F53)/C54 -> 37812.686 | G54: =(G46*B46+B47*G47+G48*B48+B49*G49+G50*B50+G51*B51+B52*G52+G53*B53)/B54 -> 37812.388 | H54: =F54-G54 -> 0.29761905
A55: г. Кедровый
A56: Муниципальное казенное образовательное учреждение дополнительного образования "Детская школа искусств" г. Кедрового | B56: ='[8]ФОРМА 2 2022 июль'!$OE$50 -> 3.3 | C56: ='[5]УК расш(о)'!$F$86 -> 3 | D56: =F56/41175*100 -> 123.78061 | E56: =G56 -> 56962.121 | F56: ='[5]УК расш(о)'!$Q$86 -> 50966.667 | G56: ='[8]ФОРМА 2 2022 июль'!$OF$50 -> 56962.121 | H56: =F56-G56 -> -5995.4545
A57: Всего по муниципальному образованию "г.Кедровый" | B57: =B56 -> 3.3 | C57: =C56 -> 3 | D57: =F57/41175*100 -> 123.78061 | E57: =(B56*E56)/B57 -> 56962.121 | F57: =(C56*F56)/C57 -> 50966.667 | G57: =(B56*G56)/B57 -> 56962.121 | H57: =F57-G57 -> -5995.4545
A58: г. Стрежевой
A59: ='[6]Итого УК расш (о)'!$C$74 -> Муниципальное бюджетное образовательное учреждение дополнительного образования детей "Детская школа искусств" | B59: ='[8]ФОРМА 2 2022 июль'!$OE$51 -> 27.3 | C59: ='[5]УК расш(о)'!$F$83 -> 27.3 | D59: =F59/41175*100 -> 135.25758 | E59: =G59 -> 55692.308 | F59: ='[5]УК расш(о)'!$Q$83 -> 55692.308 | G59: ='[8]ФОРМА 2 2022 июль'!$OF$51 -> 55692.308 | H59: =F59-G59 -> 0
A60: Всего по муниципальному образованию "г.Стрежевой" | B60: =SUM(B59:B59) -> 27.3 | C60: =SUM(C59:C59) -> 27.3 | D60: =F60/41175*100 -> 135.25758 | E60: =(B59*E59)/B60 -> 55692.308 | F60: =(C59*F59)/C60 -> 55692.308 | G60: =(B59*G59)/B60 -> 55692.308 | H60: =F60-G60 -> 0
A61: ЗАТО Северск
A62: Муниципальное автономное учреждение дополнительного образования ЗАТО Северск "Детская школа искусств» | B62: ='[8]ФОРМА 2 2022 июль'!$OE$54 -> 93.4 | C62: ='[5]УК расш(о)'!$F$92 -> 93.4 | D62: =F62/41175*100 -> 98.332486 | E62: =G62 -> 40488.401 | F62: ='[5]УК расш(о)'!$Q$92 -> 40488.401 | G62: ='[8]ФОРМА 2 2022 июль'!$OF$54 -> 40488.401 | H62: =F62-G62 -> 0
A63: Муниципальное бюджетное учреждение дополнительного образования «Художественная школа» | B63: ='[8]ФОРМА 2 2022 июль'!$OE$53 -> 21 | C63: ='[5]УК расш(о)'!$F$93 -> 21 | D63: =F63/41175*100 -> 89.248369 | E63: =G63 -> 36748.016 | F63: ='[5]УК расш(о)'!$Q$93 -> 36748.016 | G63: ='[8]ФОРМА 2 2022 июль'!$OF$53 -> 36748.016 | H63: =F63-G63 -> 0
A64: Муниципальное бюджетное учреждение дополнительного образования "Самусьская детская школа искусств" | B64: ='[8]ФОРМА 2 2022 июль'!$OE$55 -> 13 | C64: ='[5]УК расш(о)'!$F$94 -> 13 | D64: =F64/41175*100 -> 98.634658 | E64: =G64 -> 40612.821 | F64: ='[5]УК расш(о)'!$Q$94 -> 40612.821 | G64: ='[8]ФОРМА 2 2022 июль'!$OF$55 -> 40612.821 | H64: =F64-G64 -> 0
A65: Всего по муниципальному образованию "ЗАТО Северск" | B65: =SUM(B62:B64) -> 127.4 | C65: =SUM(C62:C64) -> 127.4 | D65: =F65/41175*100 -> 96.865938 | E65: =G65 -> 39884.55 | F65: =(C62*F62+C63*F63+C64*F64)/C65 -> 39884.55 | G65: =(G62*B62+G63*B63+G64*B64)/B65 -> 39884.55 | H65: =F65-G65 -> 0
A66: ИТОГО ПО ДПО: | B66: =(B65+B60+B54+B44+B40+B34+B31+B28+B25+B22+B57) -> 477.4 | C66: =(C65+C60+C54+C44+C40+C34+C31+C28+C25+C22+C57) -> 476.2 | D66: =F66/41175*100 -> 100.52734 | E66: =(E22*B22+E25*B25+E28*B28+E31*B31+E34*B34+E40*B40+E44*B44+E54*B54+E57*B57+E60*B60+E65*B65)/B66 -> 41273.895 | F66: =(F65*C65+C60*F60+F54*C54+C44*F44+F40*C40+F34*C34+C31*F31+F28*C28+F25*C25+F22*C22+F57*C57)/C66 -> 41392.132 | G66: =(G65*B65+B60*G60+G54*B54+B44*G44+G40*B40+G34*B34+B31*G31+G28*B28+G25*B25+G22*B22+G57*B57)/B66 -> 41273.895 | H66: =F66-G66 -> 118.23675
A67: ИТОГО ПО ДПО+ОГАОУ: | B67: =B18+B66 -> 547.8 | C67: =C18+C66 -> 545.6 | D67: =F67/41175*100 -> 100.54749 | E67: =(E66*B66+E18*B18)/B67 -> 41278.005 | F67: =(F18*C18+F66*C66)/C67 -> 41400.431 | G67: =(G66*B66+G18*B18)/B67 -> 41278.005 | H67: =F67-G67 -> 122.42597
A68: *Среднемесячный доход от трудовой деятельности по Томской области на 2022 год составляет 41 175 рублей (плановая СЗП от учителей, фактические данные за 2022 год отсутствуют)
A69: **В соответствии с показателями, установленными в Финансовом обеспечении мероприятий региональной "дорожной карты" субъекта Российской Федерации в части повышения заработной платы за отчетный период

Sheet приложение 2 ДПО
G1: Приложение № 3
D2: к письму от _____________________№________________
A4: Мониторинг целевых показателей, установленных в плане мероприятий "дорожной карте"
A5: за 2022 год (данные ведомственной статистики)
A7: Наименование муниципального образования | B7: Наименование организации дополнительного образования детей | C7: категория персонала | D7: Среднесписочная численность, чел. | E7: ФОТ, тыс.руб | F7: СЗП | G7: Доля ФОТ АУП и вспомогательного персонала в общем ФОТ, % | H7: Доля фонда оплаты труда в общем фонде оплаты труда, %
A8: 1 | B8: 2 | C8: 3 | D8: 4 | E8: 5 | G8: 6 | H8: 7
A9: Работники учреждений дополнительного образования детей
A10: ОГАОУ ДО
B11: ОГАОУ ДО «Асиновская ДШИ» | G11: =(E14+E16)/E12 -> 0.34894865
C12: ФОТ , всего: | D12: =D14+D15+D16 -> 28.1 | E12: =SUM(E14:E16) -> 13397.1 | F12: =E12/D12/12*1000 -> 39730.427 | H12: =E12/E12*100 -> 100
C13: в том числе по группам персонала:
C14: Административно-управленческий персонал | D14: 2.3 | E14: 1385.9 | F14: =E14/D14/12*1000 -> 50213.768 | H14: =E14*100/E12 -> 10.344776
C15: Основной персонал | D15: 19 | E15: 8722.2 | F15: =E15/D15/12*1000 -> 38255.263 | H15: =E15*100/E12 -> 65.105135
C16: Прочий персонал (вспомогательный) | D16: 6.8 | E16: 3289 | F16: =E16/D16/12*1000 -> 40306.373 | H16: =E16*100/E12 -> 24.550089
B17: ОГАОУ ДО «ДШИ» Верхнекетского района | G17: =(E20+E22)/E18 -> 0.37300799
C18: ФОТ , всего: | D18: =D20+D21+D22 -> 16.5 | E18: =SUM(E20:E22) -> 8860.4 | F18: =E18/D18/12*1000 -> 44749.495 | H18: =E18/E18*100 -> 100
C19: в том числе по группам персонала:
C20: Административно-управленческий персонал | D20: 0.5 | E20: 467.8 | F20: =E20/D20/12*1000 -> 77966.667 | H20: =E20*100/E18 -> 5.2796713
C21: Основной персонал | D21: 10 | E21: 5555.4 | F21: =E21/D21/12*1000 -> 46295 | H21: =E21*100/E18 -> 62.699201
C22: Прочий персонал (вспомогательный) | D22: 6 | E22: 2837.2 | F22: =E22/D22/12*1000 -> 39405.556 | H22: =E22*100/E18 -> 32.021128
B23: ОГАОУ ДО «Зырянская ДШИ» | G23: =(E26+E28)/E24 -> 0.30925266
C24: ФОТ , всего: | D24: =D26+D27+D28 -> 15.6 | E24: =SUM(E26:E28) -> 6620.8 | F24: =E24/D24/12*1000 -> 35367.521 | H24: =E24/E24*100 -> 100
C25: в том числе по группам персонала:
C26: Административно-управленческий персонал | D26: 0.6 | E26: 340 | F26: =E26/D26/12*1000 -> 47222.222 | H26: =E26*100/E24 -> 5.1353311
C27: Основной персонал | D27: 10 | E27: 4573.3 | F27: =E27/D27/12*1000 -> 38110.833 | H27: =E27*100/E24 -> 69.074734
C28: Прочий персонал (вспомогательный) | D28: 5 | E28: 1707.5 | F28: =E28/D28/12*1000 -> 28458.333 | H28: =E28*100/E24 -> 25.789935
B29: ОГАОУ ДО «Кожевниковская ДШИ» | G29: =(E32+E34)/E30 -> 0.36304368
C30: ФОТ , всего: | D30: =D32+D33+D34 -> 28.7 | E30: =SUM(E32:E34) -> 12132.7 | F30: =E30/D30/12*1000 -> 35228.513 | H30: =E30/E30*100 -> 100
C31: в том числе по группам персонала:
C32: Административно-управленческий персонал | D32: 2.5 | E32: 1409.5 | F32: =E32/D32/12*1000 -> 46983.333 | H32: =E32*100/E30 -> 11.617365
C33: Основной персонал | D33: 15.6 | E33: 7728 | F33: =E33/D33/12*1000 -> 41282.051 | H33: =E33*100/E30 -> 63.695632
C34: Прочий персонал (вспомогательный) | D34: 10.6 | E34: 2995.2 | F34: =E34/D34/12*1000 -> 23547.17 | H34: =E34*100/E30 -> 24.687003
B35: ОГАОУ ДО «Тегульдетская ДШИ» | G35: =(E38+E40)/E36 -> 0.40305148
C36: ФОТ , всего: | D36: =D38+D39+D40 -> 10.9 | E36: =SUM(E38:E40) -> 5551.4 | F36: =E36/D36/12*1000 -> 42441.896 | H36: =E36/E36*100 -> 100
C37: в том числе по группам персонала:
C38: Административно-управленческий персонал | D38: 1 | E38: 560 | F38: =E38/D38/12*1000 -> 46666.667 | H38: =E38*100/E36 -> 10.087545
C39: Основной персонал | D39: 5 | E39: 3313.9 | F39: =E39/D39/12*1000 -> 55231.667 | H39: =E39*100/E36 -> 59.694852
C40: Прочий персонал (вспомогательный) | D40: 4.9 | E40: 1677.5 | F40: =E40/D40/12*1000 -> 28528.912 | H40: =E40*100/E36 -> 30.217603
B41: ОГАОУ ДО «ДШИ с.Мельниково» | G41: =(E44+E46)/E42 -> 0.26761832
C42: ФОТ , всего: | D42: =D44+D45+D46 -> 14.7 | E42: =SUM(E44:E46) -> 6325.8 | F42: =E42/D42/12*1000 -> 35860.544 | H42: =E42/E42*100 -> 100
C43: в том числе по группам персонала:
C44: Административно-управленческий персонал | D44: 1 | E44: 486.1 | F44: =E44/D44/12*1000 -> 40508.333 | H44: =E44*100/E42 -> 7.6844036
C45: Основной персонал | D45: 9.8 | E45: 4632.9 | F45: =E45/D45/12*1000 -> 39395.408 | H45: =E45*100/E42 -> 73.238168
C46: Прочий персонал (вспомогательный) | D46: 3.9 | E46: 1206.8 | F46: =E46/D46/12*1000 -> 25786.325 | H46: =E46*100/E42 -> 19.077429
B47: ИТОГО ПО ОГАОУ: | G47: =(E50+E52)/E48 -> 0.34719465
C48: ФОТ всего: | D48: =D50+D51+D52 -> 114.5 | E48: =E50+E51+E52 -> 52888.2 | F48: =E48/D48/12*1000 -> 38492.14 | H48: =E48/E48*100 -> 100
C49: в том числе по группам персонала:
C50: Административно-управленческий персонал | D50: =D14+D20+D32+D26+D38+D44 -> 7.9 | E50: =E14+E20+E32+E26+E38+E44 -> 4649.3 | F50: =E50/D50/12*1000 -> 49043.249 | H50: =E50*100/E48 -> 8.7908078
C51: Основной персонал | D51: =D15+D21+D33+D27+D39+D45 -> 69.4 | E51: =E15+E21+E33+E27+E39+E45 -> 34525.7 | F51: =E51/D51/12*1000 -> 41457.373 | H51: =E51*100/E48 -> 65.280535
C52: Прочий персонал (вспомогательный) | D52: =D16+D22+D34+D28+D40+D46 -> 37.2 | E52: =E16+E22+E34+E28+E40+E46 -> 13713.2 | F52: =E52/D52/12*1000 -> 30719.534 | H52: =E52/E48*100 -> 25.928657
A53: Муниципальное образование
A54: Александровский район
B55: ='[9]Итого УК расш (о)'!$C$18 -> Муниципальное бюджетное образовательное учреждение дополнительного образования детей "Детская школа искусств" | G55: =(E58+E60)/E56 -> 0.12189718
C56: ФОТ , всего: | D56: =D58+D59+D60 -> 9 | E56: =SUM(E58:E60) -> 6679.4 | F56: =E56/D56/12*1000 -> 61846.296 | H56: =E56/E56*100 -> 100
C57: в том числе по группам персонала:
C58: Административно-управленческий персонал | D58: 1 | E58: 814.2 | F58: =E58/D58/12*1000 -> 67850 | H58: =E58*100/E56 -> 12.189718
C59: Основной персонал | D59: 8 | E59: 5865.2 | F59: =E59/D59/12*1000 -> 61095.833 | H59: =E59*100/E56 -> 87.810282
C60: Прочий персонал (вспомогательный) | F60: =E60/D60/12*1000 -> #DIV/0! | H60: =E60*100/E56 -> 0
A61: Каргасокский район
B62: Муниципальное бюджетное учреждение дополнительного образования "Каргасокская детская школа искусств" | G62: =(E65+E67)/E63 -> 0.27930957
C63: ФОТ , всего: | D63: =D65+D66+D67 -> 21.2 | E63: =SUM(E65:E67) -> 12519.8 | F63: =E63/D63/12*1000 -> 49213.05 | H63: =E63/E63*100 -> 100
C64: в том числе по группам персонала:
C65: Административно-управленческий персонал | D65: 2 | E65: 1829.1 | F65: =E65/D65/12*1000 -> 76212.5 | H65: =E65*100/E63 -> 14.609658
C66: Основной персонал | D66: 14.6 | E66: 9022.9 | F66: =E66/D66/12*1000 -> 51500.571 | H66: =E66*100/E63 -> 72.069043
C67: Прочий персонал (вспомогательный) | D67: 4.6 | E67: 1667.8 | F67: =E67/D67/12*1000 -> 30213.768 | H67: =E67/E63*100 -> 13.321299
A68: Молчановский район
B69: ='[9]Итого УК расш (о)'!$C$33 -> Муниципальное бюджетное образовательное учреждение дополнительного образования детей "Молчановская детская музыкальная школа" | G69: =(E72+E74)/E70 -> 0.25217423
C70: ФОТ, всего: | D70: =D72+D73+D74 -> 14.7 | E70: =SUM(E72:E74) -> 8290.3 | F70: =E70/D70/12*1000 -> 46997.166 | H70: =E70/E70*100 -> 100
C71: в том числе по группам персонала:
C72: Административно-управленческий персонал | D72: 1 | E72: 963.8 | F72: =E72/D72/12*1000 -> 80316.667 | H72: =E72*100/E70 -> 11.625635
C73: Основной персонал | D73: 10.3 | E73: 6199.7 | F73: =E73/D73/12*1000 -> 50159.385 | H73: =E73*100/E70 -> 74.782577
C74: Прочий персонал (вспомогательный) | D74: 3.4 | E74: 1126.8 | F74: =E74/D74/12*1000 -> 27617.647 | H74: =E74/E70*100 -> 13.591788
A75: Парабельский район
B76: ='[9]Итого УК расш (о)'!$C$36 -> Муниципальное бюджетное образовательное учреждение дополнительного образования детей "Детская школа искусств им. Г.Д. Заволокина" | G76: =(E79+E81)/E77 -> 0.33764978
C77: ФОТ, всего: | D77: =D79+D80+D81 -> 16.6 | E77: =SUM(E79:E81) -> 9205.1 | F77: =E77/D77/12*1000 -> 46210.341 | H77: =E77/E77*100 -> 100
C78: в том числе по группам персонала:
C79: Административно-управленческий персонал | D79: =1+1 -> 2 | E79: 1190.8 | F79: =E79/D79/12*1000 -> 49616.667 | H79: =E79*100/E77 -> 12.936307
C80: Основной персонал | D80: 9.6 | E80: 6097 | F80: =E80/D80/12*1000 -> 52925.347 | H80: =E80*100/E77 -> 66.235022
C81: Прочий персонал (вспомогательный) | D81: 5 | E81: 1917.3 | F81: =E81/D81/12*1000 -> 31955 | H81: =E81/E77*100 -> 20.828671
A82: Первомайский район
B83: Муниципальное автономное образовательное учреждение дополнительного образования "Первомайская детская школа искусств" | G83: =(E86+E88)/E84 -> 0.2448953
C84: ФОТ всего: | D84: =D86+D87+D88 -> 11.5 | E84: =E86+E87+E88 -> 6151.2 | F84: =E84/D84/12*1000 -> 44573.913 | H84: =E84/E84*100 -> 100
C85: в том числе по группам персонала:
C86: Административно-управленческий персонал | D86: 1 | E86: 924.8 | F86: =E86/D86/12*1000 -> 77066.667 | H86: =E86*100/E84 -> 15.034465
C87: Основной персонал | D87: 8.5 | E87: 4644.8 | F87: =E87/D87/12*1000 -> 45537.255 | H87: =E87*100/E84 -> 75.51047
C88: Прочий персонал (вспомогательный) | D88: 2 | E88: 581.6 | F88: =E88/D88/12*1000 -> 24233.333 | H88: =E88/E84*100 -> 9.4550657
A89: Томский район
B90: Муниципальное бюджетное образовательное учреждение дополнительного образования детей "Детская школа искусств п.Зональная Станция" | G90: =(E93+E95)/E91 -> 0.35067164
C91: ФОТ, всего: | D91: =D93+D94+D95 -> 12.3 | E91: =SUM(E93:E95) -> 5069.7 | F91: =E91/D91/12*1000 -> 34347.561 | H91: =E91/E91*100 -> 100
C92: в том числе по группам персонала:
C93: Административно-управленческий персонал | D93: 1 | E93: 723.1 | F93: =E93/D93/12*1000 -> 60258.333 | H93: =E93*100/E91 -> 14.263171
C94: Основной персонал | D94: 6.8 | E94: 3291.9 | F94: =E94/D94/12*1000 -> 40341.912 | H94: =E94*100/E91 -> 64.932836
C95: Прочий персонал (вспомогательный) | D95: 4.5 | E95: 1054.7 | F95: =E95/D95/12*1000 -> 19531.481 | H95: =E95/E91*100 -> 20.803992
B96: Муниципальное бюджетное образовательное учреждение дополнительного образования детей "Детская школа искусств д.Кисловка" | G96: =(E99+E101)/E97 -> 0.40525212
C97: ФОТ , всего: | D97: =D99+D100+D101 -> 9.5 | E97: =SUM(E99:E101) -> 4337.3 | F97: =E97/D97/12*1000 -> 38046.491 | H97: =E97/E97*100 -> 100
C98: в том числе по группам персонала:
C99: Административно-управленческий персонал | D99: 1 | E99: 980.3 | F99: =E99/D99/12*1000 -> 81691.667 | H99: =E99*100/E97 -> 22.601619
C100: Основной персонал | D100: 5.7 | E100: 2579.6 | F100: =E100/D100/12*1000 -> 37713.45 | H100: =E100*100/E97 -> 59.474788
C101: Прочий персонал (вспомогательный) | D101: 2.8 | E101: 777.4 | F101: =E101/D101/12*1000 -> 23136.905 | H101: =E101/E97*100 -> 17.923593
B102: Муниципальное бюджетное образовательное учреждение дополнительного образования детей "Детская школа искусств п.Молодежный" | G102: =(E105+E107)/E103 -> 0.41124891
...

Sheet приложение 3 ДПО 
G1: Приложение № 4
E2: к письму от _____________________№________________
B4: Мониторинг целевых показателей, установленных в плане мероприятий "дорожной карте" за 2022 год
B5: (данные ведомственной статистики)
A7: Наименование муниципального образования | B7: Наименование организации дополнительного образования детей | C7: Категория персонала | D7: Среднесписочная численность, чел. | E7: Среднемесячная заработная плата по категориям персонала, руб. | F7: ФОТ, тыс.руб* | G7: Отношение среднемесячной заработной платы категорий персонала к среднемесячной заработной плате основного персонала учреждений, раз
A8: 1 | B8: 2 | C8: 3 | D8: 4 | E8: 5 | G8: 6
A9: Работники учреждений дополнительного образования детей
B11: ОГАОУ ДО «Асиновская ДШИ»
C12: Административно-управленческий персонал | D12: ='приложение 2 ДПО'!D14 -> 2.3 | E12: =F12/D12/12*1000 -> 50213.768 | F12: ='приложение 2 ДПО'!E14 -> 1385.9 | G12: =E12/E13 -> 1.3125976
C13: Основной персонал | D13: ='приложение 2 ДПО'!D15 -> 19 | E13: =F13/D13/12*1000 -> 38255.263 | F13: ='приложение 2 ДПО'!E15 -> 8722.2 | G13: =E13/E13 -> 1
C14: Вспомогательный персонал | D14: ='приложение 2 ДПО'!D16 -> 6.8 | E14: =F14/D14/12*1000 -> 40306.373 | F14: ='приложение 2 ДПО'!E16 -> 3289 | G14: =E14/E13 -> 1.0536164
B15: ОГАОУ ДО «ДШИ» Верхнекетского района
C16: Административно-управленческий персонал | D16: ='приложение 2 ДПО'!D20 -> 0.5 | E16: =F16/D16/12*1000 -> 77966.667 | F16: ='приложение 2 ДПО'!E20 -> 467.8 | G16: =E16/E17 -> 1.6841272
C17: Основной персонал | D17: ='приложение 2 ДПО'!D21 -> 10 | E17: =F17/D17/12*1000 -> 46295 | F17: ='приложение 2 ДПО'!E21 -> 5555.4 | G17: =E17/E17 -> 1
C18: Вспомогательный персонал | D18: ='приложение 2 ДПО'!D22 -> 6 | E18: =F18/D18/12*1000 -> 39405.556 | F18: ='приложение 2 ДПО'!E22 -> 2837.2 | G18: =E18/E17 -> 0.85118383
B19: ОГАОУ ДО «Зырянская ДШИ»
C20: Административно-управленческий персонал | D20: ='приложение 2 ДПО'!D26 -> 0.6 | E20: =F20/D20/12*1000 -> 47222.222 | F20: ='приложение 2 ДПО'!E26 -> 340 | G20: =E20/E21 -> 1.2390761
C21: Основной персонал | D21: ='приложение 2 ДПО'!D27 -> 10 | E21: =F21/D21/12*1000 -> 38110.833 | F21: ='приложение 2 ДПО'!E27 -> 4573.3 | G21: =E21/E21 -> 1
C22: Вспомогательный персонал | D22: ='приложение 2 ДПО'!D28 -> 5 | E22: =F22/D22/12*1000 -> 28458.333 | F22: ='приложение 2 ДПО'!E28 -> 1707.5 | G22: =E22/E21 -> 0.74672556
B23: ОГАОУ ДО «Кожевниковская ДШИ»
C24: Административно-управленческий персонал | D24: ='приложение 2 ДПО'!D32 -> 2.5 | E24: =F24/D24/12*1000 -> 46983.333 | F24: ='приложение 2 ДПО'!E32 -> 1409.5 | G24: =E24/E25 -> 1.1381056
C25: Основной персонал | D25: ='приложение 2 ДПО'!D33 -> 15.6 | E25: =F25/D25/12*1000 -> 41282.051 | F25: ='приложение 2 ДПО'!E33 -> 7728 | G25: =E25/E25 -> 1
C26: Вспомогательный персонал | D26: ='приложение 2 ДПО'!D34 -> 10.6 | E26: =F26/D26/12*1000 -> 23547.17 | F26: ='приложение 2 ДПО'!E34 -> 2995.2 | G26: =E26/E25 -> 0.57039728
B27: ОГАОУ ДО «Тегульдетская ДШИ»
C28: Административно-управленческий персонал | D28: ='приложение 2 ДПО'!D38 -> 1 | E28: =F28/D28/12*1000 -> 46666.667 | F28: ='приложение 2 ДПО'!E38 -> 560 | G28: =E28/E29 -> 0.84492592
C29: Основной персонал | D29: ='приложение 2 ДПО'!D39 -> 5 | E29: =F29/D29/12*1000 -> 55231.667 | F29: ='приложение 2 ДПО'!E39 -> 3313.9 | G29: =E29/E29 -> 1
C30: Вспомогательный персонал | D30: ='приложение 2 ДПО'!D40 -> 4.9 | E30: =F30/D30/12*1000 -> 28528.912 | F30: ='приложение 2 ДПО'!E40 -> 1677.5 | G30: =E30/E29 -> 0.51653179
B31: ОГАОУ ДО «ДШИ с.Мельниково»
C32: Административно-управленческий персонал | D32: ='приложение 2 ДПО'!D44 -> 1 | E32: =F32/D32/12*1000 -> 40508.333 | F32: ='приложение 2 ДПО'!E44 -> 486.1 | G32: =E32/E33 -> 1.0282501
C33: Основной персонал | D33: ='приложение 2 ДПО'!D45 -> 9.8 | E33: =F33/D33/12*1000 -> 39395.408 | F33: ='приложение 2 ДПО'!E45 -> 4632.9 | G33: =E33/E33 -> 1
C34: Вспомогательный персонал | D34: ='приложение 2 ДПО'!D46 -> 3.9 | E34: =F34/D34/12*1000 -> 25786.325 | F34: ='приложение 2 ДПО'!E46 -> 1206.8 | G34: =E34/E33 -> 0.65455153
B35: ИТОГО ПО ОГАОУ:
C36: Административно-управленческий персонал | D36: ='приложение 2 ДПО'!D50 -> 7.9 | E36: =F36/D36/12*1000 -> 49043.249 | F36: ='приложение 2 ДПО'!E50 -> 4649.3 | G36: =E36/E37 -> 1.1829801
C37: Основной персонал | D37: ='приложение 2 ДПО'!D51 -> 69.4 | E37: =F37/D37/12*1000 -> 41457.373 | F37: ='приложение 2 ДПО'!E51 -> 34525.7 | G37: =E37/E37 -> 1
C38: Вспомогательный персонал | D38: ='приложение 2 ДПО'!D52 -> 37.2 | E38: =F38/D38/12*1000 -> 30719.534 | F38: ='приложение 2 ДПО'!E52 -> 13713.2 | G38: =E38/E37 -> 0.74099085
A39: Муниципальное образование
A40: Александровский район
B41: МБОУ ДОД "ДШИ"
C42: Административно-управленческий персонал | D42: ='приложение 2 ДПО'!D58 -> 1 | E42: =F42/D42/12*1000 -> 67850 | F42: ='приложение 2 ДПО'!E58 -> 814.2 | G42: =E42/E43 -> 1.1105504
C43: Основной персонал | D43: ='приложение 2 ДПО'!D59 -> 8 | E43: =F43/D43/12*1000 -> 61095.833 | F43: ='приложение 2 ДПО'!E59 -> 5865.2 | G43: =E43/E43 -> 1
C44: Вспомогательный персонал | D44: ='приложение 2 ДПО'!D60 -> 0 | E44: =F44/D44/12*1000 -> #DIV/0! | F44: ='приложение 2 ДПО'!E60 -> 0 | G44: =E44/E43 -> #DIV/0!
A45: Каргасокский район
B46: Муниципальное бюджетное учреждение дополнительного образования "Каргасокская детская школа искусств"
C47: Административно-управленческий персонал | D47: ='приложение 2 ДПО'!D65 -> 2 | E47: =F47/D47/12*1000 -> 76212.5 | F47: ='приложение 2 ДПО'!E65 -> 1829.1 | G47: =E47/E48 -> 1.479838
C48: Основной персонал | D48: ='приложение 2 ДПО'!D66 -> 14.6 | E48: =F48/D48/12*1000 -> 51500.571 | F48: ='приложение 2 ДПО'!E66 -> 9022.9 | G48: =E48/E48 -> 1
C49: Вспомогательный персонал | D49: ='приложение 2 ДПО'!D67 -> 4.6 | E49: =F49/D49/12*1000 -> 30213.768 | F49: ='приложение 2 ДПО'!E67 -> 1667.8 | G49: =E49/E48 -> 0.58666861
A50: Молчановский район
B51: МБОУ ДОД "Молчановская ДМШ"
C52: Административно-управленческий персонал | D52: ='приложение 2 ДПО'!D72 -> 1 | E52: =F52/D52/12*1000 -> 80316.667 | F52: ='приложение 2 ДПО'!E72 -> 963.8 | G52: =E52/E53 -> 1.6012291
C53: Основной персонал | D53: ='приложение 2 ДПО'!D73 -> 10.3 | E53: =F53/D53/12*1000 -> 50159.385 | F53: ='приложение 2 ДПО'!E73 -> 6199.7 | G53: =E53/E53 -> 1
C54: Вспомогательный персонал | D54: ='приложение 2 ДПО'!D74 -> 3.4 | E54: =F54/D54/12*1000 -> 27617.647 | F54: ='приложение 2 ДПО'!E74 -> 1126.8 | G54: =E54/E53 -> 0.5505978
A55: Парабельский район
B56: МБОУ ДШИ им.Г.Д.Заволокина
C57: Административно-управленческий персонал | D57: ='приложение 2 ДПО'!D79 -> 2 | E57: =F57/D57/12*1000 -> 49616.667 | F57: ='приложение 2 ДПО'!E79 -> 1190.8 | G57: =E57/E58 -> 0.93748401
C58: Основной персонал | D58: ='приложение 2 ДПО'!D80 -> 9.6 | E58: =F58/D58/12*1000 -> 52925.347 | F58: ='приложение 2 ДПО'!E80 -> 6097 | G58: =E58/E58 -> 1
C59: Вспомогательный персонал | D59: ='приложение 2 ДПО'!D81 -> 5 | E59: =F59/D59/12*1000 -> 31955 | F59: ='приложение 2 ДПО'!E81 -> 1917.3 | G59: =E59/E58 -> 0.60377497
A60: Первомайский район
B61: Муниципальное автономное образовательное учреждение дополнительного образования "Первомайская детская школа искусств"
C62: Административно-управленческий персонал | D62: ='приложение 2 ДПО'!D86 -> 1 | E62: =F62/D62/12*1000 -> 77066.667 | F62: ='приложение 2 ДПО'!E86 -> 924.8 | G62: =E62/E63 -> 1.6923872
C63: Основной персонал | D63: ='приложение 2 ДПО'!D87 -> 8.5 | E63: =F63/D63/12*1000 -> 45537.255 | F63: ='приложение 2 ДПО'!E87 -> 4644.8 | G63: =E63/E63 -> 1
C64: Вспомогательный персонал | D64: ='приложение 2 ДПО'!D88 -> 2 | E64: =F64/D64/12*1000 -> 24233.333 | F64: ='приложение 2 ДПО'!E88 -> 581.6 | G64: =E64/E63 -> 0.532165
A65: Томский район
B66: Муниципальное бюджетное образовательное учреждение дополнительного образования детей "Детская школа искусств п.Зональная Станция"
C67: Административно-управленческий персонал | D67: ='приложение 2 ДПО'!D93 -> 1 | E67: =F67/D67/12*1000 -> 60258.333 | F67: ='приложение 2 ДПО'!E93 -> 723.1 | G67: =E67/E68 -> 1.4936906
C68: Основной персонал | D68: ='приложение 2 ДПО'!D94 -> 6.8 | E68: =F68/D68/12*1000 -> 40341.912 | F68: ='приложение 2 ДПО'!E94 -> 3291.9 | G68: =E68/E68 -> 1
C69: Вспомогательный персонал | D69: ='приложение 2 ДПО'!D95 -> 4.5 | E69: =F69/D69/12*1000 -> 19531.481 | F69: ='приложение 2 ДПО'!E95 -> 1054.7 | G69: =E69/E68 -> 0.48414863
B70: Муниципальное бюджетное образовательное учреждение дополнительного образования детей "Детская школа искусств д.Кисловка"
C71: Административно-управленческий персонал | D71: ='приложение 2 ДПО'!D99 -> 1 | E71: =F71/D71/12*1000 -> 81691.667 | F71: ='приложение 2 ДПО'!E99 -> 980.3 | G71: =E71/E72 -> 2.1661149
C72: Основной персонал | D72: ='приложение 2 ДПО'!D100 -> 5.7 | E72: =F72/D72/12*1000 -> 37713.45 | F72: ='приложение 2 ДПО'!E100 -> 2579.6 | G72: =E72/E72 -> 1
C73: Вспомогательный персонал | D73: ='приложение 2 ДПО'!D101 -> 2.8 | E73: =F73/D73/12*1000 -> 23136.905 | F73: ='приложение 2 ДПО'!E101 -> 777.4 | G73: =E73/E72 -> 0.61349213
B74: Муниципальное бюджетное образовательное учреждение дополнительного образования детей "Детская школа искусств п.Молодежный"
C75: Административно-управленческий персонал | D75: ='приложение 2 ДПО'!D105 -> 2 | E75: =F75/D75/12*1000 -> 62054.167 | F75: ='приложение 2 ДПО'!E105 -> 1489.3 | G75: =E75/E76 -> 1.6575236
C76: Основной персонал | D76: ='приложение 2 ДПО'!D106 -> 11 | E76: =F76/D76/12*1000 -> 37437.879 | F76: ='приложение 2 ДПО'!E106 -> 4941.8 | G76: =E76/E76 -> 1
C77: Вспомогательный персонал | D77: ='приложение 2 ДПО'!D107 -> 7.3 | E77: =F77/D77/12*1000 -> 22404.11 | F77: ='приложение 2 ДПО'!E107 -> 1962.6 | G77: =E77/E76 -> 0.59843427
B78: Муниципальное бюджетное образовательное учреждение дополнительного образования детей "Детская школа искусств п.Мирный"
C79: Административно-управленческий персонал | D79: ='приложение 2 ДПО'!D111 -> 0.8 | E79: =F79/D79/12*1000 -> 67625 | F79: ='приложение 2 ДПО'!E111 -> 649.2 | G79: =E79/E80 -> 1.6910414
C80: Основной персонал | D80: ='приложение 2 ДПО'!D112 -> 11 | E80: =F80/D80/12*1000 -> 39990.152 | F80: ='приложение 2 ДПО'!E112 -> 5278.7 | G80: =E80/E80 -> 1
C81: Вспомогательный персонал | D81: ='приложение 2 ДПО'!D113 -> 1.4 | E81: =F81/D81/12*1000 -> 26785.714 | F81: ='приложение 2 ДПО'!E113 -> 450 | G81: =E81/E80 -> 0.66980777
B82: Всего по муниципальному образованию "Томский район"
C83: Административно-управленческий персонал | D83: ='приложение 2 ДПО'!D116 -> 4.8 | E83: =F83/D83/12*1000 -> 66699.653 | F83: ='приложение 2 ДПО'!E116 -> 3841.9 | G83: =E83/E84 -> 1.7159866 | H83: =D67+D71+D75+D79 -> 4.8 | I83: =J83/H83/12*1000 -> 66699.653 | J83: =F67+F71+F75+F79 -> 3841.9
C84: Основной персонал | D84: ='приложение 2 ДПО'!D117 -> 34.5 | E84: =F84/D84/12*1000 -> 38869.565 | F84: ='приложение 2 ДПО'!E117 -> 16092 | G84: =E84/E84 -> 1 | H84: =D68+D72+D76+D80 -> 34.5 | I84: =J84/H84/12*1000 -> 38869.565 | J84: =F68+F72+F76+F80 -> 16092
C85: Вспомогательный персонал | D85: ='приложение 2 ДПО'!D118 -> 16 | E85: =F85/D85/12*1000 -> 22107.812 | F85: ='приложение 2 ДПО'!E118 -> 4244.7 | G85: =E85/E84 -> 0.56876923 | H85: =D69+D73+D77+D81 -> 16 | I85: =J85/H85/12*1000 -> 22107.812 | J85: =F69+F73+F77+F81 -> 4244.7
A86: Чаинский район
B87: МБОУ ДОД "Подгорнская ДМШ"
C88: Административно-управленческий персонал | D88: ='приложение 2 ДПО'!D123 -> 1 | E88: =F88/D88/12*1000 -> 71833.333 | F88: ='приложение 2 ДПО'!E123 -> 862 | G88: =E88/E89 -> 1.2585066
C89: Основной персонал | D89: ='приложение 2 ДПО'!D124 -> 4.9 | E89: =F89/D89/12*1000 -> 57078.231 | F89: ='приложение 2 ДПО'!E124 -> 3356.2 | G89: =E89/E89 -> 1
C90: Вспомогательный персонал | D90: ='приложение 2 ДПО'!D125 -> 0.8 | E90: =F90/D90/12*1000 -> 29833.333 | F90: ='приложение 2 ДПО'!E125 -> 286.4 | G90: =E90/E89 -> 0.52267445
B91: МБОУ ДОД "Подгорнская ДХШ"
C92: Административно-управленческий персонал | D92: ='приложение 2 ДПО'!D129 -> 1 | E92: =F92/D92/12*1000 -> 75066.667 | F92: ='приложение 2 ДПО'!E129 -> 900.8 | G92: =E92/E93 -> 1.4439284
C93: Основной персонал | D93: ='приложение 2 ДПО'!D130 -> 4.1 | E93: =F93/D93/12*1000 -> 51987.805 | F93: ='приложение 2 ДПО'!E130 -> 2557.8 | G93: =E93/E93 -> 1
C94: Вспомогательный персонал | D94: ='приложение 2 ДПО'!D131 -> 1 | E94: =F94/D94/12*1000 -> 29558.333 | F94: ='приложение 2 ДПО'!E131 -> 354.7 | G94: =E94/E93 -> 0.56856283
B95: Всего по муниципальному образованию "Чаинский район"
C96: Административно-управленческий персонал | D96: ='приложение 2 ДПО'!D135 -> 2 | E96: =F96/D96/12*1000 -> 73450 | F96: ='приложение 2 ДПО'!E135 -> 1762.8 | G96: =E96/E97 -> 1.3413257 | H96: =D88+D92 -> 2 | I96: =J96/H96/12*1000 -> 73450 | J96: =F88+F92 -> 1762.8
C97: Основной персонал | D97: ='приложение 2 ДПО'!D136 -> 9 | E97: =F97/D97/12*1000 -> 54759.259 | F97: ='приложение 2 ДПО'!E136 -> 5914 | G97: =E97/E97 -> 1 | H97: =D89+D93 -> 9 | I97: =J97/H97/12*1000 -> 54759.259 | J97: =F89+F93 -> 5914
C98: Вспомогательный персонал | D98: ='приложение 2 ДПО'!D137 -> 1.8 | E98: =F98/D98/12*1000 -> 29680.556 | F98: ='приложение 2 ДПО'!E137 -> 641.1 | G98: =E98/E97 -> 0.54201894 | H98: =D90+D94 -> 1.8 | I98: =J98/H98/12*1000 -> 29680.556 | J98: =F90+F94 -> 641.1
A99: г.Томск
B100: МБОУДОД "ДШИ № 1"
C101: Административно-управленческий персонал | D101: ='приложение 2 ДПО'!D142 -> 2 | E101: =F101/D101/12*1000 -> 115375 | F101: ='приложение 2 ДПО'!E142 -> 2769 | G101: =E101/E102 -> 3.2414491
C102: Основной персонал | D102: ='приложение 2 ДПО'!D143 -> 41.2 | E102: =F102/D102/12*1000 -> 35593.649 | F102: ='приложение 2 ДПО'!E143 -> 17597.5 | G102: =E102/E102 -> 1
C103: Вспомогательный персонал | D103: ='приложение 2 ДПО'!D144 -> 9.8 | E103: =F103/D103/12*1000 -> 47954.082 | F103: ='приложение 2 ДПО'!E144 -> 5639.4 | G103: =E103/E102 -> 1.3472651
...

Sheet приложение 1 культура
H1: Приложение № 1
F2: к письму от _____________________№________________
A4: Мониторинг целевых показателей, установленных в плане мероприятий "дорожной карте" за 2022 год
A5: (данные ведомственной статистики)
A7: Наименование ОГУ/МУ | B7: Планируемая среднесписочная численность отдельной категории работников государственных и муниципальных учреждений, чел. | C7: Фактическая среднесписочная численность отдельной категории работников государственных и муниципальных учреждений на отчетный период, чел. | D7: Отношение средней заработной платы работников соответствующей категории к среднемесячному доходу от трудовой деятельности по Томской области, %* | E7: Средняя заработная плата отдельной категории работников списочного состава, руб. | G7: Плановое значение средней заработной платы отдельной категории работников на год, руб. | H7: Отклонение факта за отчетный период от планового значения на год, руб.
E8: план на отчетный период** | F8: факт за отчетный период
A9: 1 | B9: 2 | C9: 3 | D9: 4 | E9: 5 | F9: 6 | G9: 7 | H9: 8=6-7
A10: Работники учреждений культуры
A11: ОГАУК "ТОУНБ им.А.С.Пушкина" | B11: ='[10]Ф2 2022 15.06'!$OE$16 -> 138.1 | C11: ='[11]УК расш(к)'!$F$9 -> 137.5 | D11: =F11/45193*100 -> 84.125659 | E11: =G11 -> 38018.941 | F11: ='[11]УК расш(к)'!$Q$9 -> 38018.909 | G11: ='[10]Ф2 2022 15.06'!$OF$16 -> 38018.941 | H11: =F11-G11 -> -0.031601214
A12: ='[12]Sheet1 (2)'!$P$26 -> ОГАУК "ТОДЮБ" | B12: ='[10]Ф2 2022 15.06'!$OE$17 -> 49.5 | C12: ='[11]УК расш(к)'!$F$10 -> 49.3 | D12: =F12/45193*100 -> 87.849128 | E12: =G12 -> 39659.056 | F12: ='[11]УК расш(к)'!$Q$10 -> 39701.657 | G12: ='[10]Ф2 2022 15.06'!$OF$17 -> 39659.056 | H12: =F12-G12 -> 42.600612
A13: ОГАУК "Дом искусств" | B13: ='[10]Ф2 2022 15.06'!$OE$29 -> 12.9 | C13: ='[11]УК расш(к)'!$F$14 -> 11 | D13: =F13/45193*100 -> 71.694195 | E13: =G13 -> 30602.113 | F13: ='[11]УК расш(к)'!$Q$14 -> 32400.758 | G13: ='[10]Ф2 2022 15.06'!$OF$29 -> 30602.113 | H13: =F13-G13 -> 1798.6442
A14: ОГАУК "ТОХМ" | B14: ='[10]Ф2 2022 15.06'!$OE$20 -> 69.1 | C14: ='[11]УК расш(к)'!$F$16 -> 68.7 | D14: =F14/45193*100 -> 80.768746 | E14: =G14 -> 36493.462 | F14: ='[11]УК расш(к)'!$Q$16 -> 36501.82 | G14: ='[10]Ф2 2022 15.06'!$OF$20 -> 36493.462 | H14: =F14-G14 -> 8.3579264
A15: ОГАУК "Томский областной краеведческий музей им.М.Б. Шатилова" | B15: ='[10]Ф2 2022 15.06'!$OE$19 -> 160.3 | C15: ='[11]УК расш(к)'!$F$15 -> 160.3 | D15: =F15/45193*100 -> 72.671155 | E15: =G15 -> 32153.934 | F15: ='[11]УК расш(к)'!$Q$15 -> 32842.275 | G15: ='[10]Ф2 2022 15.06'!$OF$19 -> 32153.934 | H15: =F15-G15 -> 688.34118
A16: ОГАУК "ДНТ "Авангард" | B16: ='[10]Ф2 2022 15.06'!$OE$26 -> 88.5 | C16: ='[11]УК расш(к)'!$F$11 -> 88.5 | D16: =F16/45193*100 -> 89.001417 | E16: =G16 -> 40209.791 | F16: ='[11]УК расш(к)'!$Q$11 -> 40222.411 | G16: ='[10]Ф2 2022 15.06'!$OF$26 -> 40209.791 | H16: =F16-G16 -> 12.619872
A17: ОГАУК "ЦТК" | B17: ='[10]Ф2 2022 15.06'!$OE$28 -> 9.8 | C17: ='[11]УК расш(к)'!$F$13 -> 9.8 | D17: =F17/45193*100 -> 82.800584 | E17: =G17 -> 36937.406 | F17: ='[11]УК расш(к)'!$Q$13 -> 37420.068 | G17: ='[10]Ф2 2022 15.06'!$OF$28 -> 36937.406 | H17: =F17-G17 -> 482.66247
A18: ОГАУК "РНД" | B18: ='[10]Ф2 2022 15.06'!$OE$27 -> 13.8 | C18: ='[11]УК расш(к)'!$F$12 -> 13.8 | D18: =F18/45193*100 -> 81.875095 | E18: =G18 -> 36643.872 | F18: ='[11]УК расш(к)'!$Q$12 -> 37001.812 | G18: ='[10]Ф2 2022 15.06'!$OF$27 -> 36643.872 | H18: =F18-G18 -> 357.93957
A19: ОГАУК "ТОТК Скоморох" | B19: ='[10]Ф2 2022 15.06'!$OE$24 -> 64.8 | C19: ='[11]УК расш(к)'!$F$19 -> 64.8 | D19: =F19/45193*100 -> 88.507575 | E19: =G19 -> 39419.024 | F19: ='[11]УК расш(к)'!$Q$19 -> 39999.228 | G19: ='[10]Ф2 2022 15.06'!$OF$24 -> 39419.024 | H19: =F19-G19 -> 580.20464
A20: ='[12]Sheet1 (2)'!$P$45 -> ОГАУК "Театр драмы" | B20: ='[10]Ф2 2022 15.06'!$OE$22 -> 139.2 | C20: ='[11]УК расш(к)'!$F$17 -> 138.6 | D20: =F20/45193*100 -> 100.20861 | E20: =G20 -> 45287.315 | F20: ='[11]УК расш(к)'!$Q$17 -> 45287.278 | G20: ='[10]Ф2 2022 15.06'!$OF$22 -> 45287.315 | H20: =F20-G20 -> -0.037932012
A21: ОГАУК ТО ТЮЗ | B21: ='[10]Ф2 2022 15.06'!$OE$23 -> 106.6 | C21: ='[11]УК расш(к)'!$F$18 -> 104.8 | D21: =F21/45193*100 -> 82.155068 | E21: =G21 -> 36636.43 | F21: ='[11]УК расш(к)'!$Q$18 -> 37128.34 | G21: ='[10]Ф2 2022 15.06'!$OF$23 -> 36636.43 | H21: =F21-G21 -> 491.90938
A22: ОГАУК "ТОГФ" | B22: ='[10]Ф2 2022 15.06'!$OE$31 -> 169.6 | C22: ='[11]УК расш(к)'!$F$20 -> 172.7 | D22: =F22/45193*100 -> 150.56027 | E22: =G22 -> 68042.747 | F22: ='[11]УК расш(к)'!$Q$20 -> 68042.704 | G22: ='[10]Ф2 2022 15.06'!$OF$31 -> 68042.747 | H22: =F22-G22 -> -0.042549139
A23: ОГКУ "ГАТО" | B23: ='[10]Ф2 2022 15.06'!$OE$33 -> 69.5 | C23: ='[11]УК расш(к)'!$F$21 -> 69.6 | D23: =F23/45193*100 -> 91.199426 | E23: =G23 -> 41215.806 | F23: ='[11]УК расш(к)'!$Q$21 -> 41215.757 | G23: ='[10]Ф2 2022 15.06'!$OF$33 -> 41215.806 | H23: =F23-G23 -> -0.048899384
A24: ='[12]Sheet1 (2)'!$P$314 -> ОГКУ ЦДНИ ТО | B24: ='[10]Ф2 2022 15.06'!$OE$34 -> 39.4 | C24: ='[11]УК расш(к)'!$F$22 -> 38.9 | D24: =F24/45193*100 -> 96.990948 | E24: =G24 -> 43833.012 | F24: ='[11]УК расш(к)'!$Q$22 -> 43833.119 | G24: ='[10]Ф2 2022 15.06'!$OF$34 -> 43833.012 | H24: =F24-G24 -> 0.10677066
A25: ОГАУК "ЦОП" | B25: ='[10]Ф2 2022 15.06'!$OE$213 -> 13.6 | C25: ='[11]УК расш(к)'!$F$182 -> 13.1 | D25: =F25/45193*100 -> 106.95012 | E25: =G25 -> 41919.859 | F25: ='[11]УК расш(к)'!$Q$182 -> 48333.969 | G25: ='[10]Ф2 2022 15.06'!$OF$213 -> 41919.859 | H25: =F25-G25 -> 6414.1101
A26: ИТОГО ОГУ: | B26: =B11+B12+B13+B14+B15+B16+B17+B18+B19+B20+B21+B22+B23+B24 -> 1131.1 | C26: =C11+C12+C13+C14+C15+C16+C17+C18+C19+C20+C21+C22+C23+C24 -> 1128.3 | D26: =F26/45193*100 -> 95.771572 | E26: =(E11*B11+E12*B12+E13*B13+E14*B14+E15*B15+E16*B16+E17*B17+E18*B18+E19*B19+E20*B20+E21*B21+E22*B22+E23*B23+E24*B24)/B26 -> 42972.22 | F26: =(F11*C11+F12*C12+F13*C13+F14*C14+F15*C15+F16*C16+F17*C17+F18*C18+F19*C19+F20*C20+F21*C21+F22*C22+F23*C23+F24*C24)/C26 -> 43282.047 | G26: =(G11*B11+G12*B12+G13*B13+G14*B14+G15*B15+G16*B16+G17*B17+G18*B18+G19*B19+G20*B20+G21*B21+G22*B22+G23*B23+G24*B24)/B26 -> 42972.22 | H26: =F26-G26 -> 309.82675
A27: ИТОГО ОГУ+ЦОП: | B27: =B26+B25 -> 1144.7 | C27: =C26+C25 -> 1141.4 | D27: =F27/45193*100 -> 95.89987 | E27: =(E26*B26+E25*B25)/B27 -> 42959.717 | F27: =(F26*C26+F25*C25)/C27 -> 43340.028 | G27: =(G25*B25+G26*B26)/B27 -> 42959.717 | H27: =F27-G27 -> 380.31127
A28: Александровский район
A29: Муниципальное бюджетное учреждение "Центр досуга и народного творчества" Александровского района | B29: ='[10]Ф2 2022 15.06'!$OE$46 -> 57.6 | C29: ='[11]УК расш(к)'!$F$27 -> 48.6 | D29: =F29/45193*100 -> 115.09963 | E29: =G29 -> 51041.883 | F29: ='[11]УК расш(к)'!$Q$27 -> 52016.975 | G29: ='[10]Ф2 2022 15.06'!$OF$46 -> 51041.883 | H29: =F29-G29 -> 975.09196
A30: Муниципальное бюджетное учреждение "Централизованная библиотечная система" Александровского района | B30: ='[10]Ф2 2022 15.06'!$OE$48 -> 9.5 | C30: ='[11]УК расш(к)'!$F$28 -> 16.3 | D30: =F30/45193*100 -> 105.54822 | E30: =G30 -> 51293.784 | F30: ='[11]УК расш(к)'!$Q$28 -> 47700.409 | G30: ='[10]Ф2 2022 15.06'!$OF$48 -> 51293.784 | H30: =F30-G30 -> -3593.3752
A31: Муниципальное бюджетное учреждение "Музей истории и культуры" Александровского района | B31: ='[10]Ф2 2022 15.06'!$OE$47 -> 2 | C31: ='[11]УК расш(к)'!$F$29 -> 3.5 | D31: =F31/45193*100 -> 141.59378 | E31: =G31 -> 69159.146 | F31: ='[11]УК расш(к)'!$Q$29 -> 63990.476 | G31: ='[10]Ф2 2022 15.06'!$OF$47 -> 69159.146 | H31: =F31-G31 -> -5168.67
A32: Всего по муниципальному образованию "Александровский район" | B32: =B29+B30+B31 -> 69.1 | C32: =C29+C30+C31 -> 68.4 | D32: =F32/45193*100 -> 114.17918 | E32: =(E29*B29+E30*B30+E31*B31)/B32 -> 51600.893 | F32: =(F29*C29+F30*C30+F31*C31)/C32 -> 51600.999 | G32: =(G29*B29+G30*B30+G31*B31)/B32 -> 51600.893 | H32: =F32-G32 -> 0.1057838
A33: Бакчарский район
A34: Муниципальное бюджетное учреждение культуры "Бакчарский краеведческий музей северного садоводства" | B34: ='[10]Ф2 2022 15.06'!$OE$60 -> 3.8 | C34: ='[11]УК расш(к)'!$F$35 -> 4 | D34: =F34/45193*100 -> 81.299464 | E34: =G34 -> 36323.631 | F34: ='[11]УК расш(к)'!$Q$35 -> 36741.667 | G34: ='[10]Ф2 2022 15.06'!$OF$60 -> 36323.631 | H34: =F34-G34 -> 418.03568
A35: Муниципальное бюджетное учреждение культуры "Бакчарская межпоселенческая централизованная библиотечная система" | B35: ='[10]Ф2 2022 15.06'!$OE$53 -> 17.7 | C35: ='[11]УК расш(к)'!$F$36 -> 18.1 | D35: =F35/45193*100 -> 104.09621 | E35: =G35 -> 47145.034 | F35: ='[11]УК расш(к)'!$Q$36 -> 47044.199 | G35: ='[10]Ф2 2022 15.06'!$OF$53 -> 47145.034 | H35: =F35-G35 -> -100.83547
A36: Муниципальное бюджетное учреждение культуры "Бакчарская межпоселенческая централизованная клубная система" | B36: ='[10]Ф2 2022 15.06'!$OE$62 -> 36.4 | C36: ='[11]УК расш(к)'!$F$37 -> 36.7 | D36: =F36/45193*100 -> 90.330114 | E36: =G36 -> 40822.902 | F36: ='[11]УК расш(к)'!$Q$37 -> 40822.888 | G36: ='[10]Ф2 2022 15.06'!$OF$62 -> 40822.902 | H36: =F36-G36 -> -0.013683446
A37: Всего по муниципальному образованию "Бакчарский район" | B37: =B35+B34+B36 -> 57.9 | C37: =C35+C34+C36 -> 58.8 | D37: =F37/45193*100 -> 93.953306 | E37: =(E34*B34+E35*B35+E36*B36)/B37 -> 42460.286 | F37: =(F34*C34+F35*C35+F36*C36)/C37 -> 42460.317 | G37: =(G34*B34+G35*B35+G36*B36)/B37 -> 42460.286 | H37: =F37-G37 -> 0.031836234
A38: Верхнекетский район
A39: Муниципальное автономное учреждение "Культура" | B39: ='[10]Ф2 2022 15.06'!$OE$70 -> 64.9 | C39: ='[11]УК расш(к)'!$F$41 -> 64.9 | D39: =F39/45193*100 -> 110.01097 | E39: =G39 -> 49717.265 | F39: ='[11]УК расш(к)'!$Q$41 -> 49717.257 | G39: ='[10]Ф2 2022 15.06'!$OF$70 -> 49717.265 | H39: =F39-G39 -> -0.0074950868
A40: Муниципальное автономное учреждение "Верхнекетская централизованная библиотечная система" | B40: ='[10]Ф2 2022 15.06'!$OE$71 -> 28 | C40: ='[11]УК расш(к)'!$F$42 -> 28 | D40: =F40/45193*100 -> 101.14688 | E40: =G40 -> 45711.199 | F40: ='[11]УК расш(к)'!$Q$42 -> 45711.31 | G40: ='[10]Ф2 2022 15.06'!$OF$71 -> 45711.199 | H40: =F40-G40 -> 0.11063565
A41: Всего по муниципальному образованию "Верхнекетский район" | B41: =B39+B40 -> 92.9 | C41: =C40+C39 -> 92.9 | D41: =F41/45193*100 -> 107.33934 | E41: =(E39*B39+E40*B40)/B41 -> 48509.839 | F41: =(F39*C39+F40*C40)/C41 -> 48509.867 | G41: =(G39*B39+G40*B40)/B41 -> 48509.839 | H41: =F41-G41 -> 0.028109442
A42: Зырянский район
A43: Муниципальное автономное учреждение «Центр культуры" Зырянского района | B43: ='[10]Ф2 2022 15.06'!$OE$78 -> 53.1 | C43: ='[11]УК расш(к)'!$F$45 -> 52.7 | D43: =F43/45193*100 -> 70.403298 | E43: =G43 -> 31614.158 | F43: ='[11]УК расш(к)'!$Q$45 -> 31817.362 | G43: ='[10]Ф2 2022 15.06'!$OF$78 -> 31614.158 | H43: =F43-G43 -> 203.20467
A44: Муниципальное бюджетное учреждение «Межпоселенческая централизованная библиотечная система Зырянского района» | B44: ='[10]Ф2 2022 15.06'!$OE$73 -> 18.6 | C44: ='[11]УК расш(к)'!$F$46 -> 18.8 | D44: =F44/45193*100 -> 69.718715 | E44: =G44 -> 32273.496 | F44: ='[11]УК расш(к)'!$Q$46 -> 31507.979 | G44: ='[10]Ф2 2022 15.06'!$OF$73 -> 32273.496 | H44: =F44-G44 -> -765.51766
A45: Муниципальное бюджетное учреждение культуры «Зырянский краеведческий музей» | B45: ='[10]Ф2 2022 15.06'!$OE$74 -> 4 | C45: ='[11]УК расш(к)'!$F$47 -> 4.2 | D45: =F45/45193*100 -> 73.727003 | E45: =G45 -> 32517.79 | F45: ='[11]УК расш(к)'!$Q$47 -> 33319.444 | G45: ='[10]Ф2 2022 15.06'!$OF$74 -> 32517.79 | H45: =F45-G45 -> 801.65451
A46: Всего по муниципальному образованию "Зырянский район" | B46: =B43+B44+B45 -> 75.7 | C46: =C43+C44+C45 -> 75.7 | D46: =F46/45193*100 -> 70.417689 | E46: =(B43*E43+E44*B44+E45*B45)/B46 -> 31823.91 | F46: =(C43*F43+F44*C44+F45*C45)/C46 -> 31823.866 | G46: =(B43*G43+G44*B44+G45*B45)/B46 -> 31823.91 | H46: =F46-G46 -> -0.043627627
A47: Каргасокский район
A48: Муниципальное бюджетное учреждение культуры "Каргасокская центральная районная библиотека" | B48: ='[10]Ф2 2022 15.06'!$OE$99 -> 40.7 | C48: ='[11]УК расш(к)'!$F$54 -> 40.8 | D48: =F48/45193*100 -> 115.29934 | E48: =G48 -> 52107.288 | F48: ='[11]УК расш(к)'!$Q$54 -> 52107.23 | G48: ='[10]Ф2 2022 15.06'!$OF$99 -> 52107.288 | H48: =F48-G48 -> -0.05714255
A49: Муниципальное бюджетное учреждение культуры "Каргасокский районный дом культуры" | B49: ='[10]Ф2 2022 15.06'!$OE$84 -> 58.3 | C49: ='[11]УК расш(к)'!$F$55 -> 58.3 | D49: =F49/45193*100 -> 110.77419 | E49: =G49 -> 49980.83 | F49: ='[11]УК расш(к)'!$Q$55 -> 50062.178 | G49: ='[10]Ф2 2022 15.06'!$OF$84 -> 49980.83 | H49: =F49-G49 -> 81.347999
A50: Муниципальное казенное учреждение культуры "Вертикосский досуговый центр" | B50: ='[10]Ф2 2022 15.06'!$OE$91 -> 4.5 | C50: ='[11]УК расш(к)'!$F$59 -> 4.5 | D50: =F50/45193*100 -> 83.739616 | E50: =G50 -> 37338.4 | F50: ='[11]УК расш(к)'!$Q$59 -> 37844.444 | G50: ='[10]Ф2 2022 15.06'!$OF$91 -> 37338.4 | H50: =F50-G50 -> 506.04483
A51: Муниципальное казенное учреждение культуры "Тымский досуговый центр" | B51: ='[10]Ф2 2022 15.06'!$OE$86 -> 2 | C51: ='[11]УК расш(к)'!$F$61 -> 2 | D51: =F51/45193*100 -> 87.992978 | E51: =G51 -> 39766.603 | F51: ='[11]УК расш(к)'!$Q$61 -> 39766.667 | G51: ='[10]Ф2 2022 15.06'!$OF$86 -> 39766.603 | H51: =F51-G51 -> 0.064004096
A52: Муниципальное казенное учреждение культуры "Культурно-досуговый центр Средневасюганского сельского поселения" | B52: ='[10]Ф2 2022 15.06'!$OE$90 -> 7.2 | C52: ='[11]УК расш(к)'!$F$62 -> 7 | D52: =F52/45193*100 -> 119.15035 | E52: =G52 -> 53847.222 | F52: ='[11]УК расш(к)'!$Q$62 -> 53847.619 | G52: ='[10]Ф2 2022 15.06'!$OF$90 -> 53847.222 | H52: =F52-G52 -> 0.3968254
A53: Муниципальное казенное учреждение культуры "Нововасюганский центр культуры" | B53: ='[10]Ф2 2022 15.06'!$OE$93 -> 4.2 | C53: ='[11]УК расш(к)'!$F$63 -> 4.5 | D53: =F53/45193*100 -> 93.028993 | E53: =G53 -> 42042.16 | F53: ='[11]УК расш(к)'!$Q$63 -> 42042.593 | G53: ='[10]Ф2 2022 15.06'!$OF$93 -> 42042.16 | H53: =F53-G53 -> 0.43218004
A54: Муниципальное казенное учреждение культуры "Усть -Тымский досуговый центр" | B54: ='[10]Ф2 2022 15.06'!$OE$87 -> 3.2 | C54: ='[11]УК расш(к)'!$F$65 -> 2.8 | D54: =F54/45193*100 -> 91.018363 | E54: =G54 -> 40424.867 | F54: ='[11]УК расш(к)'!$Q$65 -> 41133.929 | G54: ='[10]Ф2 2022 15.06'!$OF$87 -> 40424.867 | H54: =F54-G54 -> 709.06138
A55: Муниципальное казенное учреждение культуры "Среднетымский центр культуры" | B55: ='[10]Ф2 2022 15.06'!$OE$89 -> 6 | C55: ='[11]УК расш(к)'!$F$68 -> 6 | D55: =F55/45193*100 -> 111.46945 | E55: =G55 -> 50375.751 | F55: ='[11]УК расш(к)'!$Q$68 -> 50376.389 | G55: ='[10]Ф2 2022 15.06'!$OF$89 -> 50375.751 | H55: =F55-G55 -> 0.63790749
A56: Всего по муниципальному образованию "Каргасокский район" | B56: =B48+B49+B50+B51+B52+B53+B54+B55 -> 126.1 | C56: =C48+C49+C50+C51+C52+C53+C54+C55 -> 125.9 | D56: =F56/45193*100 -> 110.33768 | E56: =(E48*B48+E49*B49+E50*B50+E51*B51+E52*B52+E53*B53+E54*B54+E55*B55)/B56 -> 49786.647 | F56: =(F48*C48+F49*C49+F50*C50+F51*C51+F52*C52+F53*C53+F54*C54+F55*C55)/C56 -> 49864.906 | G56: =E56 -> 49786.647 | H56: =F56-G56 -> 78.259122
A57: Кожевниковский район
A58: Муниципальное казенное учреждение культуры «Кожевниковская межмуниципальная централизованная клубная система» | B58: ='[10]Ф2 2022 15.06'!$OE$103 -> 43.2 | C58: ='[11]УК расш(к)'!$F$70 -> 42.9 | D58: =F58/45193*100 -> 79.062189 | E58: =G58 -> 35590.791 | F58: ='[11]УК расш(к)'!$Q$70 -> 35730.575 | G58: ='[10]Ф2 2022 15.06'!$OF$103 -> 35590.791 | H58: =F58-G58 -> 139.78428
A59: Муниципальное казенное учреждение «Межпоселенческая централизованная библиотечная система Кожевниковского района» | B59: ='[10]Ф2 2022 15.06'!$OE$102 -> 22.7 | C59: ='[11]УК расш(к)'!$F$71 -> 23.3 | D59: =F59/45193*100 -> 85.134787 | E59: =G59 -> 38793.953 | F59: ='[11]УК расш(к)'!$Q$71 -> 38474.964 | G59: ='[10]Ф2 2022 15.06'!$OF$102 -> 38793.953 | H59: =F59-G59 -> -318.98882
A60: Всего по муниципальному образованию "Кожевниковский район" | B60: =B58+B59 -> 65.9 | C60: =C58+C59 -> 66.2 | D60: =F60/45193*100 -> 81.199523 | E60: =G60 -> 36694.146 | F60: =(F58*C58+F59*C59)/C60 -> 36696.501 | G60: ='[10]Ф2 2022 15.06'!$OF$101 -> 36694.146 | H60: =F60-G60 -> 2.3543203
A61: Кривошеинский район
A62: Муниципальное бюджетное учреждение "Кривошеинская центральная межпоселенческая библиотека" | B62: ='[10]Ф2 2022 15.06'!$OE$105 -> 20.2 | C62: ='[11]УК расш(к)'!$F$78 -> 19.7 | D62: =F62/45193*100 -> 103.04555 | E62: =G62 -> 46569.375 | F62: ='[11]УК расш(к)'!$Q$78 -> 46569.374 | G62: ='[10]Ф2 2022 15.06'!$OF$105 -> 46569.375 | H62: =F62-G62 -> -0.00079454249
A63: Муниципальное бюджетное учреждение культуры "Кривошеинская межпоселенческая централизованная клубная система" | B63: ='[10]Ф2 2022 15.06'!$OE$106 -> 39.2 | C63: ='[11]УК расш(к)'!$F$79 -> 39.7 | D63: =F63/45193*100 -> 91.106131 | E63: =G63 -> 41104.709 | F63: ='[11]УК расш(к)'!$Q$79 -> 41173.594 | G63: ='[10]Ф2 2022 15.06'!$OF$106 -> 41104.709 | H63: =F63-G63 -> 68.884224
A64: Всего по муниципальному образованию "Кривошеинский район" | B64: =B62+B63 -> 59.4 | C64: =C62+C63 -> 59.4 | D64: =F64/45193*100 -> 95.065836 | E64: =(E62*B62+E63*B63)/B64 -> 42963.064 | F64: =(F62*C62+F63*C63)/C64 -> 42963.103 | G64: =E64 -> 42963.064 | H64: =F64-G64 -> 0.039652369
A65: Молчановский район
A66: Муниципальное автономное учреждение культуры "Межпоселенческий методический центр народного творчества и досуга" | B66: ='[10]Ф2 2022 15.06'!$OE$109 -> 55 | C66: ='[11]УК расш(к)'!$F$81 -> 55.7 | D66: =F66/45193*100 -> 93.062863 | E66: =G66 -> 41674.853 | F66: ='[11]УК расш(к)'!$Q$81 -> 42057.899 | G66: ='[10]Ф2 2022 15.06'!$OF$109 -> 41674.853 | H66: =F66-G66 -> 383.04632
A67: Муниципальное бюджетное учреждение культуры "Молчановская межпоселенческая централизованная библиотечная система" | B67: ='[10]Ф2 2022 15.06'!$OE$108 -> 22.3 | C67: ='[11]УК расш(к)'!$F$82 -> 21.6 | D67: =F67/45193*100 -> 97.022154 | E67: =G67 -> 44735.71 | F67: ='[11]УК расш(к)'!$Q$82 -> 43847.222 | G67: ='[10]Ф2 2022 15.06'!$OF$108 -> 44735.71 | H67: =F67-G67 -> -888.48736
A68: Всего по муниципальному образованию "Молчановский район" | B68: =B66+B67 -> 77.3 | C68: =C66+C67 -> 77.3 | D68: =F68/45193*100 -> 94.169211 | E68: =G68 -> 42557.869 | F68: =(F66*C66+F67*C67)/C68 -> 42557.891 | G68: =(G66*B66+G67*B67)/B68 -> 42557.869 | H68: =F68-G68 -> 0.022687092
A69: Парабельский район
A70: Муниципальное бюджетное учреждение культуры "Межпоселенческая библиотека" | B70: ='[10]Ф2 2022 15.06'!$OE$111 -> 32.5 | C70: ='[11]УК расш(к)'!$F$85 -> 32.5 | D70: =F70/45193*100 -> 116.7063 | E70: =G70 -> 52222.162 | F70: ='[11]УК расш(к)'!$Q$85 -> 52743.077 | G70: ='[10]Ф2 2022 15.06'!$OF$111 -> 52222.162 | H70: =F70-G70 -> 520.91496
A71: Муниципальное бюджетное учреждение культуры "Муниципальный музей" | B71: ='[10]Ф2 2022 15.06'!$OE$112 -> 10 | C71: ='[11]УК расш(к)'!$F$86 -> 10 | D71: =F71/45193*100 -> 103.57983 | E71: =G71 -> 47065.095 | F71: ='[11]УК расш(к)'!$Q$86 -> 46810.833 | G71: ='[10]Ф2 2022 15.06'!$OF$112 -> 47065.095 | H71: =F71-G71 -> -254.26139
A72: Муниципальное бюджетное учреждение культуры "Районный Дом культуры" | B72: ='[10]Ф2 2022 15.06'!$OE$118 -> 53.6 | C72: ='[11]УК расш(к)'!$F$88 -> 53.9 | D72: =F72/45193*100 -> 101.14047 | E72: =G72 -> 45962.988 | F72: ='[11]УК расш(к)'!$Q$88 -> 45708.411 | G72: ='[10]Ф2 2022 15.06'!$OF$118 -> 45962.988 | H72: =F72-G72 -> -254.57756
A73: Всего по муниципальному образованию "Парабельский район" | B73: =B70+B71+B72 -> 96.1 | C73: =C70+C71+C72 -> 96.4 | D73: =F73/45193*100 -> 106.64133 | E73: =G73 -> 48194.358 | F73: =(F70*C70+F71*C71+F72*C72)/C73 -> 48194.416 | G73: ='[10]Ф2 2022 15.06'!$OF$110 -> 48194.358 | H73: =F73-G73 -> 0.05799777
A74: Первомайский район
A75: Муниципальное автономное учреждение "Централизованная библиотечная система Первомайского района" | B75: ='[10]Ф2 2022 15.06'!$OE$120 -> 34 | C75: ='[11]УК расш(к)'!$F$93 -> 34 | D75: =F75/45193*100 -> 69.839898 | E75: =G75 -> 31562.821 | F75: ='[11]УК расш(к)'!$Q$93 -> 31562.745 | G75: ='[10]Ф2 2022 15.06'!$OF$120 -> 31562.821 | H75: =F75-G75 -> -0.076051926
A76: Муниципальное автономное учреждение "Централизованная клубная система Первомайского района" | B76: ='[10]Ф2 2022 15.06'!$OE$122 -> 74.3 | C76: ='[11]УК расш(к)'!$F$94 -> 74.3 | D76: =F76/45193*100 -> 64.843522 | E76: =G76 -> 29304.776 | F76: ='[11]УК расш(к)'!$Q$94 -> 29304.733 | G76: ='[10]Ф2 2022 15.06'!$OF$122 -> 29304.776 | H76: =F76-G76 -> -0.042726826
A77: Муниципальное автономное учреждение "Первомайский районный краеведческий музей" | B77: ='[10]Ф2 2022 15.06'!$OE$121 -> 6 | C77: ='[11]УК расш(к)'!$F$95 -> 6 | D77: =F77/45193*100 -> 72.368631 | E77: =G77 -> 32704.999 | F77: ='[11]УК расш(к)'!$Q$95 -> 32705.556 | G77: ='[10]Ф2 2022 15.06'!$OF$121 -> 32704.999 | H77: =F77-G77 -> 0.55683564
A78: Всего по муниципальному образованию "Первомайский район" | B78: =B75+B76+B77 -> 114.3 | C78: =C75+C76+C77 -> 114.3 | D78: =F78/45193*100 -> 66.724777 | E78: =(E75*B75+B76*E76+E77*B77)/B78 -> 30154.95 | F78: =(F75*C75+C76*F76+F77*C77)/C78 -> 30154.929 | G78: =E78 -> 30154.95 | H78: =F78-G78 -> -0.021166709
A79: Тегульдетский район
A80: Муниципальное казённое учреждение"Тегульдетская районная централизованная библиотечная система" | B80: ='[10]Ф2 2022 15.06'!$OE$124 -> 16.5 | C80: ='[11]УК расш(к)'!$F$97 -> 16.5 | D80: =F80/45193*100 -> 94.235565 | E80: =G80 -> 42376.021 | F80: ='[11]УК расш(к)'!$Q$97 -> 42587.879 | G80: ='[10]Ф2 2022 15.06'!$OF$124 -> 42376.021 | H80: =F80-G80 -> 211.85744
A81: Муниципальное казённое учреждение"Районный центр творчества и досуга с филиалами" | B81: ='[10]Ф2 2022 15.06'!$OE$125 -> 30.7 | C81: ='[11]УК расш(к)'!$F$98 -> 31.2 | D81: =F81/45193*100 -> 86.545956 | E81: =G81 -> 39009.147 | F81: ='[11]УК расш(к)'!$Q$98 -> 39112.714 | G81: ='[10]Ф2 2022 15.06'!$OF$125 -> 39009.147 | H81: =F81-G81 -> 103.56714
A82: Всего по муниципальному образованию "Тегульдетский район район" | B82: =B80+B81 -> 47.2 | C82: =C80+C81 -> 47.7 | D82: =F82/45193*100 -> 89.205883 | E82: =(E80*B80+E81*B81)/B82 -> 40186.126 | F82: =(F80*C80+F81*C81)/C82 -> 40314.815 | G82: =(G80*B80+G81*B81)/B82 -> 40186.126 | H82: =F82-G82 -> 128.68873
A83: Томский район
A84: Муниципальное бюджетное учреждение "Межпоселенческая центральная библиотека Томского района" (МБУ "МЦБТР") | B84: ='[10]Ф2 2022 15.06'!$OE$128 -> 57 | C84: ='[11]УК расш(к)'!$F$101 -> 57 | D84: =F84/45193*100 -> 82.437533 | E84: =G84 -> 37094.236 | F84: ='[11]УК расш(к)'!$Q$101 -> 37255.994 | G84: ='[10]Ф2 2022 15.06'!$OF$128 -> 37094.236 | H84: =F84-G84 -> 161.75766
A85: Муниципальное бюджетное учреждение "Дом культуры с.Рыбалово" | B85: ='[10]Ф2 2022 15.06'!$OE$149 -> 9.7 | C85: ='[11]УК расш(к)'!$F$103 -> 9.7 | D85: =F85/45193*100 -> 65.239477 | E85: =G85 -> 29462.284 | F85: ='[11]УК расш(к)'!$Q$103 -> 29483.677 | G85: ='[10]Ф2 2022 15.06'!$OF$149 -> 29462.284 | H85: =F85-G85 -> 21.393204
A86: Муниципальное автономное учреждение культуры "Сельский спортивно-досуговый комплекс" Зоркальцевского сельского поселения | B86: ='[10]Ф2 2022 15.06'!$OE$136 -> 16.4 | C86: ='[11]УК расш(к)'!$F$104 -> 16.8 | D86: =F86/45193*100 -> 74.933249 | E86: =G86 -> 34154.93 | F86: ='[11]УК расш(к)'!$Q$104 -> 33864.583 | G86: ='[10]Ф2 2022 15.06'!$OF$136 -> 34154.93 | H86: =F86-G86 -> -290.34639
A87: Муниципальное бюджетное учреждение "Дом Культуры с.Томское " | B87: ='[10]Ф2 2022 15.06'!$OE$137 -> 2.1 | C87: ='[11]УК расш(к)'!$F$105 -> 2 | D87: =F87/45193*100 -> 97.996371 | E87: =G87 -> 42122.583 | F87: ='[11]УК расш(к)'!$Q$105 -> 44287.5 | G87: ='[10]Ф2 2022 15.06'!$OF$137 -> 42122.583 | H87: =F87-G87 -> 2164.9169
A88: Муниципальное бюджетное учреждение Дом культуры д. Воронино | B88: ='[10]Ф2 2022 15.06'!$OE$133 -> 6.3 | C88: ='[11]УК расш(к)'!$F$107 -> 6.1 | D88: =F88/45193*100 -> 86.081927 | E88: =G88 -> 37954.748 | F88: ='[11]УК расш(к)'!$Q$107 -> 38903.005 | G88: ='[10]Ф2 2022 15.06'!$OF$133 -> 37954.748 | H88: =F88-G88 -> 948.25738
A89: Муниципальное бюджетное учреждение муниципального образования "Межениновское сельское поселение" "Сельский Дом культуры с.Межениновка" | B89: ='[10]Ф2 2022 15.06'!$OE$144 -> 4 | C89: ='[11]УК расш(к)'!$F$109 -> 4 | D89: =F89/45193*100 -> 83.171066 | E89: =G89 -> 37554.139 | F89: ='[11]УК расш(к)'!$Q$109 -> 37587.5 | G89: ='[10]Ф2 2022 15.06'!$OF$144 -> 37554.139 | H89: =F89-G89 -> 33.360548
A90: Муниципальное бюджетное учреждение "Центральный Дом культуры Молодежный" | B90: ='[10]Ф2 2022 15.06'!$OE$143 -> 16.5 | C90: ='[11]УК расш(к)'!$F$110 -> 16.7 | D90: =F90/45193*100 -> 72.395205 | E90: =G90 -> 32640.357 | F90: ='[11]УК расш(к)'!$Q$110 -> 32717.565 | G90: ='[10]Ф2 2022 15.06'!$OF$143 -> 32640.357 | H90: =F90-G90 -> 77.207378
A91: Муниципальное автономное учреждение "клуб с.Корнилово" | B91: ='[10]Ф2 2022 15.06'!$OE$142 -> 2.7 | C91: ='[11]УК расш(к)'!$F$111 -> 2.8 | D91: =F91/45193*100 -> 82.707446 | E91: =G91 -> 36885.3 | F91: ='[11]УК расш(к)'!$Q$111 -> 37377.976 | G91: ='[10]Ф2 2022 15.06'!$OF$142 -> 36885.3 | H91: =F91-G91 -> 492.67627
A92: Муниципальное бюджетное учреждение "Моряковский сельский культурный комплекс" | B92: ='[10]Ф2 2022 15.06'!$OE$146 -> 7.5 | C92: ='[11]УК расш(к)'!$F$112 -> 7.8 | D92: =F92/45193*100 -> 81.076772 | E92: =G92 -> 36638.889 | F92: ='[11]УК расш(к)'!$Q$112 -> 36641.026 | G92: ='[10]Ф2 2022 15.06'!$OF$146 -> 36638.889 | H92: =F92-G92 -> 2.1367521
A93: Муниципальное бюджетное учреждение культуры Дом культуры п. Зональная станция | B93: ='[10]Ф2 2022 15.06'!$OE$135 -> 7.9 | C93: ='[11]УК расш(к)'!$F$113 -> 6.6 | D93: =F93/45193*100 -> 86.90561 | E93: =G93 -> 39275.713 | F93: ='[11]УК расш(к)'!$Q$113 -> 39275.253 | G93: ='[10]Ф2 2022 15.06'!$OF$135 -> 39275.713 | H93: =F93-G93 -> -0.46091788
A94: Муниципальное бюджетное учреждение "Социально-культурный центр "Мечта" | B94: ='[10]Ф2 2022 15.06'!$OE$138 -> 8.5 | C94: ='[11]УК расш(к)'!$F$114 -> 7.9 | D94: =F94/45193*100 -> 71.953472 | E94: =G94 -> 31893.874 | F94: ='[11]УК расш(к)'!$Q$114 -> 32517.932 | G94: ='[10]Ф2 2022 15.06'!$OF$138 -> 31893.874 | H94: =F94-G94 -> 624.05881
A95: Муниципальное бюджетное учреждение "Наумовский сельский культурно-спортивный комплекс" | B95: ='[10]Ф2 2022 15.06'!$OE$147 -> 2.5 | C95: ='[11]УК расш(к)'!$F$115 -> 2.5 | D95: =F95/45193*100 -> 83.309362 | E95: =G95 -> 37651.188 | F95: ='[11]УК расш(к)'!$Q$115 -> 37650 | G95: ='[10]Ф2 2022 15.06'!$OF$147 -> 37651.188 | H95: =F95-G95 -> -1.187916
A96: Муниципальное бюджетное учреждение культуры Центр народного творчества и социально-культурной деятельности "Радуга" | B96: ='[10]Ф2 2022 15.06'!$OE$154 -> 15.6 | C96: ='[11]УК расш(к)'!$F$116 -> 15.3 | D96: =F96/45193*100 -> 77.657736 | E96: =G96 -> 34764.082 | F96: ='[11]УК расш(к)'!$Q$116 -> 35095.861 | G96: ='[10]Ф2 2022 15.06'!$OF$154 -> 34764.082 | H96: =F96-G96 -> 331.77884
A97: Муниципальное бюджетное учреждение "Социально-культурный центр Спасского поселения" | B97: ='[10]Ф2 2022 15.06'!$OE$150 -> 5 | C97: ='[11]УК расш(к)'!$F$117 -> 5.1 | D97: =F97/45193*100 -> 86.683417 | E97: =G97 -> 39842.919 | F97: ='[11]УК расш(к)'!$Q$117 -> 39174.837 | G97: ='[10]Ф2 2022 15.06'!$OF$150 -> 39842.919 | H97: =F97-G97 -> -668.08199
A98: Муниципальное бюджетное учреждение "Культурно-спортивный центр "Радость" п.Мирный | B98: ='[10]Ф2 2022 15.06'!$OE$145 -> 11.1 | C98: ='[11]УК расш(к)'!$F$118 -> 11.1 | D98: =F98/45193*100 -> 82.597035 | E98: =G98 -> 36519.438 | F98: ='[11]УК расш(к)'!$Q$118 -> 37328.078 | G98: ='[10]Ф2 2022 15.06'!$OF$145 -> 36519.438 | H98: =F98-G98 -> 808.64044
A99: МБУ Центр досуга Копыловского сельского поселения | B99: ='[10]Ф2 2022 15.06'!$OE$139 -> 15.4 | C99: ='[11]УК расш(к)'!$F$119 -> 15.7 | D99: =F99/45193*100 -> 68.658116 | E99: =G99 -> 30936.147 | F99: ='[11]УК расш(к)'!$Q$119 -> 31028.662 | G99: ='[10]Ф2 2022 15.06'!$OF$139 -> 30936.147 | H99: =F99-G99 -> 92.515234
A100: Муниципальное бюджетное учреждение культуры "Центр досуга" Заречного сельского поселения | B100: ='[10]Ф2 2022 15.06'!$OE$134 -> 15.4 | C100: ='[11]УК расш(к)'!$F$120 -> 15.4 | D100: =F100/45193*100 -> 73.260829 | E100: =G100 -> 34049.917 | F100: ='[11]УК расш(к)'!$Q$120 -> 33108.766 | G100: ='[10]Ф2 2022 15.06'!$OF$134 -> 34049.917 | H100: =F100-G100 -> -941.15031
A101: Муниципальное бюджетное учреждение "Центральный Дом культуры с.Новорождественское" | B101: ='[10]Ф2 2022 15.06'!$OE$148 -> 8.2 | C101: ='[11]УК расш(к)'!$F$121 -> 8.2 | D101: =F101/45193*100 -> 75.671389 | E101: =G101 -> 33944.304 | F101: ='[11]УК расш(к)'!$Q$121 -> 34198.171 | G101: ='[10]Ф2 2022 15.06'!$OF$148 -> 33944.304 | H101: =F101-G101 -> 253.86678
A102: Муниципальное бюджетное учреждение "Дом культуры с.Новоархангельское" | B102: ='[10]Ф2 2022 15.06'!$OE$151 -> 7.3 | C102: ='[11]УК расш(к)'!$F$123 -> 7.5 | D102: =F102/45193*100 -> 66.436051 | E102: =G102 -> 30023.704 | F102: ='[11]УК расш(к)'!$Q$123 -> 30024.444 | G102: ='[10]Ф2 2022 15.06'!$OF$151 -> 30023.704 | H102: =F102-G102 -> 0.74013285
...

Sheet приложение 2 культура 
E1: Приложение № 2
B2: к письму от __________№_________
A4: Мониторинг целевых показателей, установленных в плане мероприятий "дорожной карте"
A5: за 2022 год (данные ведомственной статистики)
A7: Наименование МУ | B7: Среднесписочная численность, чел. | C7: ФОТ, тыс.руб | D7: Среднемесячная заработная плата по категориям персонала, руб. | E7: Доля ФОТ АУП и вспомогательного персонала в общем ФОТ, % | F7: Доля фонда оплаты труда в общем фонде оплаты труда, %
A8: 1 | B8: 2 | C8: 3 | E8: 4 | F8: 5
A9: Работники учреждений культуры
A10: ОГУ
A11: ОГАУК "ТОУНБ им.А.С. Пушкина" | E11: =(C14+C16)/C12 -> 0.30102724
A12: ФОТ , всего: | B12: =B14+B15+B16 -> 137.5 | C12: =C14+C15+C16 -> 62731.2 | D12: =C12/B12/12*1000 -> 38018.909 | F12: =C12/C12*100 -> 100
A13: в том числе по группам персонала:
A14: Административно-управленческий персонал | B14: 5 | C14: 5077 | D14: =C14/B14/12*1000 -> 84616.667 | F14: =C14*100/C12 -> 8.0932614
A15: Основной персонал | B15: 93.8 | C15: 43847.4 | D15: =C15/B15/12*1000 -> 38954.691 | F15: =C15*100/C12 -> 69.897276
A16: Прочий персонал (вспомогательный) | B16: 38.7 | C16: 13806.8 | D16: =C16/B16/12*1000 -> 29730.405 | F16: =C16/C12*100 -> 22.009463
A17: ОГАУК "ТОДЮБ" | E17: =(C20+C22)/C18 -> 0.3543289
A18: ФОТ, всего: | B18: =B20+B21+B22 -> 49.3 | C18: =C20+C21+C22 -> 23487.5 | D18: =C18/B18/12*1000 -> 39701.657 | F18: =C18/C18*100 -> 100
A19: в том числе по группам персонала:
A20: Административно-управленческий персонал | B20: 4 | C20: 3594.4 | D20: =C20/B20/12*1000 -> 74883.333 | F20: =C20*100/C18 -> 15.303459
A21: Основной персонал | B21: 32.4 | C21: 15165.2 | D21: =C21/B21/12*1000 -> 39005.144 | F21: =C21*100/C18 -> 64.56711
A22: Прочий персонал (вспомогательный) | B22: 12.9 | C22: 4727.9 | D22: =C22/B22/12*1000 -> 30541.99 | F22: =C22/C18*100 -> 20.129431
A23: ОГАУК «ДНТ «Авангард» | E23: =(C26+C28)/C24 -> 0.39949481
A24: ФОТ, всего: | B24: =B26+B27+B28 -> 88.5 | C24: =C26+C27+C28 -> 42716.2 | D24: =C24/B24/12*1000 -> 40222.411 | F24: =C24/C24*100 -> 100
A25: в том числе по группам персонала:
A26: Административно-управленческий персонал | B26: 3 | C26: 2859.2 | D26: =C26/B26/12*1000 -> 79422.222 | F26: =C26*100/C24 -> 6.6934793
A27: Основной персонал | B27: 52.9 | C27: 25651.3 | D27: =C27/B27/12*1000 -> 40408.475 | F27: =C27*100/C24 -> 60.050519
A28: Прочий персонал (вспомогательный) | B28: 32.6 | C28: 14205.7 | D28: =C28/B28/12*1000 -> 36313.139 | F28: =C28/C24*100 -> 33.256001
A29: ОГАУК «ТО РНД» | E29: =(C32+C34)/C30 -> 0.52971032
A30: ФОТ , всего: | B30: =B32+B33+B34 -> 13.8 | C30: =C32+C33+C34 -> 6127.5 | D30: =C30/B30/12*1000 -> 37001.812 | F30: =C30/C30*100 -> 100
A31: в том числе по группам персонала:
A32: Административно-управленческий персонал | B32: 3 | C32: 2098.9 | D32: =C32/B32/12*1000 -> 58302.778 | F32: =C32*100/C30 -> 34.253774
A33: Основной персонал | B33: 7 | C33: 2881.7 | D33: =C33/B33/12*1000 -> 34305.952 | F33: =C33*100/C30 -> 47.028968
A34: Прочий персонал (вспомогательный) | B34: 3.8 | C34: 1146.9 | D34: =C34/B34/12*1000 -> 25151.316 | F34: =C34/C30*100 -> 18.717258
A35: ОГАУК «ЦТК» | E35: =(C38+C40)/C36 -> 0.44271236
A36: ФОТ, всего: | B36: =B38+B39+B40 -> 9.8 | C36: =C38+C39+C40 -> 4400.6 | D36: =C36/B36/12*1000 -> 37420.068 | F36: =C36/C36*100 -> 100
A37: в том числе по группам персонала:
A38: Административно-управленческий персонал | B38: 2 | C38: 1373.7 | D38: =C38/B38/12*1000 -> 57237.5 | F38: =C38*100/C36 -> 31.216198
A39: Основной персонал | B39: 5.5 | C39: 2452.4 | D39: =C39/B39/12*1000 -> 37157.576 | F39: =C39*100/C36 -> 55.728764
A40: Прочий персонал (вспомогательный) | B40: 2.3 | C40: 574.5 | D40: =C40/B40/12*1000 -> 20815.217 | F40: =C40/C36*100 -> 13.055038
A41: ОГАУК «Дом искусств» | E41: =(C44+C46)/C42 -> 0.62271739
A42: ФОТ , всего: | B42: =B44+B45+B46 -> 11 | C42: =C44+C45+C46 -> 4276.9 | D42: =C42/B42/12*1000 -> 32400.758 | F42: =C42/C42*100 -> 100
A43: в том числе по группам персонала:
A44: Административно-управленческий персонал | B44: 1.8 | C44: 1204.4 | D44: =C44/B44/12*1000 -> 55759.259 | F44: =C44*100/C42 -> 28.160584
A45: Основной персонал | B45: 4.3 | C45: 1613.6 | D45: =C45/B45/12*1000 -> 31271.318 | F45: =C45*100/C42 -> 37.728261
A46: Прочий персонал (вспомогательный) | B46: 4.9 | C46: 1458.9 | D46: =C46/B46/12*1000 -> 24811.224 | F46: =C46/C42*100 -> 34.111155
A47: ОГАУК "ТОКМ им.М.Б. Шатилова" | E47: =(C50+C52)/C48 -> 0.42577965
A48: ФОТ , всего: | B48: =B50+B51+B52 -> 160.3 | C48: =C50+C51+C52 -> 63175.4 | D48: =C48/B48/12*1000 -> 32842.275 | F48: =C48/C48*100 -> 100
A49: в том числе по группам персонала:
A50: Административно-управленческий персонал | B50: 4.3 | C50: 4899.3 | D50: =C50/B50/12*1000 -> 94947.674 | F50: =C50*100/C48 -> 7.7550756
A51: Основной персонал | B51: 90.6 | C51: 36276.6 | D51: =C51/B51/12*1000 -> 33366.998 | F51: =C51*100/C48 -> 57.422035
A52: Прочий персонал (вспомогательный) | B52: 65.4 | C52: 21999.5 | D52: =C52/B52/12*1000 -> 28031.983 | F52: =C52/C48*100 -> 34.82289
A53: ОГАУК "ТОХМ" | E53: =(C56+C58)/C54 -> 0.35634934
A54: ФОТ, всего: | B54: =B56+B57+B58 -> 68.7 | C54: =C56+C57+C58 -> 30092.1 | D54: =C54/B54/12*1000 -> 36501.82 | F54: =C54/C54*100 -> 100
A55: в том числе по группам персонала:
A56: Административно-управленческий персонал | B56: 3.6 | C56: 2984.6 | D56: =C56/B56/12*1000 -> 69087.963 | F56: =C56*100/C54 -> 9.9182177
A57: Основной персонал | B57: 46.4 | C57: 19368.8 | D57: =C57/B57/12*1000 -> 34785.92 | F57: =C57*100/C54 -> 64.365066
A58: Прочий персонал (вспомогательный) | B58: 18.7 | C58: 7738.7 | D58: =C58/B58/12*1000 -> 34486.185 | F58: =C58/C54*100 -> 25.716716
A59: ОГАУК «Театр драмы» | E59: =(C62+C64)/C60 -> 0.44241641
A60: ФОТ , всего: | B60: =B62+B63+B64 -> 138.6 | C60: =C62+C63+C64 -> 75321.8 | D60: =C60/B60/12*1000 -> 45287.278 | F60: =C60/C60*100 -> 100
A61: в том числе по группам персонала:
A62: Административно-управленческий персонал | B62: 5 | C62: 5650.9 | D62: =C62/B62/12*1000 -> 94181.667 | F62: =C62*100/C60 -> 7.5023433
A63: Основной персонал | B63: 68.4 | C63: 41998.2 | D63: =C63/B63/12*1000 -> 51167.398 | F63: =C63*100/C60 -> 55.758359
A64: Прочий персонал (вспомогательный) | B64: 65.2 | C64: 27672.7 | D64: =C64/B64/12*1000 -> 35368.993 | F64: =C64/C60*100 -> 36.739297
A65: ОГАУК ТО ТЮЗ | E65: =(C68+C70)/C66 -> 0.44826803
A66: ФОТ, всего: | B66: =B68+B69+B70 -> 104.8 | C66: =C68+C69+C70 -> 46692.6 | D66: =C66/B66/12*1000 -> 37128.34 | F66: =C66/C66*100 -> 100
A67: в том числе по группам персонала:
A68: Административно-управленческий персонал | B68: 4 | C68: 4853.9 | D68: =C68/B68/12*1000 -> 101122.92 | F68: =C68*100/C66 -> 10.395437
A69: Основной персонал | B69: 57.5 | C69: 25761.8 | D69: =C69/B69/12*1000 -> 37335.942 | F69: =C69*100/C66 -> 55.173197
A70: Прочий персонал (вспомогательный) | B70: 43.3 | C70: 16076.9 | D70: =C70/B70/12*1000 -> 30940.916 | F70: =C70/C66*100 -> 34.431366
A71: ОГАУК ТОТК и А «Скоморох» им. Р. Виндермана | E71: =(C74+C76)/C72 -> 0.39876669
A72: ФОТ, всего: | B72: =B74+B75+B76 -> 64.8 | C72: =C74+C75+C76 -> 31103.4 | D72: =C72/B72/12*1000 -> 39999.228 | F72: =C72/C72*100 -> 100
A73: в том числе по группам персонала:
A74: Административно-управленческий персонал | B74: 4 | C74: 3923.9 | D74: =C74/B74/12*1000 -> 81747.917 | F74: =C74*100/C72 -> 12.615663
A75: Основной персонал | B75: 39.6 | C75: 18700.4 | D75: =C75/B75/12*1000 -> 39352.694 | F75: =C75*100/C72 -> 60.123331
A76: Прочий персонал (вспомогательный) | B76: 21.2 | C76: 8479.1 | D76: =C76/B76/12*1000 -> 33329.796 | F76: =C76/C72*100 -> 27.261007
A77: ОГАУК «Томская областная государственная филармония» | E77: =(C80+C82)/C78 -> 0.2734461
A78: ФОТ, всего: | B78: =B80+B81+B82 -> 172.7 | C78: =C80+C81+C82 -> 141011.7 | D78: =C78/B78/12*1000 -> 68042.704 | F78: =C78/C78*100 -> 100
A79: в том числе по группам персонала:
A80: Административно-управленческий персонал | B80: 5 | C80: 6188.3 | D80: =C80/B80/12*1000 -> 103138.33 | F80: =C80*100/C78 -> 4.3885011
A81: Основной персонал | B81: 105.5 | C81: 102452.6 | D81: =C81/B81/12*1000 -> 80926.224 | F81: =C81*100/C78 -> 72.65539
A82: Прочий персонал (вспомогательный) | B82: 62.2 | C82: 32370.8 | D82: =C82/B82/12*1000 -> 43369.239 | F82: =C82/C78*100 -> 22.956109
A83: ОГКУ "ГАТО" | E83: =(C86+C88)/C84 -> 0.25683692
A84: ФОТ , всего: | B84: =B86+B87+B88 -> 69.6 | C84: =C86+C87+C88 -> 34423.4 | D84: =C84/B84/12*1000 -> 41215.757 | F84: =C84/C84*100 -> 100
A85: в том числе по группам персонала:
A86: Административно-управленческий персонал | B86: 4 | C86: 3224.9 | D86: =C86/B86/12*1000 -> 67185.417 | F86: =C86*100/C84 -> 9.3683367
A87: Основной персонал | B87: 49.9 | C87: 25582.2 | D87: =C87/B87/12*1000 -> 42722.445 | F87: =C87*100/C84 -> 74.316308
A88: Прочий персонал (вспомогательный) | B88: 15.7 | C88: 5616.3 | D88: =C88/B88/12*1000 -> 29810.51 | F88: =C88/C84*100 -> 16.315355
A89: ОГКУ "ЦДНИ ТО" | E89: =(C92+C94)/C90 -> 0.34840895
A90: ФОТ, всего: | B90: =B92+B93+B94 -> 38.9 | C90: =C92+C93+C94 -> 20461.3 | D90: =C90/B90/12*1000 -> 43833.119 | F90: =C90/C90*100 -> 100
A91: в том числе по группам персонала:
A92: Административно-управленческий персонал | B92: 4 | C92: 3037.6 | D92: =C92/B92/12*1000 -> 63283.333 | F92: =C92*100/C90 -> 14.845587
A93: Основной персонал | B93: 25.1 | C93: 13332.4 | D93: =C93/B93/12*1000 -> 44264.276 | F93: =C93*100/C90 -> 65.159105
A94: Прочий персонал (вспомогательный) | B94: 9.8 | C94: 4091.3 | D94: =C94/B94/12*1000 -> 34789.966 | F94: =C94/C90*100 -> 19.995308
A95: ОГАУК "ЦОП" | E95: =(C98+C100)/C96 -> 0.9358129
A96: ФОТ, всего: | B96: =B98+B99+B100 -> 13.1 | C96: =C98+C99+C100 -> 7598.1 | D96: =C96/B96/12*1000 -> 48333.969 | F96: =C96/C96*100 -> 100
A97: в том числе по группам персонала:
A98: Административно-управленческий персонал | B98: 1.7 | C98: 2112.8 | D98: =C98/B98/12*1000 -> 103568.63 | F98: =C98*100/C96 -> 27.806952
A99: Основной персонал | B99: 1 | C99: 487.7 | D99: =C99/B99/12*1000 -> 40641.667 | F99: =C99*100/C96 -> 6.4187099
A100: Прочий персонал (вспомогательный) | B100: 10.4 | C100: 4997.6 | D100: =C100/B100/12*1000 -> 40044.872 | F100: =C100/C96*100 -> 65.774338
A101: ИТОГО ФОТ по ОГУ - всего: | E101: =(C104+C106)/C102 -> 0.36731834 | G101: ИТОГО ФОТ по ОГУ (без учета ЦОПиК) | K101: ИТОГО ФОТ по ОГУ (с учетом ЦОПиК)
A102: ФОТ всего: | B102: =B12+B18+B24+B30+B36+B42+B48+B54+B60+B66+B72+B78+B84+B90+B96 -> 1141.4 | C102: =C12+C18+C24+C30+C36+C42+C48+C54+C60+C66+C72+C78+C84+C90+C96 -> 593619.7 | D102: =C102/B102/12*1000 -> 43340.028 | F102: =C102/C102*100 -> 100 | G102: =B102-B96 -> 1128.3 | H102: =C102-C96 -> 586021.6 | I102: =H102/G102/12*1000 -> 43282.047 | K102: =B102 -> 1141.4 | L102: =C102 -> 593619.7 | M102: =D102 -> 43340.028
...

Sheet приложение 3 культура 
C1: Приложение № 3
C2: к письму от ________________№__________
A4: Мониторинг целевых показателей, установленных в плане мероприятий "дорожной карте"
A5: за 2022 год (данные ведомственной статистики)
A7: Наименование МУ | B7: Среднесписочная численность работников, чел. | C7: Среднемесячная заработная плата по категориям персонала, руб. | D7: ФОТ, тыс.руб | E7: Отношение среднемесячной заработной платы категорий персонала к среднемесячной заработной плате основного персонала учреждений, раз
A8: 1 | B8: 2 | C8: 3 | E8: 4
A9: Работники культуры
A10: ВСЕГО (МО+ОГУ): | B10: ='приложение 2 культура '!B759 -> 3779.5 | C10: =D10/B10/12*1000 -> 41295.315 | D10: ='приложение 2 культура '!C759 -> 1872907.7 | E10: =C10/C10*100 -> 100
A11: в том числе по группам персонала:
A12: АУП | B12: ='приложение 2 культура '!B761 -> 191.1 | C12: =D12/B12/12*1000 -> 71761.512 | D12: ='приложение 2 культура '!C761 -> 164563.5 | E12: =C12/C13 -> 1.609354
A13: основной | B13: ='приложение 2 культура '!B762 -> 2381.2 | C13: =D13/B13/12*1000 -> 44590.259 | D13: ='приложение 2 культура '!C762 -> 1274139.9 | E13: =C13/C13 -> 1
A14: вспомогательный | B14: ='приложение 2 культура '!B763 -> 1207.2 | C14: =D14/B14/12*1000 -> 29973.237 | D14: ='приложение 2 культура '!C763 -> 434204.3 | E14: =C14/C13 -> 0.67219248
A15: ОГУ
A16: Областные государственные учреждения, повведомственные Департаменту по культуре ТО, в том числе:
A17: АУП | B17: ='приложение 2 культура '!B104 -> 54.4 | C17: =D17/B17/12*1000 -> 81317.096 | D17: ='приложение 2 культура '!C104 -> 53083.8 | E17: =C17/C18 -> 1.7665039 | F17: =B21+B33+B53+B65+#REF!+B86+#REF! -> #REF! | G17: =H17/F17/12*1000 -> #REF! | H17: =D21+D33+D53+D65+#REF!+D86+#REF! -> #REF!
A18: основной | B18: ='приложение 2 культура '!B105 -> 679.9 | C18: =D18/B18/12*1000 -> 46032.787 | D18: ='приложение 2 культура '!C105 -> 375572.3 | E18: =C18/C18 -> 1 | F18: =B22+B34+B54+B66+#REF!+B87+#REF! -> #REF! | G18: =H18/F18/12*1000 -> #REF! | H18: =D22+D34+D54+D66+#REF!+D87+#REF! -> #REF!
A19: вспомогательный | B19: ='приложение 2 культура '!B106 -> 407.1 | C19: =D19/B19/12*1000 -> 33768.034 | D19: ='приложение 2 культура '!C106 -> 164963.6 | E19: =C19/C18 -> 0.73356485 | F19: =B23+B35+B55+B67+#REF!+B88+#REF! -> #REF! | G19: =H19/F19/12*1000 -> #REF! | H19: =D23+D35+D55+D67+#REF!+D88+#REF! -> #REF!
A20: Библиотеки
A21: АУП | B21: ='приложение 2 культура '!B14+'приложение 2 культура '!B20 -> 9 | C21: =D21/B21/12*1000 -> 80290.741 | D21: ='приложение 2 культура '!C14+'приложение 2 культура '!C20 -> 8671.4 | E21: =C21/C22 -> 2.0604464 | F21: =B25+B29 -> 9 | G21: =H21/F21/12*1000 -> 80290.741 | H21: =D25+D29 -> 8671.4
A22: основной | B22: ='приложение 2 культура '!B15+'приложение 2 культура '!B21 -> 126.2 | C22: =D22/B22/12*1000 -> 38967.644 | D22: ='приложение 2 культура '!C15+'приложение 2 культура '!C21 -> 59012.6 | E22: =C22/C22 -> 1 | F22: =B26+B30 -> 126.2 | G22: =H22/F22/12*1000 -> 38967.644 | H22: =D26+D30 -> 59012.6
A23: вспомогательный | B23: ='приложение 2 культура '!B16+'приложение 2 культура '!B22 -> 51.6 | C23: =D23/B23/12*1000 -> 29933.301 | D23: ='приложение 2 культура '!C16+'приложение 2 культура '!C22 -> 18534.7 | E23: =C23/C22 -> 0.76815784 | F23: =B27+B31 -> 51.6 | G23: =H23/F23/12*1000 -> 29933.301 | H23: =D27+D31 -> 18534.7
A24: ОГАУК "ТОУНБ им.А.С. Пушкина"
A25: АУП | B25: ='приложение 2 культура '!B14 -> 5 | C25: =D25/B25/12*1000 -> 84616.667 | D25: ='приложение 2 культура '!C14 -> 5077 | E25: =C25/C26 -> 2.1721817
A26: основной | B26: ='приложение 2 культура '!B15 -> 93.8 | C26: =D26/B26/12*1000 -> 38954.691 | D26: ='приложение 2 культура '!C15 -> 43847.4 | E26: =C26/C26 -> 1
A27: вспомогательный | B27: ='приложение 2 культура '!B16 -> 38.7 | C27: =D27/B27/12*1000 -> 29730.405 | D27: ='приложение 2 культура '!C16 -> 13806.8 | E27: =C27/C26 -> 0.76320474
A28: ОГАУК "ТОДЮБ"
A29: АУП | B29: ='приложение 2 культура '!B20 -> 4 | C29: =D29/B29/12*1000 -> 74883.333 | D29: ='приложение 2 культура '!C20 -> 3594.4 | E29: =C29/C30 -> 1.9198322
A30: основной | B30: ='приложение 2 культура '!B21 -> 32.4 | C30: =D30/B30/12*1000 -> 39005.144 | D30: ='приложение 2 культура '!C21 -> 15165.2 | E30: =C30/C30 -> 1
A31: вспомогательный | B31: ='приложение 2 культура '!B22 -> 12.9 | C31: =D31/B31/12*1000 -> 30541.99 | D31: ='приложение 2 культура '!C22 -> 4727.9 | E31: =C31/C30 -> 0.78302466
A32: Культурно-досуговые учреждения
A33: АУП | B33: ='приложение 2 культура '!B26+'приложение 2 культура '!B32+'приложение 2 культура '!B38+'приложение 2 культура '!B44 -> 9.8 | C33: =D33/B33/12*1000 -> 64083.333 | D33: ='приложение 2 культура '!C26+'приложение 2 культура '!C32+'приложение 2 культура '!C38+'приложение 2 культура '!C44 -> 7536.2 | E33: =C33/C34 -> 1.6442007 | F33: =B37+B41+B45+B49 -> 9.8 | G33: =H33/F33/12*1000 -> 64083.333 | H33: =D37+D41+D45+D49 -> 7536.2
A34: основной | B34: ='приложение 2 культура '!B27+'приложение 2 культура '!B33+'приложение 2 культура '!B39+'приложение 2 культура '!B45 -> 69.7 | C34: =D34/B34/12*1000 -> 38975.371 | D34: ='приложение 2 культура '!C27+'приложение 2 культура '!C33+'приложение 2 культура '!C39+'приложение 2 культура '!C45 -> 32599 | E34: =C34/C34 -> 1 | F34: =B38+B42+B46+B50 -> 69.7 | G34: =H34/F34/12*1000 -> 38975.371 | H34: =D38+D42+D46+D50 -> 32599
A35: вспомогательный | B35: ='приложение 2 культура '!B28+'приложение 2 культура '!B34+'приложение 2 культура '!B40+'приложение 2 культура '!B46 -> 43.6 | C35: =D35/B35/12*1000 -> 33230.122 | D35: ='приложение 2 культура '!C28+'приложение 2 культура '!C34+'приложение 2 культура '!C40+'приложение 2 культура '!C46 -> 17386 | E35: =C35/C34 -> 0.85259285 | F35: =B39+B43+B47+B51 -> 43.6 | G35: =H35/F35/12*1000 -> 33230.122 | H35: =D39+D43+D47+D51 -> 17386
A36: ОГАУК «ДНТ «Авангард»
A37: АУП | B37: ='приложение 2 культура '!B26 -> 3 | C37: =D37/B37/12*1000 -> 79422.222 | D37: ='приложение 2 культура '!C26 -> 2859.2 | E37: =C37/C38 -> 1.9654843
A38: основной | B38: ='приложение 2 культура '!B27 -> 52.9 | C38: =D38/B38/12*1000 -> 40408.475 | D38: ='приложение 2 культура '!C27 -> 25651.3 | E38: =C38/C38 -> 1
A39: вспомогательный | B39: ='приложение 2 культура '!B28 -> 32.6 | C39: =D39/B39/12*1000 -> 36313.139 | D39: ='приложение 2 культура '!C28 -> 14205.7 | E39: =C39/C38 -> 0.89865156
A40: ОГАУК «ТО РНД»
A41: АУП | B41: ='приложение 2 культура '!B32 -> 3 | C41: =D41/B41/12*1000 -> 58302.778 | D41: ='приложение 2 культура '!C32 -> 2098.9 | E41: =C41/C42 -> 1.6994945
A42: основной | B42: ='приложение 2 культура '!B33 -> 7 | C42: =D42/B42/12*1000 -> 34305.952 | D42: ='приложение 2 культура '!C33 -> 2881.7 | E42: =C42/C42 -> 1
A43: вспомогательный | B43: ='приложение 2 культура '!B34 -> 3.8 | C43: =D43/B43/12*1000 -> 25151.316 | D43: ='приложение 2 культура '!C34 -> 1146.9 | E43: =C43/C42 -> 0.73314728
A44: ОГАУК «ЦТК»
A45: АУП | B45: ='приложение 2 культура '!B38 -> 2 | C45: =D45/B45/12*1000 -> 57237.5 | D45: ='приложение 2 культура '!C38 -> 1373.7 | E45: =C45/C46 -> 1.5403992
A46: основной | B46: ='приложение 2 культура '!B39 -> 5.5 | C46: =D46/B46/12*1000 -> 37157.576 | D46: ='приложение 2 культура '!C39 -> 2452.4 | E46: =C46/C46 -> 1
A47: вспомогательный | B47: ='приложение 2 культура '!B40 -> 2.3 | C47: =D47/B47/12*1000 -> 20815.217 | D47: ='приложение 2 культура '!C40 -> 574.5 | E47: =C47/C46 -> 0.56018771
A48: ОГАУК «Дом искусств»
A49: АУП | B49: ='приложение 2 культура '!B44 -> 1.8 | C49: =D49/B49/12*1000 -> 55759.259 | D49: ='приложение 2 культура '!C44 -> 1204.4 | E49: =C49/C50 -> 1.7830799
A50: основной | B50: ='приложение 2 культура '!B45 -> 4.3 | C50: =D50/B50/12*1000 -> 31271.318 | D50: ='приложение 2 культура '!C45 -> 1613.6 | E50: =C50/C50 -> 1
A51: вспомогательный | B51: ='приложение 2 культура '!B46 -> 4.9 | C51: =D51/B51/12*1000 -> 24811.224 | D51: ='приложение 2 культура '!C46 -> 1458.9 | E51: =C51/C50 -> 0.79341794
A52: Музеи
A53: АУП | B53: ='приложение 2 культура '!B50+'приложение 2 культура '!B56 -> 7.9 | C53: =D53/B53/12*1000 -> 83163.502 | D53: ='приложение 2 культура '!C50+'приложение 2 культура '!C56 -> 7883.9 | E53: =C53/C54 -> 2.4570009 | F53: =B57+B61 -> 7.9 | G53: =H53/F53/12*1000 -> 83163.502 | H53: =D57+D61 -> 7883.9
A54: основной | B54: ='приложение 2 культура '!B51+'приложение 2 культура '!B57 -> 137 | C54: =D54/B54/12*1000 -> 33847.567 | D54: ='приложение 2 культура '!C51+'приложение 2 культура '!C57 -> 55645.4 | E54: =C54/C54 -> 1 | F54: =B58+B62 -> 137 | G54: =H54/F54/12*1000 -> 33847.567 | H54: =D58+D62 -> 55645.4
A55: вспомогательный | B55: ='приложение 2 культура '!B52+'приложение 2 культура '!B58 -> 84.1 | C55: =D55/B55/12*1000 -> 29467.103 | D55: ='приложение 2 культура '!C52+'приложение 2 культура '!C58 -> 29738.2 | E55: =C55/C54 -> 0.8705826 | F55: =B59+B63 -> 84.1 | G55: =H55/F55/12*1000 -> 29467.103 | H55: =D59+D63 -> 29738.2
A56: ОГАУК "ТОКМ им.М.Б. Шатилова"
A57: АУП | B57: ='приложение 2 культура '!B50 -> 4.3 | C57: =D57/B57/12*1000 -> 94947.674 | D57: ='приложение 2 культура '!C50 -> 4899.3 | E57: =C57/C58 -> 2.8455564
A58: основной | B58: ='приложение 2 культура '!B51 -> 90.6 | C58: =D58/B58/12*1000 -> 33366.998 | D58: ='приложение 2 культура '!C51 -> 36276.6 | E58: =C58/C58 -> 1
A59: вспомогательный | B59: ='приложение 2 культура '!B52 -> 65.4 | C59: =D59/B59/12*1000 -> 28031.983 | D59: ='приложение 2 культура '!C52 -> 21999.5 | E59: =C59/C58 -> 0.84011102
A60: ОГАУК "ТОХМ"
A61: АУП | B61: ='приложение 2 культура '!B56 -> 3.6 | C61: =D61/B61/12*1000 -> 69087.963 | D61: ='приложение 2 культура '!C56 -> 2984.6 | E61: =C61/C62 -> 1.9860899
A62: основной | B62: ='приложение 2 культура '!B57 -> 46.4 | C62: =D62/B62/12*1000 -> 34785.92 | D62: ='приложение 2 культура '!C57 -> 19368.8 | E62: =C62/C62 -> 1
A63: вспомогательный | B63: ='приложение 2 культура '!B58 -> 18.7 | C63: =D63/B63/12*1000 -> 34486.185 | D63: ='приложение 2 культура '!C58 -> 7738.7 | E63: =C63/C62 -> 0.99138346
A64: Театрально-зрелищные учреждения
A65: АУП | B65: ='приложение 2 культура '!B62+'приложение 2 культура '!B68+'приложение 2 культура '!B74 -> 13 | C65: =D65/B65/12*1000 -> 92491.667 | D65: ='приложение 2 культура '!C62+'приложение 2 культура '!C68+'приложение 2 культура '!C74 -> 14428.7 | E65: =C65/C66 -> 2.1245385 | F65: =B69+B73+B77 -> 13 | G65: =H65/F65/12*1000 -> 92491.667 | H65: =D69+D73+D77 -> 14428.7
A66: основной | B66: ='приложение 2 культура '!B63+'приложение 2 культура '!B69+'приложение 2 культура '!B75 -> 165.5 | C66: =D66/B66/12*1000 -> 43534.945 | D66: ='приложение 2 культура '!C63+'приложение 2 культура '!C69+'приложение 2 культура '!C75 -> 86460.4 | E66: =C66/C66 -> 1 | F66: =B70+B74+B78 -> 165.5 | G66: =H66/F66/12*1000 -> 43534.945 | H66: =D70+D74+D78 -> 86460.4
A67: вспомогательный | B67: ='приложение 2 культура '!B64+'приложение 2 культура '!B70+'приложение 2 культура '!B76 -> 129.7 | C67: =D67/B67/12*1000 -> 33557.376 | D67: ='приложение 2 культура '!C64+'приложение 2 культура '!C70+'приложение 2 культура '!C76 -> 52228.7 | E67: =C67/C66 -> 0.77081472 | F67: =B71+B75+B79 -> 129.7 | G67: =H67/F67/12*1000 -> 33557.376 | H67: =D71+D75+D79 -> 52228.7
A68: ОГАУК «Театр драмы»
A69: АУП | B69: ='приложение 2 культура '!B62 -> 5 | C69: =D69/B69/12*1000 -> 94181.667 | D69: ='приложение 2 культура '!C62 -> 5650.9 | E69: =C69/C70 -> 1.8406577
A70: основной | B70: ='приложение 2 культура '!B63 -> 68.4 | C70: =D70/B70/12*1000 -> 51167.398 | D70: ='приложение 2 культура '!C63 -> 41998.2 | E70: =C70/C70 -> 1
A71: вспомогательный | B71: ='приложение 2 культура '!B64 -> 65.2 | C71: =D71/B71/12*1000 -> 35368.993 | D71: ='приложение 2 культура '!C64 -> 27672.7 | E71: =C71/C70 -> 0.6912408
A72: ОГАУК ТО ТЮЗ
A73: АУП | B73: ='приложение 2 культура '!B68 -> 4 | C73: =D73/B73/12*1000 -> 101122.92 | D73: ='приложение 2 культура '!C68 -> 4853.9 | E73: =C73/C74 -> 2.7084603
A74: основной | B74: ='приложение 2 культура '!B69 -> 57.5 | C74: =D74/B74/12*1000 -> 37335.942 | D74: ='приложение 2 культура '!C69 -> 25761.8 | E74: =C74/C74 -> 1
A75: вспомогательный | B75: ='приложение 2 культура '!B70 -> 43.3 | C75: =D75/B75/12*1000 -> 30940.916 | D75: ='приложение 2 культура '!C70 -> 16076.9 | E75: =C75/C74 -> 0.82871663
A76: ОГАУК ТОТК и А «Скоморох» им. Р. Виндермана
A77: АУП | B77: ='приложение 2 культура '!B74 -> 4 | C77: =D77/B77/12*1000 -> 81747.917 | D77: ='приложение 2 культура '!C74 -> 3923.9 | E77: =C77/C78 -> 2.0773144
A78: основной | B78: ='приложение 2 культура '!B75 -> 39.6 | C78: =D78/B78/12*1000 -> 39352.694 | D78: ='приложение 2 культура '!C75 -> 18700.4 | E78: =C78/C78 -> 1
A79: вспомогательный | B79: ='приложение 2 культура '!B76 -> 21.2 | C79: =D79/B79/12*1000 -> 33329.796 | D79: ='приложение 2 культура '!C76 -> 8479.1 | E79: =C79/C78 -> 0.84695081
A80: Концертные организации
A81: ОГАУК «Томская областная государственная филармония»
A82: АУП | B82: ='приложение 2 культура '!B80 -> 5 | C82: =D82/B82/12*1000 -> 103138.33 | D82: ='приложение 2 культура '!C80 -> 6188.3 | E82: =C82/C83 -> 1.2744736
A83: основной | B83: ='приложение 2 культура '!B81 -> 105.5 | C83: =D83/B83/12*1000 -> 80926.224 | D83: ='приложение 2 культура '!C81 -> 102452.6 | E83: =C83/C83 -> 1
A84: вспомогательный | B84: ='приложение 2 культура '!B82 -> 62.2 | C84: =D84/B84/12*1000 -> 43369.239 | D84: ='приложение 2 культура '!C82 -> 32370.8 | E84: =C84/C83 -> 0.53591082
A85: Архивы
A86: АУП | B86: ='приложение 2 культура '!B86+'приложение 2 культура '!B92 -> 8 | C86: =D86/B86/12*1000 -> 65234.375 | D86: ='приложение 2 культура '!C86+'приложение 2 культура '!C92 -> 6262.5 | E86: =C86/C87 -> 1.5087123 | F86: =B90+B94 -> 8 | G86: =H86/F86/12*1000 -> 65234.375 | H86: =D90+D94 -> 6262.5
A87: основной | B87: ='приложение 2 культура '!B87+'приложение 2 культура '!B93 -> 75 | C87: =D87/B87/12*1000 -> 43238.444 | D87: ='приложение 2 культура '!C87+'приложение 2 культура '!C93 -> 38914.6 | E87: =C87/C87 -> 1 | F87: =B91+B95 -> 75 | G87: =H87/F87/12*1000 -> 43238.444 | H87: =D91+D95 -> 38914.6
A88: вспомогательный | B88: ='приложение 2 культура '!B88+'приложение 2 культура '!B94 -> 25.5 | C88: =D88/B88/12*1000 -> 31724.183 | D88: ='приложение 2 культура '!C88+'приложение 2 культура '!C94 -> 9707.6 | E88: =C88/C87 -> 0.73370315 | F88: =B92+B96 -> 25.5 | G88: =H88/F88/12*1000 -> 31724.183 | H88: =D92+D96 -> 9707.6
A89: ОГКУ "ГАТО"
A90: АУП | B90: ='приложение 2 культура '!B86 -> 4 | C90: =D90/B90/12*1000 -> 67185.417 | D90: ='приложение 2 культура '!C86 -> 3224.9 | E90: =C90/C91 -> 1.5726023
A91: основной | B91: ='приложение 2 культура '!B87 -> 49.9 | C91: =D91/B91/12*1000 -> 42722.445 | D91: ='приложение 2 культура '!C87 -> 25582.2 | E91: =C91/C91 -> 1
A92: вспомогательный | B92: ='приложение 2 культура '!B88 -> 15.7 | C92: =D92/B92/12*1000 -> 29810.51 | D92: ='приложение 2 культура '!C88 -> 5616.3 | E92: =C92/C91 -> 0.69777162
A93: ОГКУ "ЦДНИ ТО"
A94: АУП | B94: ='приложение 2 культура '!B92 -> 4 | C94: =D94/B94/12*1000 -> 63283.333 | D94: ='приложение 2 культура '!C92 -> 3037.6 | E94: =C94/C95 -> 1.4296706
A95: основной | B95: ='приложение 2 культура '!B93 -> 25.1 | C95: =D95/B95/12*1000 -> 44264.276 | D95: ='приложение 2 культура '!C93 -> 13332.4 | E95: =C95/C95 -> 1
A96: вспомогательный | B96: ='приложение 2 культура '!B94 -> 9.8 | C96: =D96/B96/12*1000 -> 34789.966 | D96: ='приложение 2 культура '!C94 -> 4091.3 | E96: =C96/C95 -> 0.78596035
A97: Прочее
A98: ОГАУК "ЦОП"
A99: АУП | B99: ='приложение 2 культура '!B98 -> 1.7 | C99: =D99/B99/12*1000 -> 103568.63 | D99: ='приложение 2 культура '!C98 -> 2112.8 | E99: =C99/C100 -> 2.5483361
A100: основной | B100: ='приложение 2 культура '!B99 -> 1 | C100: =D100/B100/12*1000 -> 40641.667 | D100: ='приложение 2 культура '!C99 -> 487.7 | E100: =C100/C100 -> 1
A101: вспомогательный | B101: ='приложение 2 культура '!B100 -> 10.4 | C101: =D101/B101/12*1000 -> 40044.872 | D101: ='приложение 2 культура '!C100 -> 4997.6 | E101: =C101/C100 -> 0.98531569
A102: Муниципальные образования (в разрезе муниципальных учреждения), всего:
...
