Workbook
Name ___xlfn_IFERROR: #N/A
Name __kat6: [1]Титул!$A$15
Name __xlfn_IFERROR: #N/A
Name _inf2007: NA()
Name _inf2008: NA()
Name _inf2009: NA()
Name _inf2010: NA()
Name _inf2011: NA()
Name _inf2012: NA()
Name _inf2013: NA()
Name _inf2014: NA()
Name _inf2015: NA()
Name _kat6: [2]Титул!$A$15
Name ColLastYearFB: NA()
Name ColLastYearFB1: NA()
Name ColThisYearFB: NA()
Name ghj: NA()
Name PeriodLastYearName: NA()
Name PeriodThisYearName: NA()
Name titul: [2]Титул!$B$3
Name zpl: NA()
Name ааа: NA()
Name АнМ: NA()
Name вв: NA()
Name График: "Диагр. 4"
Name ДПО: '[3]2002(v2)'!#REF!
Name иии: NA()
Name культура: '[3]2002(v2)'!#REF!
Name М1: NA()
Name Минздрав: NA()
Name мммммммммм: '[3]2002(v2)'!#REF!
Name Мониторинг1: NA()
Name ненужное: '[3]2002(v2)'!#REF!
Name новое: '[3]2002(v2)'!#REF!
Name новый: '[3]2002(v2)'!#REF!
Name ПОКАЗАТЕЛИ_ДОЛГОСР.ПРОГНОЗА: '[3]2002(v2)'!#REF!
Name ПОКАЗАТЕЛИ_ДОЛГОСР_ПРОГНОЗА: NA()
Name пппп: '[3]2002(v2)'!#REF!
Name пр: NA()
Name приб: NA()
Name прибвб2: NA()
Name Прогноз97: NA()
Name ррр: '[3]2002(v2)'!#REF!
Name старое: '[3]2002(v2)'!#REF!
Name фф: NA()
Name ффф: NA()
Name хрень: '[3]2002(v2)'!#REF!
Name ыыы: NA()

Sheet приложение 1 СПО
G1: Приложение № 1
F2: к письму от ______________________№___________________________
A4: Мониторинг целевых показателей, установленных в плане мероприятий "дорожной карте" за 2020 года
A7: Наименование ОГОАУ | B7: Планируемая среднесписочная численность отдельной категории работников государственных и муниципальных учреждений, чел. | C7: Фактическая среднесписочная численность отдельной категории работников государственных и муниципальных учреждений на отчетный период, чел. | D7: Отношение средней заработной платы работников соответствующей категории к среднемесячному доходу от трудовой деятельности по Томской области, %* | E7: Средняя заработная плата отдельной категории работников списочного состава, руб. | G7: Плановое значение средней заработной платы отдельной категории работников на год, руб. | H7: Отклонение факта за отчетный период от планового значения на год, руб.
E8: план на отчетный период** | F8: факт за отчетный период
A9: 1 | B9: 2 | C9: 3 | D9: 4 | E9: 5 | F9: 6 | G9: 7 | H9: 8=6-7
A10: Преподаватели и мастера производственного обучения образовательных учреждений начального и среднего профессионального образования
A11: Областное государственное автономное профессиональное образовательное учреждение "Губернаторский колледж социально - культурных технологий и инноваций" | B11: ='[4]СЗП и доп.асс 2020'!$N$10 -> 39 | C11: ='[5]УК расш(о)'!$F$11 -> 40.3 | D11: =F11/40339*100 -> 94.814725 | E11: =G11 -> 38247.219 | F11: ='[5]УК расш(о)'!$Q$11 -> 38247.312 | G11: ='[4]СЗП и доп.асс 2020'!$P$10 -> 38247.219 | H11: =F11-G11 -> 0.093117754
A12: ='[6]Итого УК расш (о)'!$C$9 -> Областное государственное образовательное автономное учреждение среднего профессионального образования «Томский музыкальный колледж имени Э.В. Денисова» | B12: ='[4]СЗП и доп.асс 2020'!$N$9 -> 61 | C12: ='[5]УК расш(о)'!$F$9 -> 61 | D12: =F12/40339*100 -> 93.268633 | E12: =G12 -> 37609.153 | F12: ='[5]УК расш(о)'!$Q$9 -> 37623.634 | G12: ='[4]СЗП и доп.асс 2020'!$P$9 -> 37609.153 | H12: =F12-G12 -> 14.480413
A13: Всего по СПО: | B13: =SUM(B11:B12) -> 100 | C13: =SUM(C11:C12) -> 101.3 | D13: =F13/40339*100 -> 93.883712 | E13: =(E11*B11+B12*E12)/B13 -> 37857.999 | F13: =(F11*C11+C12*F12)/C13 -> 37871.751 | G13: =(G11*B11+B12*G12)/B13 -> 37857.999 | H13: =F13-G13 -> 13.751664
A14: *Среднемесячный доход от трудовой деятельности по Томской области на 2020 год составляет 40 339 рублей
A15: **В соответствии с показателями, установленными в Финансовом обеспечении мероприятий региональной "дорожной карты" субъекта Российской Федерации в части повышения заработной платы за отчетный период

Sheet приложение 2 спо
E1: Приложение № 2
B2: к письму от ______________________№___________________________
A4: Мониторинг целевых показателей, установленных в плане мероприятий "дорожной карте"
A5: за 2020 год (данные ведомственной статистики)
A7: Наименование ОГАПОУ | B7: Среднесписочная численность, чел. | C7: ФОТ, тыс.руб | D7: Среднемесячная заработная плата по группам персонала, руб. | E7: Доля ФОТ АУП и вспомогательного персонала в общем ФОТ, %
A8: 1 | B8: 2 | C8: 3 | E8: 4
A9: Преподаватели и мастера производственного обучения образовательных учреждений начального и среднего профессионального образования
A10: Областное государственное автономное профессиональное образовательное учреждение "Губернаторский колледж социально - культурных технологий и инноваций" | E10: =(C13+C15)/C11 -> 0.39998694
A11: ФОТ , всего: | B11: =B13+B14+B15 -> 82 | C11: =C13+C14+C15 -> 36744.2 | D11: =C11/B11/12*1000 -> 37341.667
A12: в том числе по группам персонала:
A13: Административно-управленческий персонал | B13: 4 | C13: 2458.8 | D13: =C13/B13/12*1000 -> 51225
A14: Основной персонал | B14: 45.9 | C14: 22047 | D14: =C14/B14/12*1000 -> 40027.233
A15: Прочий персонал (вспомогательный) | B15: 32.1 | C15: 12238.4 | D15: =C15/B15/12*1000 -> 31771.547
A16: ='[6]Итого УК расш (о)'!$C$9 -> Областное государственное образовательное автономное учреждение среднего профессионального образования «Томский музыкальный колледж имени Э.В. Денисова» | E16: =(C19+C21)/C17 -> 0.2021513
A17: ФОТ , всего: | B17: =B19+B20+B21 -> 92.3 | C17: =C19+C20+C21 -> 38116.5 | D17: =C17/B17/12*1000 -> 34413.597
A18: в том числе по группам персонала:
A19: Административно-управленческий персонал | B19: 2.3 | C19: =488+804.9+898.9 -> 2191.8 | D19: =C19/B19/12*1000 -> 79413.043
A20: Основной персонал | B20: 67 | C20: =2117.5+28293.7 -> 30411.2 | D20: =C20/B20/12*1000 -> 37824.876
A21: Прочий персонал (вспомогательный) | B21: 23 | C21: 5513.5 | D21: =C21/B21/12*1000 -> 19976.449
A22: ИТОГО СПО: | E22: =(C25+C27)/C23 -> 0.29925582
A23: ФОТ , всего: | B23: =B25+B26+B27 -> 174.3 | C23: =C25+C26+C27 -> 74860.7 | D23: =C23/B23/12*1000 -> 35791.117
A24: в том числе по группам персонала:
A25: Административно-управленческий персонал | B25: =B19+B13 -> 6.3 | C25: =C19+C13 -> 4650.6 | D25: =C25/B25/12*1000 -> 61515.873
A26: Основной персонал | B26: =B20+B14 -> 112.9 | C26: =C20+C14 -> 52458.2 | D26: =C26/B26/12*1000 -> 38720.254
A27: Прочий персонал (вспомогательный) | B27: =B21+B15 -> 55.1 | C27: =C21+C15 -> 17751.9 | D27: =C27/B27/12*1000 -> 26848.004

Sheet приложение 3 спо
E1: Приложение № 3
C2: к письму от ______________________№___________________________
A4: Мониторинг целевых показателей, установленных в плане мероприятий "дорожной карте"
A5: за 2020 год (данные ведомственной статистики)
A7: Наименование ОГАПОУ | B7: Среднесписочная численность, чел. | C7: Среднемесячная заработная плата по категориям персонала, руб. | D7: ФОТ, тыс.руб* | E7: Отношение среднемесячной заработной платы категорий персонала к среднемесячной заработной плате основного персонала учреждений, раз
A8: 1 | B8: 2 | C8: 3 | E8: 4
A9: Преподаватели и мастера производственного обучения образовательных учреждений начального и среднего профессионального образования
A10: Областное государственное автономное профессиональное образовательное учреждение "Губернаторский колледж социально - культурных технологий и инноваций"
A11: Административно-управленческий персонал | B11: ='приложение 2 спо'!B13 -> 4 | C11: =D11/B11/12*1000 -> 51225 | D11: ='приложение 2 спо'!C13 -> 2458.8 | E11: =C11/C12 -> 1.2797537
A12: Основной персонал | B12: ='приложение 2 спо'!B14 -> 45.9 | C12: =D12/B12/12*1000 -> 40027.233 | D12: ='приложение 2 спо'!C14 -> 22047 | E12: =C12/C12 -> 1
A13: Вспомогательный персонал | B13: ='приложение 2 спо'!B15 -> 32.1 | C13: =D13/B13/12*1000 -> 31771.547 | D13: ='приложение 2 спо'!C15 -> 12238.4 | E13: =C13/C12 -> 0.79374828
A14: ='[6]Итого УК расш (о)'!$C$9 -> Областное государственное образовательное автономное учреждение среднего профессионального образования «Томский музыкальный колледж имени Э.В. Денисова»
A15: Административно-управленческий персонал | B15: ='приложение 2 спо'!B19 -> 2.3 | C15: =D15/B15/12*1000 -> 79413.043 | D15: ='приложение 2 спо'!C19 -> 2191.8 | E15: =C15/C16 -> 2.0994925
A16: Основной персонал | B16: ='приложение 2 спо'!B20 -> 67 | C16: =D16/B16/12*1000 -> 37824.876 | D16: ='приложение 2 спо'!C20 -> 30411.2 | E16: =C16/C16 -> 1
A17: Вспомогательный персонал | B17: ='приложение 2 спо'!B21 -> 23 | C17: =D17/B17/12*1000 -> 19976.449 | D17: ='приложение 2 спо'!C21 -> 5513.5 | E17: =C17/C16 -> 0.52812994
A18: ИТОГО СПО:
A19: ИТОГО: | B19: ='приложение 2 спо'!B23 -> 174.3 | C19: =D19/B19/12*1000 -> 35791.117 | D19: ='приложение 2 спо'!C23 -> 74860.7
A20: в том числе по группам персонала:
A21: Административно-управленческий персонал | B21: ='приложение 2 спо'!B25 -> 6.3 | C21: =D21/B21/12*1000 -> 61515.873 | D21: ='приложение 2 спо'!C25 -> 4650.6 | E21: =C21/C22 -> 1.588726 | F21: =B11+B15 -> 6.3 | G21: =H21/F21/12*1000 -> 61515.873 | H21: =D11+D15 -> 4650.6
A22: Основной персонал | B22: ='приложение 2 спо'!B26 -> 112.9 | C22: =D22/B22/12*1000 -> 38720.254 | D22: ='приложение 2 спо'!C26 -> 52458.2 | E22: =C22/C22 -> 1 | F22: =B12+B16 -> 112.9 | G22: =H22/F22/12*1000 -> 38720.254 | H22: =D12+D16 -> 52458.2
A23: Прочий персонал (вспомогательный) | B23: ='приложение 2 спо'!B27 -> 55.1 | C23: =D23/B23/12*1000 -> 26848.004 | D23: ='приложение 2 спо'!C27 -> 17751.9 | E23: =C23/C22 -> 0.69338398 | F23: =B13+B17 -> 55.1 | G23: =H23/F23/12*1000 -> 26848.004 | H23: =D13+D17 -> 17751.9

Sheet Приложение 1 ДПО
BL1: Приложение 1
BI2: к письму от____________________№______________________
A3: Информация о средней заработной плате работников в разрезе организаций дополнительного образования детей | AS3: 37858
A4: Наименование муниципального образования | B4: ОКПО | C4: ОКВЭД | D4: Наименование образовательной организации дополнительного образования детей | E4: 01 всего (Код категории 100) | O4: 02 руководитель организации (Код категории 101) | Y4: 03 Заместители руководителя, руководители структурных подразделений и их заместители (Код категории 102) | AI4: 07 (педагогические работники образовательных организаций дополнительного образования детей (код категории 221) | AT4: 26 работники культуры (код категории 631) | BD4: 28 прочий персонал (код категории 103)
E5: Средняя численность работников, человек | G5: Фонд начисленной заработной платы работников за отчетный период, тыс.руб. | J5: Фонд начисленной заработной платы работников по источникам финансирования, тыс.руб. | N5: Средняя заработная плата | O5: Средняя численность работников, человек | Q5: Фонд начисленной заработной платы работников за отчетный период, тыс.руб. | T5: Фонд начисленной заработной платы работников по источникам финансирования, тыс.руб. | X5: Средняя заработная плата | Y5: Средняя численность работников, человек | AA5: Фонд начисленной заработной платы работников за отчетный период, тыс.руб. | AD5: Фонд начисленной заработной платы работников по источникам финансирования, тыс.руб. | AH5: Средняя заработная плата | AI5: Средняя численность работников, человек | AK5: Фонд начисленной заработной платы работников за отчетный период, тыс.руб. | AN5: Фонд начисленной заработной платы работников по источникам финансирования, тыс.руб. | AR5: Средняя заработная плата | AS5: Отношение средней заработной платы работников соответствующей категории к средней заработной плате по Томской области (36 687 руб.), % | AT5: Средняя численность работников, человек | AV5: Фонд начисленной заработной платы работников за отчетный период, тыс.руб. | AY5: Фонд начисленной заработной платы работников по источникам финансирования, тыс.руб. | BC5: Средняя заработная плата | BD5: Средняя численность работников, человек | BF5: Фонд начисленной заработной платы работников за отчетный период, тыс.руб. | BI5: Фонд начисленной заработной платы работников по источникам финансирования, тыс.руб. | BM5: Средняя заработная плата
E6: списочного состава (без внешних совместителей) | F6: внешних совместителей | G6: списочного состава (без внешних совместителей) | I6: внешних совместителей | J6: из гр.3 списочного состава (без внешних совместителей) | L6: из гр.5 внешних совместителей | O6: списочного состава (без внешних совместителей) | P6: внешних совместителей | Q6: списочного состава (без внешних совместителей) | S6: внешних совместителей | T6: из гр.3 списочного состава (без внешних совместителей) | V6: из гр.5 внешних совместителей | Y6: списочного состава (без внешних совместителей) | Z6: внешних совместителей | AA6: списочного состава (без внешних совместителей) | AC6: внешних совместителей | AD6: из гр.3 списочного состава (без внешних совместителей) | AF6: из гр.5 внешних совместителей | AI6: списочного состава (без внешних совместителей) | AJ6: внешних совместителей | AK6: списочного состава (без внешних совместителей) | AM6: внешних совместителей | AN6: из гр.3 списочного состава (без внешних совместителей) | AP6: из гр.5 внешних совместителей | AT6: списочного состава (без внешних совместителей) | AU6: внешних совместителей | AV6: списочного состава (без внешних совместителей) | AX6: внешних совместителей | AY6: из гр.3 списочного состава (без внешних совместителей) | BA6: из гр.5 внешних совместителей | BD6: списочного состава (без внешних совместителей) | BE6: внешних совместителей | BF6: списочного состава (без внешних совместителей) | BH6: внешних совместителей | BI6: из гр.3 списочного состава (без внешних совместителей) | BK6: из гр.5 внешних совместителей
G7: всего | H7: в том числе по внутреннему совместительству | J7: за счет средств бюджетов всех уровней | K7: средства от приносящей доход деятельности | L7: за счет средств бюджетов всех уровней | M7: средства от приносящей доход деятельности | Q7: всего | R7: в том числе по внутреннему совместительству | T7: за счет средств бюджетов всех уровней | U7: средства от приносящей доход деятельности | V7: за счет средств бюджетов всех уровней | W7: средства от приносящей доход деятельности | AA7: всего | AB7: в том числе по внутреннему совместительству | AD7: за счет средств бюджетов всех уровней | AE7: средства от приносящей доход деятельности | AF7: за счет средств бюджетов всех уровней | AG7: средства от приносящей доход деятельности | AK7: всего | AL7: в том числе по внутреннему совместительству | AN7: за счет средств бюджетов всех уровней | AO7: средства от приносящей доход деятельности | AP7: за счет средств бюджетов всех уровней | AQ7: средства от приносящей доход деятельности | AV7: всего | AW7: в том числе по внутреннему совместительству | AY7: за счет средств бюджетов всех уровней | AZ7: средства от приносящей доход деятельности | BA7: за счет средств бюджетов всех уровней | BB7: средства от приносящей доход деятельности | BF7: всего | BG7: в том числе по внутреннему совместительству | BI7: за счет средств бюджетов всех уровней | BJ7: средства от приносящей доход деятельности | BK7: за счет средств бюджетов всех уровней | BL7: средства от приносящей доход деятельности
A8: ОГАОУ ДО
A9: Асиновский район | B9: 49391466 | C9: 85.41.2 | D9: Областное государственное автономное образовательное учреждение дополнительного образования «Асиновская детская школа искусств» | E9: =O9+Y9+AI9+AT9+BD9 -> 29.4 | F9: =P9+Z9+AJ9+AU9+BE9 -> 3.7 | G9: =J9+K9 -> 12168.2 | H9: =R9+AB9+AL9+AW9+BG9 -> 2500.3 | I9: =S9+AC9+AM9+AX9+BH9 -> 789.9 | J9: =T9+AD9+AN9+AY9+BI9 -> 11690.2 | K9: =U9+AE9+AO9+AZ9+BJ9 -> 478 | L9: =V9+AF9+AP9+BA9+BK9 -> 782.6 | M9: =W9+AG9+AQ9+BB9+BL9 -> 7.3 | N9: =G9/E9/12*1000 -> 34490.363 | O9: =[5]ДШИ!$E$34 -> 1 | Q9: =[5]ДШИ!$AP$34 -> 729 | R9: =[5]ДШИ!$BH$34 -> 286.2 | T9: =[5]ДШИ!$CS$34 -> 708 | U9: =[5]ДШИ!$EC$34 -> 21 | X9: =Q9/O9/12*1000 -> 60750 | Y9: =[5]ДШИ!$F$34 -> 1.6 | AA9: =[5]ДШИ!$AQ$34 -> 463.3 | AB9: =[5]ДШИ!$BI$34 -> 267.3 | AD9: =[5]ДШИ!$CT$34 -> 462.2 | AE9: =[5]ДШИ!$ED$34 -> 1.1 | AH9: =AA9/Y9/12*1000 -> 24130.208 | AI9: =[5]ДШИ!$G$34 -> 19 | AJ9: =[5]ДШИ!$Y$34 -> 2 | AK9: =[5]ДШИ!$AR$34 -> 8019.6 | AL9: =[5]ДШИ!$BJ$34 -> 964.6 | AM9: =[5]ДШИ!$CC$34 -> 426.1 | AN9: =[5]ДШИ!$CU$34 -> 7636.4 | AO9: =[5]ДШИ!$EE$34 -> 383.2 | AP9: =[5]ДШИ!$EW$34 -> 418.8 | AQ9: =[5]ДШИ!$GG$34 -> 7.3 | AR9: =AK9/AI9/12*1000 -> 35173.684 | AS9: =AR9/$AS$3*100 -> 92.909515 | BC9: =AV9/AT9/12*1000 -> #DIV/0! | BD9: =[5]ДШИ!$U$34 -> 7.8 | BE9: =[5]ДШИ!$AM$34 -> 1.7 | BF9: =[5]ДШИ!$BF$34 -> 2956.3 | BG9: =[5]ДШИ!$BX$34 -> 982.2 | BH9: =[5]ДШИ!$CQ$34 -> 363.8 | BI9: =[5]ДШИ!$DI$34 -> 2883.6 | BJ9: =[5]ДШИ!$ES$34 -> 72.7 | BK9: =[5]ДШИ!$FK$34 -> 363.8 | BM9: =BF9/BD9/12*1000 -> 31584.402
A10: Верхнекетский район | B10: 46625857 | C10: 85.41.2 | D10: Областное государственное автономное образовательное учреждение дополнительного образования «Детская школа искусств» Верхнекетского района Томской области» | E10: =O10+Y10+AI10+AT10+BD10 -> 16.4 | F10: =P10+Z10+AJ10+AU10+BE10 -> 0.1 | G10: =J10+K10 -> 8067.3 | H10: =R10+AB10+AL10+AW10+BG10 -> 24 | I10: =S10+AC10+AM10+AX10+BH10 -> 22.3 | J10: =T10+AD10+AN10+AY10+BI10 -> 8043.3 | K10: =U10+AE10+AO10+AZ10+BJ10 -> 24 | L10: =V10+AF10+AP10+BA10+BK10 -> 22.3 | M10: =W10+AG10+AQ10+BB10+BL10 -> 0 | N10: =G10/E10/12*1000 -> 40992.378 | O10: =[5]ДШИ!$E$35 -> 0.4 | Q10: =[5]ДШИ!$AP$35 -> 416.6 | R10: =[5]ДШИ!$BH$35 -> 1.5 | T10: =[5]ДШИ!$CS$35 -> 415.1 | U10: =[5]ДШИ!$EC$35 -> 1.5 | X10: =Q10/O10/12*1000 -> 86791.667 | AH10: =AA10/Y10/12*1000 -> #DIV/0! | AI10: =[5]ДШИ!$G$35 -> 10 | AJ10: =[5]ДШИ!$Y$35 -> 0.1 | AK10: =[5]ДШИ!$AR$35 -> 5027.3 | AL10: =[5]ДШИ!$BJ$35 -> 18.5 | AM10: =[5]ДШИ!$CC$35 -> 22.3 | AN10: =[5]ДШИ!$CU$35 -> 5008.8 | AO10: =[5]ДШИ!$EE$35 -> 18.5 | AP10: =[5]ДШИ!$EW$35 -> 22.3 | AR10: =AK10/AI10/12*1000 -> 41894.167 | AS10: =AR10/$AS$3*100 -> 110.66133 | BC10: =AV10/AT10/12*1000 -> #DIV/0! | BD10: =[5]ДШИ!$U$35 -> 6 | BF10: =[5]ДШИ!$BF$35 -> 2623.4 | BG10: =[5]ДШИ!$BX$35 -> 4 | BI10: =[5]ДШИ!$DI$35 -> 2619.4 | BJ10: =[5]ДШИ!$ES$35 -> 4 | BM10: =BF10/BD10/12*1000 -> 36436.111
A11: Зырянский район | B11: 46625857 | C11: 85.41.2 | D11: Областное государственное автономное образовательное учреждение дополнительного образования «Зырянская детская школа искусств» | E11: =O11+Y11+AI11+AT11+BD11 -> 17 | F11: =P11+Z11+AJ11+AU11+BE11 -> 1.8 | G11: =J11+K11 -> 6530 | H11: =R11+AB11+AL11+AW11+BG11 -> 609.7 | I11: =S11+AC11+AM11+AX11+BH11 -> 334.2 | J11: =T11+AD11+AN11+AY11+BI11 -> 6530 | K11: =U11+AE11+AO11+AZ11+BJ11 -> 0 | L11: =V11+AF11+AP11+BA11+BK11 -> 334.2 | M11: =W11+AG11+AQ11+BB11+BL11 -> 0 | N11: =G11/E11/12*1000 -> 32009.804 | O11: =[5]ДШИ!$E$36 -> 1 | Q11: =[5]ДШИ!$AP$36 -> 495.5 | R11: =[5]ДШИ!$BH$36 -> 47.9 | T11: =[5]ДШИ!$CS$36 -> 495.5 | X11: =Q11/O11/12*1000 -> 41291.667 | AH11: =AA11/Y11/12*1000 -> #DIV/0! | AI11: =[5]ДШИ!$G$36 -> 11 | AJ11: =[5]ДШИ!$Y$36 -> 1.8 | AK11: =[5]ДШИ!$AR$36 -> 4625.3 | AL11: =[5]ДШИ!$BJ$36 -> 561.8 | AM11: =[5]ДШИ!$CC$36 -> 334.2 | AN11: =[5]ДШИ!$CU$36 -> 4625.3 | AP11: =[5]ДШИ!$EW$36 -> 334.2 | AR11: =AK11/AI11/12*1000 -> 35040.152 | AS11: =AR11/AS3*100 -> 92.556795 | BC11: =AV11/AT11/12*1000 -> #DIV/0! | BD11: =[5]ДШИ!$U$36 -> 5 | BF11: =[5]ДШИ!$BF$36 -> 1409.2 | BI11: =[5]ДШИ!$DI$36 -> 1409.2 | BM11: =BF11/BD11/12*1000 -> 23486.667
A12: Тегульдетский район | B12: 49396506 | C12: 85.41.2 | D12: Областное государственное автономное образовательное учреждение дополнительного образования «Тегульдетская детская школа искусств» | E12: =O12+Y12+AI12+AT12+BD12 -> 10.5 | F12: =P12+Z12+AJ12+AU12+BE12 -> 0.5 | G12: =J12+K12 -> 4878.7 | H12: =R12+AB12+AL12+AW12+BG12 -> 138.7 | I12: =S12+AC12+AM12+AX12+BH12 -> 130.9 | J12: =T12+AD12+AN12+AY12+BI12 -> 4878.7 | K12: =U12+AE12+AO12+AZ12+BJ12 -> 0 | L12: =V12+AF12+AP12+BA12+BK12 -> 130.9 | M12: =W12+AG12+AQ12+BB12+BL12 -> 0 | N12: =G12/E12/12*1000 -> 38719.841 | O12: =[5]ДШИ!$E$37 -> 1 | Q12: =[5]ДШИ!$AP$37 -> 496.6 | T12: =[5]ДШИ!$CS$37 -> 496.6 | X12: =Q12/O12/12*1000 -> 41383.333 | AH12: =AA12/Y12/12*1000 -> #DIV/0! | AI12: =[5]ДШИ!$G$37 -> 5 | AJ12: =[5]ДШИ!$Y$37 -> 0.5 | AK12: =[5]ДШИ!$AR$37 -> 3047 | AL12: =[5]ДШИ!$BJ$37 -> 138.7 | AM12: =[5]ДШИ!$CC$37 -> 130.9 | AN12: =[5]ДШИ!$CU$37 -> 3047 | AP12: =[5]ДШИ!$EW$37 -> 130.9 | AR12: =AK12/AI12/12*1000 -> 50783.333 | AS12: =AR12/$AS$3*100 -> 134.14162 | BC12: =AV12/AT12/12*1000 -> #DIV/0! | BD12: =[5]ДШИ!$U$37 -> 4.5 | BF12: =[5]ДШИ!$BF$37 -> 1335.1 | BI12: =[5]ДШИ!$DI$37 -> 1335.1 | BM12: =BF12/BD12/12*1000 -> 24724.074
A13: Шегарский район | B13: 46622994 | C13: 85.41 | D13: Областное государственное автономное образовательное учреждение дополнительного образования «Детская школа искусств с. Мельниково» | E13: =O13+Y13+AI13+AT13+BD13 -> 13.5 | F13: =P13+Z13+AJ13+AU13+BE13 -> 1.1 | G13: =J13+K13 -> 5255.2 | H13: =R13+AB13+AL13+AW13+BG13 -> 141.2 | I13: =S13+AC13+AM13+AX13+BH13 -> 239.4 | J13: =T13+AD13+AN13+AY13+BI13 -> 5208.1 | K13: =U13+AE13+AO13+AZ13+BJ13 -> 47.1 | L13: =V13+AF13+AP13+BA13+BK13 -> 232.7 | M13: =W13+AG13+AQ13+BB13+BL13 -> 6.7 | N13: =G13/E13/12*1000 -> 32439.506 | O13: =[5]ДШИ!$E$38 -> 1 | Q13: =[5]ДШИ!$AP$38 -> 468.3 | T13: =[5]ДШИ!$CS$38 -> 468.3 | X13: =Q13/O13/12*1000 -> 39025 | AH13: =AA13/Y13/12*1000 -> #DIV/0! | AI13: =[5]ДШИ!$G$38 -> 9.8 | AK13: =[5]ДШИ!$AR$38 -> 4259.1 | AL13: =[5]ДШИ!$BJ$38 -> 141.2 | AN13: =[5]ДШИ!$CU$38 -> 4225.9 | AO13: =[5]ДШИ!$EE$38 -> 33.2 | AR13: =AK13/AI13/12*1000 -> 36216.837 | AS13: =AR13/$AS$3*100 -> 95.66495 | BC13: =AV13/AT13/12*1000 -> #DIV/0! | BD13: =[5]ДШИ!$U$38 -> 2.7 | BE13: =[5]ДШИ!$AM$38 -> 1.1 | BF13: =[5]ДШИ!$BF$38 -> 527.8 | BH13: =[5]ДШИ!$CQ$38 -> 239.4 | BI13: =[5]ДШИ!$DI$38 -> 513.9 | BJ13: =[5]ДШИ!$ES$38 -> 13.9 | BK13: =[5]ДШИ!$FK$38 -> 232.7 | BL13: =[5]ДШИ!$GU$38 -> 6.7 | BM13: =BF13/BD13/12*1000 -> 16290.123
A14: ВСЕГО | E14: =O14+Y14+AI14+AT14+BD14 -> 86.8 | F14: =P14+Z14+AJ14+AU14+BE14 -> 7.2 | G14: =Q14+AA14+AK14+AV14+BF14 -> 36899.4 | H14: =R14+AB14+AL14+AW14+BG14 -> 3413.9 | I14: =S14+AC14+AM14+AX14+BH14 -> 1516.7 | J14: =T14+AD14+AN14+AY14+BI14 -> 36350.3 | K14: =U14+AE14+AO14+AZ14+BJ14 -> 549.1 | L14: =V14+AF14+AP14+BA14+BK14 -> 1502.7 | M14: =W14+AG14+AQ14+BB14+BL14 -> 14 | N14: =G14/E14/12*1000 -> 35425.691 | O14: =O9+O10+O11+O12+O13 -> 4.4 | P14: =P9+P10+P11+P12+P13 -> 0 | Q14: =Q9+Q10+Q11+Q12+Q13 -> 2606 | R14: =R9+R10+R11+R12+R13 -> 335.6 | S14: =S9+S10+S11+S12+S13 -> 0 | T14: =T9+T10+T11+T12+T13 -> 2583.5 | U14: =U9+U10+U11+U12+U13 -> 22.5 | V14: =V9+V10+V11+V12+V13 -> 0 | W14: =W9+W10+W11+W12+W13 -> 0 | X14: =Q14/O14/12*1000 -> 49356.061 | Y14: =Y9+Y10+Y11+Y12+Y13 -> 1.6 | Z14: =Z9+Z10+Z11+Z12+Z13 -> 0 | AA14: =AA9+AA10+AA11+AA12+AA13 -> 463.3 | AB14: =AB9+AB10+AB11+AB12+AB13 -> 267.3 | AC14: =AC9+AC10+AC11+AC12+AC13 -> 0 | AD14: =AD9+AD10+AD11+AD12+AD13 -> 462.2 | AE14: =AE9+AE10+AE11+AE12+AE13 -> 1.1 | AF14: =AF9+AF10+AF11+AF12+AF13 -> 0 | AG14: =AG9+AG10+AG11+AG12+AG13 -> 0 | AH14: =AA14/Y14/12*1000 -> 24130.208 | AI14: =AI9+AI10+AI11+AI12+AI13 -> 54.8 | AJ14: =AJ9+AJ10+AJ11+AJ12+AJ13 -> 4.4 | AK14: =AK9+AK10+AK11+AK12+AK13 -> 24978.3 | AL14: =AL9+AL10+AL11+AL12+AL13 -> 1824.8 | AM14: =AM9+AM10+AM11+AM12+AM13 -> 913.5 | AN14: =AN9+AN10+AN11+AN12+AN13 -> 24543.4 | AO14: =AO9+AO10+AO11+AO12+AO13 -> 434.9 | AP14: =AP9+AP10+AP11+AP12+AP13 -> 906.2 | AQ14: =AQ9+AQ10+AQ11+AQ12+AQ13 -> 7.3 | AR14: =AK14/AI14/12*1000 -> 37984.033 | AS14: =AR14/$AS$3*100 -> 100.33291 | AT14: =AT9+AT10+AT11+AT12+AT13 -> 0 | AU14: =AU9+AU10+AU11+AU12+AU13 -> 0 | AV14: =AV9+AV10+AV11+AV12+AV13 -> 0 | AW14: =AW9+AW10+AW11+AW12+AW13 -> 0 | AX14: =AX9+AX10+AX11+AX12+AX13 -> 0 | AY14: =AY9+AY10+AY11+AY12+AY13 -> 0 | AZ14: =AZ9+AZ10+AZ11+AZ12+AZ13 -> 0 | BA14: =BA9+BA10+BA11+BA12+BA13 -> 0 | BB14: =BB9+BB10+BB11+BB12+BB13 -> 0 | BC14: =AV14/AT14/12*1000 -> #DIV/0! | BD14: =BD9+BD10+BD11+BD12+BD13 -> 26 | BE14: =BE9+BE10+BE11+BE12+BE13 -> 2.8 | BF14: =BF9+BF10+BF11+BF12+BF13 -> 8851.8 | BG14: =BG9+BG10+BG11+BG12+BG13 -> 986.2 | BH14: =BH9+BH10+BH11+BH12+BH13 -> 603.2 | BI14: =BI9+BI10+BI11+BI12+BI13 -> 8761.2 | BJ14: =BJ9+BJ10+BJ11+BJ12+BJ13 -> 90.6 | BK14: =BK9+BK10+BK11+BK12+BK13 -> 596.5 | BL14: =BL9+BL10+BL11+BL12+BL13 -> 6.7 | BM14: =BF14/BD14/12*1000 -> 28371.154
C16: огу | D16: контроль | E16: =[5]ДШИ!$D$43 -> 86.8 | F16: =[5]ДШИ!$V$43 -> 7.2 | G16: =[5]ДШИ!$AN$43 -> 36899.4 | H16: =[5]ДШИ!$BG$43 -> 3413.9 | I16: =[5]ДШИ!$BY$43 -> 1516.7 | J16: =[5]ДШИ!$CR$43 -> 36350.3 | K16: =[5]ДШИ!$EB$43 -> 549.1 | L16: =[5]ДШИ!$ET$43 -> 1502.7 | M16: =[5]ДШИ!$GD$43 -> 14 | N16: =[5]ДШИ!$GV$43 -> 35425.691 | O16: =[5]ДШИ!$E$43 -> 4.4 | P16: =[5]ДШИ!$W$43 -> 0 | Q16: =[5]ДШИ!$AP$43 -> 2606 | R16: =[5]ДШИ!$BH$43 -> 335.6 | S16: =[5]ДШИ!$CA$43 -> 0 | T16: =[5]ДШИ!$CS$43 -> 2583.5 | U16: =[5]ДШИ!$EC$43 -> 22.5 | V16: =[5]ДШИ!$EU$43 -> 0 | W16: =[5]ДШИ!$GE$43 -> 0 | X16: =[5]ДШИ!$GW$43 -> 49356.061 | Y16: =[5]ДШИ!$F$43 -> 1.6 | Z16: =[5]ДШИ!$X$43 -> 0 | AA16: =[5]ДШИ!$AQ$43 -> 463.3 | AB16: =[5]ДШИ!$BI$43 -> 267.3 | AC16: =[5]ДШИ!$CB$43 -> 0 | AD16: =[5]ДШИ!$CT$43 -> 462.2 | AE16: =[5]ДШИ!$ED$43 -> 1.1 | AF16: =[5]ДШИ!$EV$43 -> 0 | AG16: =[5]ДШИ!$GF$43 -> 0 | AH16: =[5]ДШИ!$GX$43 -> 24130.208 | AI16: =[5]ДШИ!$G$43 -> 54.8 | AJ16: =[5]ДШИ!$Y$43 -> 4.4 | AK16: =[5]ДШИ!$AR$43 -> 24978.3 | AL16: =[5]ДШИ!$BJ$43 -> 1824.8 | AM16: =[5]ДШИ!$CC$43 -> 913.5 | AN16: =[5]ДШИ!$CU$43 -> 24543.4 | AO16: =[5]ДШИ!$EE$43 -> 434.9 | AP16: =[5]ДШИ!$EW$43 -> 906.2 | AQ16: =[5]ДШИ!$GG$43 -> 7.3 | AR16: =[5]ДШИ!$GY$43 -> 37984.033 | AS16: =AR16/AS3*100 -> 100.33291 | AT16: =[5]ДШИ!$S$43 -> 0 | AU16: =[5]ДШИ!$AK$43 -> 0 | AV16: =[5]ДШИ!$BD$43 -> 0 | AW16: =[5]ДШИ!$BV$43 -> 0 | AX16: =[5]ДШИ!$CO$43 -> 0 | AY16: =[5]ДШИ!$DG$43 -> 0 | AZ16: =[5]ДШИ!$EQ$43 -> 0 | BA16: =[5]ДШИ!$FI$43 -> 0 | BB16: =[5]ДШИ!$GS$43 -> 0 | BC16: =[5]ДШИ!$HG$43 -> #DIV/0! | BD16: =[5]ДШИ!$U$43 -> 26 | BE16: =[5]ДШИ!$AM$43 -> 2.8 | BF16: =[5]ДШИ!$BF$43 -> 8851.8 | BG16: =[5]ДШИ!$BX$43 -> 986.2 | BH16: =[5]ДШИ!$CQ$43 -> 603.2 | BI16: =[5]ДШИ!$DI$43 -> 8761.2 | BJ16: =[5]ДШИ!$ES$43 -> 90.6 | BK16: =[5]ДШИ!$FK$43 -> 596.5 | BL16: =[5]ДШИ!$GU$43 -> 6.7 | BM16: =[5]ДШИ!$HH$43 -> 28371.154
E17: =E16-E14 -> 0 | F17: =F16-F14 -> 0 | G17: =G16-G14 -> 0 | H17: =H16-H14 -> 0 | I17: =I16-I14 -> 0 | J17: =J16-J14 -> 0 | K17: =K16-K14 -> 0 | L17: =L16-L14 -> 0 | ... BM17: =BM16-BM14 -> 0
A18: Муниципальное образование
A19: Александровский район | B19: 46634572 | C19: 85.41.2 | D19: Муниципальное бюджетное учреждение дополнительного образования "Детская школа искусств" | E19: =O19+Y19+AI19+AT19+BD19 -> 9 | F19: =P19+Z19+AJ19+AU19+BE19 -> 0 | G19: =J19+K19 -> 6108.9 | H19: =R19+AB19+AL19+AW19+BG19 -> 516.1 | I19: =S19+AC19+AM19+AX19+BH19 -> 0 | J19: =T19+AD19+AN19+AY19+BI19 -> 6088.6 | K19: =U19+AE19+AO19+AZ19+BJ19 -> 20.3 | L19: =V19+AF19+AP19+BA19+BK19 -> 0 | M19: =W19+AG19+AQ19+BB19+BL19 -> 0 | N19: =G19/E19/12*1000 -> 56563.889 | O19: =[5]ДШИ!$E$12 -> 1 | Q19: =[5]ДШИ!$AP$12 -> 716.2 | R19: =[5]ДШИ!$BH$12 -> 280.7 | T19: =[5]ДШИ!$CS$12 -> 716.2 | X19: =Q19/O19/12*1000 -> 59683.333 | AH19: =AA19/Y19/12*1000 -> #DIV/0! | AI19: =[5]ДШИ!$G$12 -> 8 | AK19: =[5]ДШИ!$AR$12 -> 5392.7 | AL19: =[5]ДШИ!$BJ$12 -> 235.4 | AN19: =[5]ДШИ!$CU$12 -> 5372.4 | AO19: =[5]ДШИ!$EE$12 -> 20.3 | AR19: =AK19/AI19/12*1000 -> 56173.958 | AS19: =AR19/AS3*100 -> 148.38068 | BC19: =AV19/AT19/12*1000 -> #DIV/0! | BM19: =BF19/BD19/12*1000 -> #DIV/0!
A20: Каргасокский район | B20: 46631622 | C20: 85.41.2 | D20: Муниципальное бюджетное учреждение дополнительного образования "Каргасокская детская школа искусств" | E20: =O20+Y20+AI20+AT20+BD20 -> 21.1 | F20: =P20+Z20+AJ20+AU20+BE20 -> 0.5 | G20: =J20+K20 -> 11325.1 | H20: =R20+AB20+AL20+AW20+BG20 -> 595.3 | I20: =S20+AC20+AM20+AX20+BH20 -> 119.4 | J20: =T20+AD20+AN20+AY20+BI20 -> 11249.9 | K20: =U20+AE20+AO20+AZ20+BJ20 -> 75.2 | L20: =V20+AF20+AP20+BA20+BK20 -> 119.4 | M20: =W20+AG20+AQ20+BB20+BL20 -> 0 | N20: =G20/E20/12*1000 -> 44727.883 | O20: =[5]ДШИ!$E$16 -> 1 | Q20: =[5]ДШИ!$AP$16 -> 901.8 | R20: =[5]ДШИ!$BH$16 -> 280.5 | T20: =[5]ДШИ!$CS$16 -> 901.8 | X20: =Q20/O20/12*1000 -> 75150 | Y20: =[5]ДШИ!$F$16 -> 1 | AA20: =[5]ДШИ!$AQ$16 -> 856.3 | AB20: =[5]ДШИ!$BI$16 -> 314.8 | AD20: =[5]ДШИ!$CT$16 -> 856.3 | AH20: =AA20/Y20/12*1000 -> 71358.333 | AI20: =[5]ДШИ!$G$16 -> 14.4 | AJ20: =[5]ДШИ!$Y$16 -> 0.3 | AK20: =[5]ДШИ!$AR$16 -> 8182.4 | AM20: =[5]ДШИ!$CC$16 -> 62.4 | AN20: =[5]ДШИ!$CU$16 -> 8107.2 | AO20: =[5]ДШИ!$EE$16 -> 75.2 | AP20: =[5]ДШИ!$EW$16 -> 62.4 | AR20: =AK20/AI20/12*1000 -> 47351.852 | AS20: =AR20/$AS$3*100 -> 125.07753 | AU20: =[5]ДШИ!$AK$16 -> 0.2 | AX20: =[5]ДШИ!$CO$16 -> 57 | BA20: =[5]ДШИ!$FI$16 -> 57 | BC20: =AV20/AT20/12*1000 -> #DIV/0! | BD20: =[5]ДШИ!$U$16 -> 4.7 | BF20: =[5]ДШИ!$BF$16 -> 1384.6 | BI20: =[5]ДШИ!$DI$16 -> 1384.6 | BM20: =BF20/BD20/12*1000 -> 24549.645
A21: Кожевниковский район | B21: 36308989 | C21: 85.41 | D21: Муниципальное казенное учреждение дополнительного образования «Кожевниковская детская школа искусств» | E21: =O21+Y21+AI21+AT21+BD21 -> 28.6 | F21: =P21+Z21+AJ21+AU21+BE21 -> 0.4 | G21: =J21+K21 -> 10718.2 | H21: =R21+AB21+AL21+AW21+BG21 -> 650.1 | I21: =S21+AC21+AM21+AX21+BH21 -> 77.2 | J21: =T21+AD21+AN21+AY21+BI21 -> 10718.2 | K21: =U21+AE21+AO21+AZ21+BJ21 -> 0 | L21: =V21+AF21+AP21+BA21+BK21 -> 77.2 | M21: =W21+AG21+AQ21+BB21+BL21 -> 0 | N21: =G21/E21/12*1000 -> 31230.186 | O21: =[5]ДШИ!$E$17 -> 1 | Q21: =[5]ДШИ!$AP$17 -> 674.2 | R21: =[5]ДШИ!$BH$17 -> 259.4 | T21: =[5]ДШИ!$CS$17 -> 674.2 | X21: =Q21/O21/12*1000 -> 56183.333 | Y21: =[5]ДШИ!$F$17 -> 1.9 | AA21: =[5]ДШИ!$AQ$17 -> 646.8 | AB21: =[5]ДШИ!$BI$17 -> 123.2 | AD21: =[5]ДШИ!$CT$17 -> 646.8 | AH21: =AA21/Y21/12*1000 -> 28368.421 | AI21: =[5]ДШИ!$G$17 -> 16.9 | AJ21: =[5]ДШИ!$Y$17 -> 0.4 | AK21: =[5]ДШИ!$AR$17 -> 7695.5 | AL21: =[5]ДШИ!$BJ$17 -> 121.1 | AM21: =[5]ДШИ!$CC$17 -> 77.2 | AN21: =[5]ДШИ!$CU$17 -> 7695.5 | AP21: =[5]ДШИ!$EW$17 -> 77.2 | AR21: =AK21/AI21/12*1000 -> 37946.252 | AS21: =AR21/$AS$3*100 -> 100.23311 | BC21: =AV21/AT21/12*1000 -> #DIV/0! | BD21: =[5]ДШИ!$U$17 -> 8.8 | BF21: =[5]ДШИ!$BF$17 -> 1701.7 | BG21: =[5]ДШИ!$BX$17 -> 146.4 | BI21: =[5]ДШИ!$DI$17 -> 1701.7 | BM21: =BF21/BD21/12*1000 -> 16114.583
A22: Молчановский район | B22: 46632320 | C22: 85.41.2 | D22: Муниципальное бюджетное учреждение дополнительного образования "Молчановская детская музыкальная школа" | E22: =O22+Y22+AI22+AT22+BD22 -> 14.4 | F22: =P22+Z22+AJ22+AU22+BE22 -> 2.4 | G22: =J22+K22 -> 7446.8 | H22: =R22+AB22+AL22+AW22+BG22 -> 357.4 | I22: =S22+AC22+AM22+AX22+BH22 -> 632.8 | J22: =T22+AD22+AN22+AY22+BI22 -> 7446.8 | K22: =U22+AE22+AO22+AZ22+BJ22 -> 0 | L22: =V22+AF22+AP22+BA22+BK22 -> 632.8 | M22: =W22+AG22+AQ22+BB22+BL22 -> 0 | N22: =G22/E22/12*1000 -> 43094.907 | O22: =[5]ДШИ!$E$19 -> 1 | Q22: =[5]ДШИ!$AP$19 -> 851.9 | R22: =[5]ДШИ!$BH$19 -> 357.4 | T22: =[5]ДШИ!$CS$19 -> 851.9 | X22: =Q22/O22/12*1000 -> 70991.667 | Z22: =[5]ДШИ!$X$19 -> 0.1 | AC22: =[5]ДШИ!$CB$19 -> 26.3 | AF22: =[5]ДШИ!$EV$19 -> 26.3 | AH22: =AA22/Y22/12*1000 -> #DIV/0! | AI22: =[5]ДШИ!$G$19 -> 10 | AJ22: =[5]ДШИ!$Y$19 -> 2.2 | AK22: =[5]ДШИ!$AR$19 -> 5534.2 | AM22: =[5]ДШИ!$CC$19 -> 580.7 | AN22: =[5]ДШИ!$CU$19 -> 5534.2 | AP22: =[5]ДШИ!$EW$19 -> 580.7 | AR22: =AK22/AI22/12*1000 -> 46118.333 | AS22: =AR22/$AS$3*100 -> 121.81925 | BC22: =AV22/AT22/12*1000 -> #DIV/0! | BD22: =[5]ДШИ!$U$19 -> 3.4 | BE22: =[5]ДШИ!$AM$19 -> 0.1 | BF22: =[5]ДШИ!$BF$19 -> 1060.7 | BH22: =[5]ДШИ!$CQ$19 -> 25.8 | BI22: =[5]ДШИ!$DI$19 -> 1060.7 | BK22: =[5]ДШИ!$FK$19 -> 25.8 | BM22: =BF22/BD22/12*1000 -> 25997.549
A23: Парабельский район | B23: 36307062 | C23: 85.41.2 | D23: Муниципальное бюджетное учреждение дополнительного образования "Детская школа искусств им. Геннадия и Александра Заволокиных" | E23: =O23+Y23+AI23+AT23+BD23 -> 16.2 | F23: =P23+Z23+AJ23+AU23+BE23 -> 0.9 | G23: =J23+K23 -> 7951.7 | H23: =R23+AB23+AL23+AW23+BG23 -> 0 | I23: =S23+AC23+AM23+AX23+BH23 -> 535.6 | J23: =T23+AD23+AN23+AY23+BI23 -> 7757.6 | K23: =U23+AE23+AO23+AZ23+BJ23 -> 194.1 | L23: =V23+AF23+AP23+BA23+BK23 -> 535.6 | M23: =W23+AG23+AQ23+BB23+BL23 -> 0 | N23: =G23/E23/12*1000 -> 40903.807 | O23: =[5]ДШИ!$E$20 -> 1 | Q23: =[5]ДШИ!$AP$20 -> 582.3 | T23: =[5]ДШИ!$CS$20 -> 582.3 | X23: =Q23/O23/12*1000 -> 48525 | Y23: =[5]ДШИ!$F$20 -> 1 | AA23: =[5]ДШИ!$AQ$20 -> 454 | AD23: =[5]ДШИ!$CT$20 -> 454 | AH23: =AA23/Y23/12*1000 -> 37833.333 | AI23: =[5]ДШИ!$G$20 -> 9.2 | AJ23: =[5]ДШИ!$Y$20 -> 0.9 | AK23: =[5]ДШИ!$AR$20 -> 5372.3 | AM23: =[5]ДШИ!$CC$20 -> 535.6 | AN23: =[5]ДШИ!$CU$20 -> 5242.3 | AO23: =[5]ДШИ!$EE$20 -> 130 | AP23: =[5]ДШИ!$EW$20 -> 535.6 | AR23: =AK23/AI23/12*1000 -> 48662.138 | AS23: =AR23/$AS$3*100 -> 128.53859 | BC23: =AV23/AT23/12*1000 -> #DIV/0! | BD23: =[5]ДШИ!$U$20 -> 5 | BF23: =[5]ДШИ!$BF$20 -> 1543.1 | BI23: =[5]ДШИ!$DI$20 -> 1479 | BJ23: =[5]ДШИ!$ES$20 -> 64.1 | BM23: =BF23/BD23/12*1000 -> 25718.333
A24: Первомайский район | B24: 49394536 | C24: 85.41.2 | D24: Муниципальное автономное образовательное учреждение дополнительного образования «Первомайская детская школа искусств" | E24: =O24+Y24+AI24+AT24+BD24 -> 12.3 | F24: =P24+Z24+AJ24+AU24+BE24 -> 1 | G24: =J24+K24 -> 5743.7 | H24: =R24+AB24+AL24+AW24+BG24 -> 331.6 | I24: =S24+AC24+AM24+AX24+BH24 -> 267.8 | J24: =T24+AD24+AN24+AY24+BI24 -> 5743.7 | K24: =U24+AE24+AO24+AZ24+BJ24 -> 0 | L24: =V24+AF24+AP24+BA24+BK24 -> 267.8 | M24: =W24+AG24+AQ24+BB24+BL24 -> 0 | N24: =G24/E24/12*1000 -> 38913.957 | O24: =[5]ДШИ!$E$21 -> 1 | Q24: =[5]ДШИ!$AP$21 -> 762.4 | R24: =[5]ДШИ!$BH$21 -> 331.6 | T24: =[5]ДШИ!$CS$21 -> 762.4 | X24: =Q24/O24/12*1000 -> 63533.333 | AH24: =AA24/Y24/12*1000 -> #DIV/0! | AI24: =[5]ДШИ!$G$21 -> 8.5 | AJ24: =[5]ДШИ!$Y$21 -> 1 | AK24: =[5]ДШИ!$AR$21 -> 4270.7 | AM24: =[5]ДШИ!$CC$21 -> 267.8 | AN24: =[5]ДШИ!$CU$21 -> 4270.7 | AP24: =[5]ДШИ!$EW$21 -> 267.8 | AR24: =AK24/AI24/12*1000 -> 41869.608 | AS24: =AR24/$AS$3*100 -> 110.59646 | BC24: =AV24/AT24/12*1000 -> #DIV/0! | BD24: =[5]ДШИ!$U$21 -> 2.8 | BF24: =[5]ДШИ!$BF$21 -> 710.6 | BI24: =[5]ДШИ!$DI$21 -> 710.6 | BM24: =BF24/BD24/12*1000 -> 21148.81
A25: Томский район | E25: =O25+Y25+AI25+AT25+BD25 -> 58.5 | F25: =P25+Z25+AJ25+AU25+BE25 -> 19.1 | G25: =J25+K25 -> 21636.7 | H25: =R25+AB25+AL25+AW25+BG25 -> 1738.2 | I25: =S25+AC25+AM25+AX25+BH25 -> 4412.5 | J25: =T25+AD25+AN25+AY25+BI25 -> 21548.4 | K25: =U25+AE25+AO25+AZ25+BJ25 -> 88.3 | L25: =V25+AF25+AP25+BA25+BK25 -> 4341.8 | M25: =W25+AG25+AQ25+BB25+BL25 -> 70.7 | N25: =G25/E25/12*1000 -> 30821.51 | O25: =O26+O27+O28+O29 -> 4 | P25: =P26+P27+P28+P29 -> 0 | Q25: =Q26+Q27+Q28+Q29 -> 2126.5 | R25: =R26+R27+R28+R29 -> 733.8 | S25: =S26+S27+S28+S29 -> 0 | T25: =T26+T27+T28+T29 -> 2126.5 | U25: =U26+U27+U28+U29 -> 0 | V25: =V26+V27+V28+V29 -> 0 | W25: =W26+W27+W28+W29 -> 0 | X25: =Q25/O25/12*1000 -> 44302.083 | Y25: =Y26+Y27+Y28+Y29 -> 2.9 | Z25: =Z26+Z27+Z28+Z29 -> 0 | AA25: =AA26+AA27+AA28+AA29 -> 1543 | AB25: =AB26+AB27+AB28+AB29 -> 544.4 | AC25: =AC26+AC27+AC28+AC29 -> 0 | AD25: =AD26+AD27+AD28+AD29 -> 1543 | AE25: =AE26+AE27+AE28+AE29 -> 0 | AF25: =AF26+AF27+AF28+AF29 -> 0 | AG25: =AG26+AG27+AG28+AG29 -> 0 | AH25: =AA25/Y25/12*1000 -> 44339.08 | AI25: =AI26+AI27+AI28+AI29 -> 35.6 | AJ25: =AJ26+AJ27+AJ28+AJ29 -> 15.6 | AK25: =AK26+AK27+AK28+AK29 -> 14541.9 | AL25: =AL26+AL27+AL28+AL29 -> 65.2 | AM25: =AM26+AM27+AM28+AM29 -> 3704.5 | AN25: =AN26+AN27+AN28+AN29 -> 14488 | AO25: =AO26+AO27+AO28+AO29 -> 53.9 | AP25: =AP26+AP27+AP28+AP29 -> 3633.8 | AQ25: =AQ26+AQ27+AQ28+AQ29 -> 70.7 | AR25: =AK25/AI25/12*1000 -> 34040.028 | AS25: =AR25/$AS$3*100 -> 89.91502 | AT25: =AT26+AT27+AT28+AT29 -> 0 | AU25: =AU26+AU27+AU28+AU29 -> 0 | AV25: =AV26+AV27+AV28+AV29 -> 0 | AW25: =AW26+AW27+AW28+AW29 -> 0 | AX25: =AX26+AX27+AX28+AX29 -> 0 | AY25: =AY26+AY27+AY28+AY29 -> 0 | AZ25: =AZ26+AZ27+AZ28+AZ29 -> 0 | BA25: =BA26+BA27+BA28+BA29 -> 0 | BB25: =BB26+BB27+BB28+BB29 -> 0 | BC25: =AV25/AT25/12*1000 -> #DIV/0! | BD25: =BD26+BD27+BD28+BD29 -> 16 | BE25: =BE26+BE27+BE28+BE29 -> 3.5 | BF25: =BF26+BF27+BF28+BF29 -> 3425.3 | BG25: =BG26+BG27+BG28+BG29 -> 394.8 | BH25: =BH26+BH27+BH28+BH29 -> 708 | BI25: =BI26+BI27+BI28+BI29 -> 3390.9 | BJ25: =BJ26+BJ27+BJ28+BJ29 -> 34.4 | BK25: =BK26+BK27+BK28+BK29 -> 708 | BL25: =BL26+BL27+BL28+BL29 -> 0 | BM25: =BF25/BD25/12*1000 -> 17840.104
B26: 44233780 | C26: 85.41 | D26: Муниципальное бюджетное образовательное учреждение дополнительного образования "Детская школа искусств д.Кисловка" | E26: =O26+Y26+AI26+AT26+BD26 -> 9.2 | F26: =P26+Z26+AJ26+AU26+BE26 -> 7.6 | G26: =J26+K26 -> 3580.3 | H26: =R26+AB26+AL26+AW26+BG26 -> 320.1 | I26: =S26+AC26+AM26+AX26+BH26 -> 1508 | J26: =T26+AD26+AN26+AY26+BI26 -> 3492 | K26: =U26+AE26+AO26+AZ26+BJ26 -> 88.3 | L26: =V26+AF26+AP26+BA26+BK26 -> 1437.3 | M26: =W26+AG26+AQ26+BB26+BL26 -> 70.7 | N26: =G26/E26/12*1000 -> 32430.254 | O26: 1 | Q26: 697.5 | R26: 294.4 | T26: 697.5 | X26: =Q26/O26/12*1000 -> 58125 | AH26: =AA26/Y26/12*1000 -> #DIV/0! | AI26: 5.7 | AJ26: 5.1 | AK26: 2323.7 | AL26: 25.7 | AM26: 1061.2 | AN26: 2269.8 | AO26: 53.9 | AP26: 990.5 | AQ26: 70.7 | AR26: =AK26/AI26/12*1000 -> 33972.222 | AS26: =AR26/$AS$3*100 -> 89.735914 | BC26: =AV26/AT26/12*1000 -> #DIV/0! | BD26: 2.5 | BE26: 2.5 | BF26: 559.1 | BH26: 446.8 | BI26: 524.7 | BJ26: 34.4 | BK26: 446.8 | BM26: =BF26/BD26/12*1000 -> 18636.667
B27: 44235684 | C27: 85.41 | D27: Муниципальное бюджетное образовательное учреждение дополнительного образования детей "Детская школа искуств п.Зональная Станция" | E27: =O27+Y27+AI27+AT27+BD27 -> 12.3 | F27: =P27+Z27+AJ27+AU27+BE27 -> 5.2 | G27: =J27+K27 -> 4663.8 | H27: =R27+AB27+AL27+AW27+BG27 -> 388.2 | I27: =S27+AC27+AM27+AX27+BH27 -> 1004.8 | J27: =T27+AD27+AN27+AY27+BI27 -> 4663.8 | K27: =U27+AE27+AO27+AZ27+BJ27 -> 0 | L27: =V27+AF27+AP27+BA27+BK27 -> 1004.8 | M27: =W27+AG27+AQ27+BB27+BL27 -> 0 | N27: =G27/E27/12*1000 -> 31597.561 | O27: 1 | Q27: 459.2 | R27: 67.5 | T27: 459.2 | X27: =Q27/O27/12*1000 -> 38266.667 | Y27: 0.6 | AA27: 332 | AB27: 163 | AD27: 332 | AH27: =AA27/Y27/12*1000 -> 46111.111 | AI27: 6.7 | AJ27: 4.7 | AK27: 2999.2 | AL27: 39.5 | AM27: 952.5 | AN27: 2999.2 | AP27: 952.5 | AR27: =AK27/AI27/12*1000 -> 37303.483 | AS27: =AR27/$AS$3*100 -> 98.53527 | BC27: =AV27/AT27/12*1000 -> #DIV/0! | BD27: 4 | BE27: 0.5 | BF27: 873.4 | BG27: 118.2 | BH27: 52.3 | BI27: 873.4 | BK27: 52.3 | BM27: =BF27/BD27/12*1000 -> 18195.833
B28: 44236407 | C28: 85.41 | D28: Муниципальное бюджетное образовательное учреждение дополнительного образования "Детская школа искусств п.Мирный" | E28: =O28+Y28+AI28+AT28+BD28 -> 14.8 | F28: =P28+Z28+AJ28+AU28+BE28 -> 1.4 | G28: =J28+K28 -> 5638 | H28: =R28+AB28+AL28+AW28+BG28 -> 437.6 | I28: =S28+AC28+AM28+AX28+BH28 -> 242 | J28: =T28+AD28+AN28+AY28+BI28 -> 5638 | K28: =U28+AE28+AO28+AZ28+BJ28 -> 0 | L28: =V28+AF28+AP28+BA28+BK28 -> 242 | M28: =W28+AG28+AQ28+BB28+BL28 -> 0 | N28: =G28/E28/12*1000 -> 31745.495 | O28: 1 | Q28: 237.3 | R28: 87.6 | T28: 237.3 | X28: =Q28/O28/12*1000 -> 19775 | Y28: 0.8 | AA28: 502 | AB28: 203.8 | AD28: 502 | AH28: =AA28/Y28/12*1000 -> 52291.667 | AI28: 11 | AJ28: 1.4 | AK28: 4471.5 | AM28: 242 | AN28: 4471.5 | AP28: 242 | AR28: =AK28/AI28/12*1000 -> 33875 | AS28: =AR28/$AS$3*100 -> 89.479106 | BC28: =AV28/AT28/12*1000 -> #DIV/0! | BD28: 2 | BF28: 427.2 | BG28: 146.2 | BI28: 427.2 | BM28: =BF28/BD28/12*1000 -> 17800
B29: 79190417 | C29: 85.41 | D29: Муниципальное бюджетное образовательное учреждение дополнительного образования "Детская школа искусств п.Молодежный" | E29: =O29+Y29+AI29+AT29+BD29 -> 22.2 | F29: =P29+Z29+AJ29+AU29+BE29 -> 4.9 | G29: =J29+K29 -> 7754.6 | H29: =R29+AB29+AL29+AW29+BG29 -> 592.3 | I29: =S29+AC29+AM29+AX29+BH29 -> 1657.7 | J29: =T29+AD29+AN29+AY29+BI29 -> 7754.6 | K29: =U29+AE29+AO29+AZ29+BJ29 -> 0 | L29: =V29+AF29+AP29+BA29+BK29 -> 1657.7 | M29: =W29+AG29+AQ29+BB29+BL29 -> 0 | N29: =G29/E29/12*1000 -> 29108.859 | O29: 1 | Q29: 732.5 | R29: 284.3 | T29: 732.5 | X29: =Q29/O29/12*1000 -> 61041.667 | Y29: 1.5 | AA29: 709 | AB29: 177.6 | AD29: 709 | AH29: =AA29/Y29/12*1000 -> 39388.889 | AI29: 12.2 | AJ29: 4.4 | AK29: 4747.5 | AM29: 1448.8 | AN29: 4747.5 | AP29: 1448.8 | AR29: =AK29/AI29/12*1000 -> 32428.279 | AS29: =AR29/$AS$3*100 -> 85.657665 | BC29: =AV29/AT29/12*1000 -> #DIV/0! | BD29: 7.5 | BE29: 0.5 | BF29: 1565.6 | BG29: 130.4 | BH29: 208.9 | BI29: 1565.6 | BK29: 208.9 | BM29: =BF29/BD29/12*1000 -> 17395.556
A30: Чаинский район | E30: =O30+Y30+AI30+AT30+BD30 -> 12.8 | F30: =P30+Z30+AJ30+AU30+BE30 -> 0 | G30: =J30+K30 -> 7478.7 | H30: =R30+AB30+AL30+AW30+BG30 -> 499 | I30: =S30+AC30+AM30+AX30+BH30 -> 0 | J30: =T30+AD30+AN30+AY30+BI30 -> 7478.7 | K30: =U30+AE30+AO30+AZ30+BJ30 -> 0 | L30: =V30+AF30+AP30+BA30+BK30 -> 0 | M30: =W30+AG30+AQ30+BB30+BL30 -> 0 | N30: =G30/E30/12*1000 -> 48689.453 | O30: =O31+O32 -> 2 | P30: =P31+P32 -> 0 | Q30: =Q31+Q32 -> 1519.3 | R30: =R31+R32 -> 499 | S30: =S31+S32 -> 0 | T30: =T31+T32 -> 1519.3 | U30: =U31+U32 -> 0 | V30: =V31+V32 -> 0 | W30: =W31+W32 -> 0 | X30: =Q30/O30/12*1000 -> 63304.167 | Y30: =Y31+Y32 -> 0 | Z30: =Z31+Z32 -> 0 | AA30: =AA31+AA32 -> 0 | AB30: =AB31+AB32 -> 0 | AC30: =AC31+AC32 -> 0 | AD30: =AD31+AD32 -> 0 | AE30: =AE31+AE32 -> 0 | AF30: =AF31+AF32 -> 0 | AG30: =AG31+AG32 -> 0 | AH30: =AA30/Y30/12*1000 -> #DIV/0! | AI30: =AI31+AI32 -> 9 | AJ30: =AJ31+AJ32 -> 0 | AK30: =AK31+AK32 -> 5437.6 | AL30: =AL31+AL32 -> 0 | AM30: =AM31+AM32 -> 0 | AN30: =AN31+AN32 -> 5437.6 | AO30: =AO31+AO32 -> 0 | AP30: =AP31+AP32 -> 0 | AQ30: =AQ31+AQ32 -> 0 | AR30: =AK30/AI30/12*1000 -> 50348.148 | AS30: =AR30/$AS$3*100 -> 132.9921 | AT30: =AT31+AT32 -> 0 | AU30: =AU31+AU32 -> 0 | AV30: =AV31+AV32 -> 0 | AW30: =AW31+AW32 -> 0 | AX30: =AX31+AX32 -> 0 | AY30: =AY31+AY32 -> 0 | AZ30: =AZ31+AZ32 -> 0 | BA30: =BA31+BA32 -> 0 | BB30: =BB31+BB32 -> 0 | BC30: =AV30/AT30/12*1000 -> #DIV/0! | BD30: =BD31+BD32 -> 1.8 | BE30: =BE31+BE32 -> 0 | BF30: =BF31+BF32 -> 521.8 | BG30: =BG31+BG32 -> 0 | BH30: =BH31+BH32 -> 0 | BI30: =BI31+BI32 -> 521.8 | BJ30: =BJ31+BJ32 -> 0 | BK30: =BK31+BK32 -> 0 | BL30: =BL31+BL32 -> 0 | BM30: =BF30/BD30/12*1000 -> 24157.407
B31: 46631763 | C31: 85.41.2 | D31: Муниципальное бюджетное образовательное учреждение дополнительного образования "Подгорнская детская музыкальная школа" | E31: =O31+Y31+AI31+AT31+BD31 -> 6.8 | F31: =P31+Z31+AJ31+AU31+BE31 -> 0 | G31: =J31+K31 -> 4116.5 | H31: =R31+AB31+AL31+AW31+BG31 -> 284.8 | I31: =S31+AC31+AM31+AX31+BH31 -> 0 | J31: =T31+AD31+AN31+AY31+BI31 -> 4116.5 | K31: =U31+AE31+AO31+AZ31+BJ31 -> 0 | L31: =V31+AF31+AP31+BA31+BK31 -> 0 | M31: =W31+AG31+AQ31+BB31+BL31 -> 0 | N31: =G31/E31/12*1000 -> 50447.304 | O31: 1 | Q31: 795.6 | R31: 284.8 | T31: 795.6 | X31: =Q31/O31/12*1000 -> 66300 | AH31: =AA31/Y31/12*1000 -> #DIV/0! | AI31: 5 | AK31: 3091.5 | AN31: 3091.5 | AR31: =AK31/AI31/12*1000 -> 51525 | AS31: =AR31/$AS$3*100 -> 136.10069 | BC31: =AV31/AT31/12*1000 -> #DIV/0! | BD31: 0.8 | BF31: 229.4 | BI31: 229.4 | BM31: =BF31/BD31/12*1000 -> 23895.833
B32: 46631786 | C32: 85.41.2 | D32: Муниципальное бюджетное образовательное учреждение дополнительного образования "Подгорнская детская художественная школа" | E32: =O32+Y32+AI32+AT32+BD32 -> 6 | F32: =P32+Z32+AJ32+AU32+BE32 -> 0 | G32: =J32+K32 -> 3362.2 | H32: =R32+AB32+AL32+AW32+BG32 -> 214.2 | I32: =S32+AC32+AM32+AX32+BH32 -> 0 | J32: =T32+AD32+AN32+AY32+BI32 -> 3362.2 | K32: =U32+AE32+AO32+AZ32+BJ32 -> 0 | L32: =V32+AF32+AP32+BA32+BK32 -> 0 | M32: =W32+AG32+AQ32+BB32+BL32 -> 0 | N32: =G32/E32/12*1000 -> 46697.222 | O32: 1 | Q32: 723.7 | R32: 214.2 | T32: 723.7 | X32: =Q32/O32/12*1000 -> 60308.333 | AH32: =AA32/Y32/12*1000 -> #DIV/0! | AI32: 4 | AK32: 2346.1 | AN32: 2346.1 | AR32: =AK32/AI32/12*1000 -> 48877.083 | AS32: =AR32/$AS$3*100 -> 129.10635 | BC32: =AV32/AT32/12*1000 -> #DIV/0! | BD32: 1 | BF32: 292.4 | BI32: 292.4 | BM32: =BF32/BD32/12*1000 -> 24366.667
A33: г. Томск | E33: =O33+Y33+AI33+AT33+BD33 -> 327.3 | F33: =P33+Z33+AJ33+AU33+BE33 -> 46.8 | G33: =J33+K33 -> 129802.2 | H33: =R33+AB33+AL33+AW33+BG33 -> 18113.2 | I33: =S33+AC33+AM33+AX33+BH33 -> 10880.8 | J33: =T33+AD33+AN33+AY33+BI33 -> 114221.5 | K33: =U33+AE33+AO33+AZ33+BJ33 -> 15580.7 | L33: =V33+AF33+AP33+BA33+BK33 -> 10325.4 | M33: =W33+AG33+AQ33+BB33+BL33 -> 555.4 | N33: =G33/E33/12*1000 -> 33048.732 | O33: =O34+O35+O36+O37+O38+O39+O40+O41 -> 8 | P33: =P34+P35+P36+P37+P38+P39+P40+P41 -> 0 | Q33: =Q34+Q35+Q36+Q37+Q38+Q39+Q40+Q41 -> 9955.8 | R33: =R34+R35+R36+R37+R38+R39+R40+R41 -> 1910.4 | S33: =S34+S35+S36+S37+S38+S39+S40+S41 -> 0 | T33: =T34+T35+T36+T37+T38+T39+T40+T41 -> 8740.8 | U33: =U34+U35+U36+U37+U38+U39+U40+U41 -> 1215 | V33: =V34+V35+V36+V37+V38+V39+V40+V41 -> 0 | W33: =W34+W35+W36+W37+W38+W39+W40+W41 -> 0 | X33: =Q33/O33/12*1000 -> 103706.25 | Y33: =Y34+Y35+Y36+Y37+Y38+Y39+Y40+Y41 -> 15 | Z33: =Z34+Z35+Z36+Z37+Z38+Z39+Z40+Z41 -> 0 | AA33: =AA34+AA35+AA36+AA37+AA38+AA39+AA40+AA41 -> 7195.2 | AB33: =AB34+AB35+AB36+AB37+AB38+AB39+AB40+AB41 -> 714.4 | AC33: =AC34+AC35+AC36+AC37+AC38+AC39+AC40+AC41 -> 0 | AD33: =AD34+AD35+AD36+AD37+AD38+AD39+AD40+AD41 -> 6037.6 | AE33: =AE34+AE35+AE36+AE37+AE38+AE39+AE40+AE41 -> 1157.6 | AF33: =AF34+AF35+AF36+AF37+AF38+AF39+AF40+AF41 -> 0 | AG33: =AG34+AG35+AG36+AG37+AG38+AG39+AG40+AG41 -> 0 | AH33: =AA33/Y33/12*1000 -> 39973.333 | AI33: =AI34+AI35+AI36+AI37+AI38+AI39+AI40+AI41 -> 224 | AJ33: =AJ34+AJ35+AJ36+AJ37+AJ38+AJ39+AJ40+AJ41 -> 29.2 | AK33: =AK34+AK35+AK36+AK37+AK38+AK39+AK40+AK41 -> 93452.5 | AL33: =AL34+AL35+AL36+AL37+AL38+AL39+AL40+AL41 -> 13640.8 | AM33: =AM34+AM35+AM36+AM37+AM38+AM39+AM40+AM41 -> 6943.9 | AN33: =AN34+AN35+AN36+AN37+AN38+AN39+AN40+AN41 -> 82964 | AO33: =AO34+AO35+AO36+AO37+AO38+AO39+AO40+AO41 -> 10488.5 | AP33: =AP34+AP35+AP36+AP37+AP38+AP39+AP40+AP41 -> 6627.1 | AQ33: =AQ34+AQ35+AQ36+AQ37+AQ38+AQ39+AQ40+AQ41 -> 316.8 | AR33: =AK33/AI33/12*1000 -> 34766.555 | AS33: =AR33/$AS$3*100 -> 91.834104 | AT33: =AT34+AT35+AT36+AT37+AT38+AT39+AT40+AT41 -> 7.5 | AU33: =AU34+AU35+AU36+AU37+AU38+AU39+AU40+AU41 -> 1.4 | AV33: =AV34+AV35+AV36+AV37+AV38+AV39+AV40+AV41 -> 1719.3 | AW33: =AW34+AW35+AW36+AW37+AW38+AW39+AW40+AW41 -> 73.9 | AX33: =AX34+AX35+AX36+AX37+AX38+AX39+AX40+AX41 -> 213.3 | AY33: =AY34+AY35+AY36+AY37+AY38+AY39+AY40+AY41 -> 1545.7 | AZ33: =AZ34+AZ35+AZ36+AZ37+AZ38+AZ39+AZ40+AZ41 -> 173.6 | BA33: =BA34+BA35+BA36+BA37+BA38+BA39+BA40+BA41 -> 213.3 | BB33: =BB34+BB35+BB36+BB37+BB38+BB39+BB40+BB41 -> 0 | BC33: =AV33/AT33/12*1000 -> 19103.333 | BD33: =BD34+BD35+BD36+BD37+BD38+BD39+BD40+BD41 -> 72.8 | BE33: =BE34+BE35+BE36+BE37+BE38+BE39+BE40+BE41 -> 16.2 | BF33: =BF34+BF35+BF36+BF37+BF38+BF39+BF40+BF41 -> 17479.4 | BG33: =BG34+BG35+BG36+BG37+BG38+BG39+BG40+BG41 -> 1773.7 | BH33: =BH34+BH35+BH36+BH37+BH38+BH39+BH40+BH41 -> 3723.6 | BI33: =BI34+BI35+BI36+BI37+BI38+BI39+BI40+BI41 -> 14933.4 | BJ33: =BJ34+BJ35+BJ36+BJ37+BJ38+BJ39+BJ40+BJ41 -> 2546 | BK33: =BK34+BK35+BK36+BK37+BK38+BK39+BK40+BK41 -> 3485 | BL33: =BL34+BL35+BL36+BL37+BL38+BL39+BL40+BL41 -> 238.6 | BM33: =BF33/BD33/12*1000 -> 20008.471
B34: 34034915 | C34: 85.41 | D34: Муниципальное автономное образовательное учреждение дополнительного образования «Детская художественная школа №1» Города Томска | E34: =O34+Y34+AI34+AT34+BD34 -> 30 | F34: =P34+Z34+AJ34+AU34+BE34 -> 1.2 | G34: =J34+K34 -> 13893 | H34: =R34+AB34+AL34+AW34+BG34 -> 610.2 | I34: =S34+AC34+AM34+AX34+BH34 -> 299.3 | J34: =T34+AD34+AN34+AY34+BI34 -> 7669 | K34: =U34+AE34+AO34+AZ34+BJ34 -> 6224 | L34: =V34+AF34+AP34+BA34+BK34 -> 207 | M34: =W34+AG34+AQ34+BB34+BL34 -> 92.3 | N34: =G34/E34/12*1000 -> 38591.667 | O34: 1 | Q34: 1240.6 | T34: 956.7 | U34: 283.9 | X34: =Q34/O34/12*1000 -> 103383.33 | Y34: 3 | AA34: 1096.7 | AD34: 661.6 | AE34: 435.1 | AH34: =AA34/Y34/12*1000 -> 30463.889 | AI34: 15.8 | AK34: 8753.5 | AL34: 600.9 | AN34: 4386.2 | AO34: 4367.3 | AR34: =AK34/AI34/12*1000 -> 46168.249 | AS34: =AR34/$AS$3*100 -> 121.9511 | AT34: 1 | AV34: 220.2 | AY34: 110.8 | AZ34: 109.4 | BC34: =AV34/AT34/12*1000 -> 18350 | BD34: 9.2 | BE34: 1.2 | BF34: 2582 | BG34: 9.3 | BH34: 299.3 | BI34: 1553.7 | BJ34: 1028.3 | BK34: 207 | BL34: 92.3 | BM34: =BF34/BD34/12*1000 -> 23387.681
B35: 34035085 | C35: 85.41 | D35: Муниципальное автономное образовательное учреждение дополнительного образования «Детская художественная школа №2» Города Томска | E35: =O35+Y35+AI35+AT35+BD35 -> 30.5 | F35: =P35+Z35+AJ35+AU35+BE35 -> 3 | G35: =J35+K35 -> 12663.6 | H35: =R35+AB35+AL35+AW35+BG35 -> 920.3 | I35: =S35+AC35+AM35+AX35+BH35 -> 663.1 | J35: =T35+AD35+AN35+AY35+BI35 -> 7667.9 | K35: =U35+AE35+AO35+AZ35+BJ35 -> 4995.7 | L35: =V35+AF35+AP35+BA35+BK35 -> 477 | M35: =W35+AG35+AQ35+BB35+BL35 -> 186.1 | N35: =G35/E35/12*1000 -> 34600 | O35: 1 | Q35: 1584 | R35: 485.6 | T35: 1163.7 | U35: 420.3 | X35: =Q35/O35/12*1000 -> 132000 | Y35: 2 | AA35: 1151 | AD35: 660.5 | AE35: 490.5 | AH35: =AA35/Y35/12*1000 -> 47958.333 | AI35: 17.2 | AJ35: 0.6 | AK35: 7649.6 | AL35: 402.3 | AM35: 203.5 | AN35: 4474.8 | AO35: 3174.8 | AP35: 143.9 | AQ35: 59.6 | AR35: =AK35/AI35/12*1000 -> 37062.016 | AS35: =AR35/$AS$3*100 -> 97.897447 | BC35: =AV35/AT35/12*1000 -> #DIV/0! | BD35: 10.3 | BE35: 2.4 | BF35: 2279 | BG35: 32.4 | BH35: 459.6 | BI35: 1368.9 | BJ35: 910.1 | BK35: 333.1 | BL35: 126.5 | BM35: =BF35/BD35/12*1000 -> 18438.511
B36: 36280558 | C36: 85.41.2 | D36: Муниципальное бюджетное образовательное учреждение дополнительного образования «Детская музыкальная школа № 4» Города Томска | E36: =O36+Y36+AI36+AT36+BD36 -> 34.7 | F36: =P36+Z36+AJ36+AU36+BE36 -> 3.1 | G36: =J36+K36 -> 13303.3 | H36: =R36+AB36+AL36+AW36+BG36 -> 1754.3 | I36: =S36+AC36+AM36+AX36+BH36 -> 712.1 | J36: =T36+AD36+AN36+AY36+BI36 -> 13146 | K36: =U36+AE36+AO36+AZ36+BJ36 -> 157.3 | L36: =V36+AF36+AP36+BA36+BK36 -> 710.1 | M36: =W36+AG36+AQ36+BB36+BL36 -> 2 | N36: =G36/E36/12*1000 -> 31948.367 | O36: 1 | Q36: 1182.7 | R36: 304.9 | T36: 1164.8 | U36: 17.9 | X36: =Q36/O36/12*1000 -> 98558.333 | Y36: 1 | AA36: 480.4 | AB36: 7 | AD36: 469.2 | AE36: 11.2 | AH36: =AA36/Y36/12*1000 -> 40033.333 | AI36: 26.7 | AJ36: 1.6 | AK36: 10307.9 | AL36: 1231.6 | AM36: 344 | AN36: 10207.2 | AO36: 100.7 | AP36: 342 | AQ36: 2 | AR36: =AK36/AI36/12*1000 -> 32171.973 | AS36: =AR36/$AS$3*100 -> 84.980645 | BC36: =AV36/AT36/12*1000 -> #DIV/0! | BD36: 6 | BE36: 1.5 | BF36: 1332.3 | BG36: 210.8 | BH36: 368.1 | BI36: 1304.8 | BJ36: 27.5 | BK36: 368.1 | BM36: =BF36/BD36/12*1000 -> 18504.167
B37: 36280564 | C37: 85.41 | D37: Муниципальное автономное образовательное учреждение дополнительного образования «Детская школа искусств № 3» Города Томска | E37: =O37+Y37+AI37+AT37+BD37 -> 80.3 | F37: =P37+Z37+AJ37+AU37+BE37 -> 10.3 | G37: =J37+K37 -> 27830.1 | H37: =R37+AB37+AL37+AW37+BG37 -> 4491 | I37: =S37+AC37+AM37+AX37+BH37 -> 2034.2 | J37: =T37+AD37+AN37+AY37+BI37 -> 25634.4 | K37: =U37+AE37+AO37+AZ37+BJ37 -> 2195.7 | L37: =V37+AF37+AP37+BA37+BK37 -> 1991.2 | M37: =W37+AG37+AQ37+BB37+BL37 -> 43 | N37: =G37/E37/12*1000 -> 28881.382 | O37: 1 | Q37: 1360.5 | R37: 169.4 | T37: 1064.8 | U37: 295.7 | X37: =Q37/O37/12*1000 -> 113375 | Y37: 2 | AA37: 1183 | AB37: 293.2 | AD37: 1070.4 | AE37: 112.6 | AH37: =AA37/Y37/12*1000 -> 49291.667 | AI37: 54.1 | AJ37: 6.9 | AK37: 20281.3 | AL37: 3515.7 | AM37: 1275 | AN37: 18836.9 | AO37: 1444.4 | AP37: 1241.1 | AQ37: 33.9 | AR37: =AK37/AI37/12*1000 -> 31240.45 | AS37: =AR37/$AS$3*100 -> 82.520074 | AT37: 3 | AU37: 0.4 | AV37: 754.7 | AW37: 59.4 | AX37: 92 | AY37: 701.9 | AZ37: 52.8 | BA37: 92 | BC37: =AV37/AT37/12*1000 -> 20963.889 | BD37: 20.2 | BE37: 3 | BF37: 4250.6 | BG37: 453.3 | BH37: 667.2 | BI37: 3960.4 | BJ37: 290.2 | BK37: 658.1 | BL37: 9.1 | BM37: =BF37/BD37/12*1000 -> 17535.479
B38: 36285461 | C38: 85.41 | D38: Муниципальное бюджетное образовательное учреждение дополнительного образования «Детская школа искусств № 1 имени А.Г.Рубинштейна» Города Томска | E38: =O38+Y38+AI38+AT38+BD38 -> 55.1 | F38: =P38+Z38+AJ38+AU38+BE38 -> 10.1 | G38: =J38+K38 -> 22283.2 | H38: =R38+AB38+AL38+AW38+BG38 -> 3748 | I38: =S38+AC38+AM38+AX38+BH38 -> 2820.9 | J38: =T38+AD38+AN38+AY38+BI38 -> 21231.7 | K38: =U38+AE38+AO38+AZ38+BJ38 -> 1051.5 | L38: =V38+AF38+AP38+BA38+BK38 -> 2726.1 | M38: =W38+AG38+AQ38+BB38+BL38 -> 94.8 | N38: =G38/E38/12*1000 -> 33701.149 | O38: 1 | Q38: 1326.4 | R38: 323.1 | T38: 1221.3 | U38: 105.1 | X38: =Q38/O38/12*1000 -> 110533.33 | Y38: 2 | AA38: 775.4 | AD38: 753.4 | AE38: 22 | AH38: =AA38/Y38/12*1000 -> 32308.333 | AI38: 42.3 | AJ38: 8.6 | AK38: 17286.7 | AL38: 2982.4 | AM38: 2421.9 | AN38: 16537.7 | AO38: 749 | AP38: 2336.8 | AQ38: 85.1 | AR38: =AK38/AI38/12*1000 -> 34055.753 | AS38: =AR38/$AS$3*100 -> 89.956555 | AT38: 2 | AU38: 0.3 | AV38: 487.1 | AX38: 27.9 | AY38: 475.7 | AZ38: 11.4 | BA38: 27.9 | BC38: =AV38/AT38/12*1000 -> 20295.833 | BD38: 7.8 | BE38: 1.2 | BF38: 2407.6 | BG38: 442.5 | BH38: 371.1 | BI38: 2243.6 | BJ38: 164 | BK38: 361.4 | BL38: 9.7 | BM38: =BF38/BD38/12*1000 -> 25722.222
B39: 36288146 | C39: 85.41.2 | D39: Муниципальное бюджетное образовательное учреждение дополнительного образования «Детская музыкальная школа № 2» Города Томска | E39: =O39+Y39+AI39+AT39+BD39 -> 40 | F39: =P39+Z39+AJ39+AU39+BE39 -> 7 | G39: =J39+K39 -> 15593.5 | H39: =R39+AB39+AL39+AW39+BG39 -> 2992.1 | I39: =S39+AC39+AM39+AX39+BH39 -> 1585.4 | J39: =T39+AD39+AN39+AY39+BI39 -> 15246.8 | K39: =U39+AE39+AO39+AZ39+BJ39 -> 346.7 | L39: =V39+AF39+AP39+BA39+BK39 -> 1474.8 | M39: =W39+AG39+AQ39+BB39+BL39 -> 110.6 | N39: =G39/E39/12*1000 -> 32486.458 | O39: 1 | Q39: 959.2 | R39: 100.5 | T39: 923.2 | U39: 36 | X39: =Q39/O39/12*1000 -> 79933.333 | Y39: 3 | AA39: 1450.6 | AB39: 408.9 | AD39: 1384.6 | AE39: 66 | AH39: =AA39/Y39/12*1000 -> 40294.444 | AI39: 30.5 | AJ39: 5.6 | AK39: 12084.7 | AL39: 2379.3 | AM39: 1292.9 | AN39: 11918.9 | AO39: 165.8 | AP39: 1183.3 | AQ39: 109.6 | AR39: =AK39/AI39/12*1000 -> 33018.306 | AS39: =AR39/$AS$3*100 -> 87.216192 | AT39: 1 | AV39: 80.3 | AY39: 80.3 | BC39: =AV39/AT39/12*1000 -> 6691.6667 | BD39: 4.5 | BE39: 1.4 | BF39: 1018.7 | BG39: 103.4 | BH39: 292.5 | BI39: 939.8 | BJ39: 78.9 | BK39: 291.5 | BL39: 1 | BM39: =BF39/BD39/12*1000 -> 18864.815
B40: 46629223 | C40: 85.41 | D40: Муниципальное бюджетное образовательное учреждение дополнительного образования «Детская школа искусств № 5» Города Томска | E40: =O40+Y40+AI40+AT40+BD40 -> 39 | F40: =P40+Z40+AJ40+AU40+BE40 -> 8.8 | G40: =J40+K40 -> 17634 | H40: =R40+AB40+AL40+AW40+BG40 -> 2325.2 | I40: =S40+AC40+AM40+AX40+BH40 -> 2170 | J40: =T40+AD40+AN40+AY40+BI40 -> 17131.8 | K40: =U40+AE40+AO40+AZ40+BJ40 -> 502.2 | L40: =V40+AF40+AP40+BA40+BK40 -> 2145.4 | M40: =W40+AG40+AQ40+BB40+BL40 -> 24.6 | N40: =G40/E40/12*1000 -> 37679.487 | O40: 1 | Q40: 1434.4 | R40: 468.1 | T40: 1391.1 | U40: 43.3 | X40: =Q40/O40/12*1000 -> 119533.33 | Y40: 1 | AA40: 637.1 | AD40: 616.9 | AE40: 20.2 | AH40: =AA40/Y40/12*1000 -> 53091.667 | AI40: 27.4 | AJ40: 3.8 | AK40: 13066.3 | AL40: 1549.6 | AM40: 1025.7 | AN40: 12674.6 | AO40: 391.7 | AP40: 1001.1 | AQ40: 24.6 | AR40: =AK40/AI40/12*1000 -> 39739.355 | AS40: =AR40/$AS$3*100 -> 104.96951 | AT40: 0.5 | AU40: 0.4 | AV40: 177 | AW40: 14.5 | AX40: 45.9 | AY40: 177 | BA40: 45.9 | BC40: =AV40/AT40/12*1000 -> 29500 | BD40: 9.1 | BE40: 4.6 | BF40: 2319.2 | BG40: 293 | BH40: 1098.4 | BI40: 2272.2 | BJ40: 47 | BK40: 1098.4 | BM40: =BF40/BD40/12*1000 -> 21238.095
B41: 76643835 | C41: 85.41 | D41: Муниципальное бюджетное образовательное учреждение дополнительного образования «Детская школа искусств № 8» Города Томска | E41: =O41+Y41+AI41+AT41+BD41 -> 17.7 | F41: =P41+Z41+AJ41+AU41+BE41 -> 3.3 | G41: =J41+K41 -> 6601.5 | H41: =R41+AB41+AL41+AW41+BG41 -> 1272.1 | I41: =S41+AC41+AM41+AX41+BH41 -> 595.8 | J41: =T41+AD41+AN41+AY41+BI41 -> 6493.9 | K41: =U41+AE41+AO41+AZ41+BJ41 -> 107.6 | L41: =V41+AF41+AP41+BA41+BK41 -> 593.8 | M41: =W41+AG41+AQ41+BB41+BL41 -> 2 | N41: =G41/E41/12*1000 -> 31080.508 | O41: 1 | Q41: 868 | R41: 58.8 | T41: 855.2 | U41: 12.8 | X41: =Q41/O41/12*1000 -> 72333.333 | Y41: 1 | AA41: 421 | AB41: 5.3 | AD41: 421 | AH41: =AA41/Y41/12*1000 -> 35083.333 | AI41: 10 | AJ41: 2.1 | AK41: 4022.5 | AL41: 979 | AM41: 380.9 | AN41: 3927.7 | AO41: 94.8 | AP41: 378.9 | AQ41: 2 | AR41: =AK41/AI41/12*1000 -> 33520.833 | AS41: =AR41/$AS$3*100 -> 88.543593 | AU41: 0.3 | AX41: 47.5 | BA41: 47.5 | BC41: =AV41/AT41/12*1000 -> #DIV/0! | BD41: 5.7 | BE41: 0.9 | BF41: 1290 | BG41: 229 | BH41: 167.4 | BI41: 1290 | BK41: 167.4 | BM41: =BF41/BD41/12*1000 -> 18859.649
...

Sheet приложение 2 ДПО
G1: Приложение 2
G2: к письму от _____________________№___________
A4: Мониторинг целевых показателей, установленных в плане мероприятий "дорожной карте" за 2020 года
A7: Наименование МУ | B7: Планируемая среднесписочная численность отдельной категории работников государственных и муниципальных учреждений, чел. | C7: Фактическая среднесписочная численность отдельной категории работников государственных и муниципальных учреждений на отчетный период, чел. | D7: Отношение средней заработной платы работников соответствующей категории к среднемесячному доходу от трудовой деятельности по Томской области, %* | E7: Средняя заработная плата отдельной категории работников списочного состава, руб. | G7: Плановое значение средней заработной платы отдельной категории работников на год, руб. | H7: Отклонение факта за отчетный период от планового значения на год, руб.
E8: план на отчетный период** | F8: факт за отчетный период | W8: оптимизация | X8: реорганизация
A9: 1 | B9: 2 | C9: 3 | D9: 4 | E9: 5 | F9: 6 | G9: 7 | H9: 8=6-7
A10: Педагогические работники дополнительного образования детей
A11: ОГАОУ ДО
A12: ОГАОУ ДО «Асиновская ДШИ» | B12: ='[7]ФОРМА 2 2020 (черновик)'!$JR$13 -> 19 | C12: ='[5]УК расш(о)'!$F$15 -> 19 | D12: =F12/37858*100 -> 92.909515 | E12: =G12 -> 35172.281 | F12: ='[5]УК расш(о)'!$Q$15 -> 35173.684 | G12: ='[7]ФОРМА 2 2020 (черновик)'!$JS$13 -> 35172.281 | H12: =F12-G12 -> 1.4035088
A13: ОГАОУ ДО «ДШИ» Верхнекетского района | B13: ='[7]ФОРМА 2 2020 (черновик)'!$JR$14 -> 10.8 | C13: ='[5]УК расш(о)'!$F$17 -> 10 | D13: =F13/37858*100 -> 110.66133 | E13: =G13 -> 41893.556 | F13: ='[5]УК расш(о)'!$Q$17 -> 41894.167 | G13: ='[7]ФОРМА 2 2020 (черновик)'!$JS$14 -> 41893.556 | H13: =F13-G13 -> 0.61033832
A14: ОГАОУ ДО «Зырянская ДШИ» | B14: ='[7]ФОРМА 2 2020 (черновик)'!$JR$15 -> 12 | C14: ='[5]УК расш(о)'!$F$19 -> 11 | D14: =F14/37858*100 -> 92.556795 | E14: =G14 -> 35040.139 | F14: ='[5]УК расш(о)'!$Q$19 -> 35040.152 | G14: ='[7]ФОРМА 2 2020 (черновик)'!$JS$15 -> 35040.139 | H14: =F14-G14 -> 0.012626263
A15: ОГАОУ ДО «Тегульдетская ДШИ» | B15: ='[7]ФОРМА 2 2020 (черновик)'!$JR$16 -> 4 | C15: ='[5]УК расш(о)'!$F$21 -> 5 | D15: =F15/37858*100 -> 134.14162 | E15: =G15 -> 50783.021 | F15: ='[5]УК расш(о)'!$Q$21 -> 50783.333 | G15: ='[7]ФОРМА 2 2020 (черновик)'!$JS$16 -> 50783.021 | H15: =F15-G15 -> 0.3125
A16: ОГАОУ ДО «ДШИ с.Мельниково» | B16: ='[7]ФОРМА 2 2020 (черновик)'!$JR$17 -> 9.8 | C16: ='[5]УК расш(о)'!$F$23 -> 9.8 | D16: =F16/37858*100 -> 95.66495 | E16: =G16 -> 36195.85 | F16: ='[5]УК расш(о)'!$Q$23 -> 36216.837 | G16: ='[7]ФОРМА 2 2020 (черновик)'!$JS$17 -> 36195.85 | H16: =F16-G16 -> 20.986395
A17: ИТОГО ОГАОУ: | B17: =B12+B13+B14+B15+B16 -> 55.6 | C17: =C12+C13+C14+C15+C16 -> 54.8 | D17: =F17/37858*100 -> 100.33291 | E17: =(E12*B12+E13*B13+E14*B14+E15*B15+E16*B16)/B17 -> 37752.821 | F17: =(F12*C12+F13*C13+F14*C14+F15*C15+F16*C16)/C17 -> 37984.033 | G17: =(G12*B12+G13*B13+G14*B14+G15*B15+G16*B16)/B17 -> 37752.821 | H17: =F17-G17 -> 231.21225
A18: Муниципальное образование
A19: Александровский район | W19: 38.6
A20: ='[6]Итого УК расш (о)'!$C$18 -> Муниципальное бюджетное образовательное учреждение дополнительного образования детей "Детская школа искусств" | B20: ='[7]ФОРМА 2 2020 (черновик)'!$JR$19 -> 8 | C20: ='[5]УК расш(о)'!$F$26 -> 8 | D20: =F20/37858*100 -> 148.38068 | E20: =G20 -> 56173.675 | F20: ='[5]УК расш(о)'!$Q$26 -> 56173.958 | G20: ='[7]ФОРМА 2 2020 (черновик)'!$JS$19 -> 56173.675 | H20: =F20-G20 -> 0.28289811
A21: Всего по муниципальному образованию "Александровский район" | B21: =SUM(B20:B20) -> 8 | C21: =SUM(C20:C20) -> 8 | D21: =F21/37858*100 -> 148.38068 | E21: =(B20*E20)/B21 -> 56173.675 | F21: =(C20*F20)/C21 -> 56173.958 | G21: =(B20*G20)/B21 -> 56173.675 | H21: =F21-G21 -> 0.28289811
A22: Каргасокский район | W22: 132
