Workbook
Name ___xlfn_IFERROR: #N/A
Name __kat6: [1]Титул!$A$15
Name __xlfn_IFERROR: #N/A
Name _inf2007: NA()
Name _inf2008: NA()
Name _inf2009: NA()
Name _inf2010: NA()
Name _inf2011: NA()
Name _inf2012: NA()
Name _inf2013: NA()
Name _inf2014: NA()
Name _inf2015: NA()
Name _kat6: [2]Титул!$A$15
Name ColLastYearFB: NA()
Name ColLastYearFB1: NA()
Name ColThisYearFB: NA()
Name ghj: NA()
Name PeriodLastYearName: NA()
Name PeriodThisYearName: NA()
Name titul: [2]Титул!$B$3
Name zpl: NA()
Name ааа: NA()
Name АнМ: NA()
Name вв: NA()
Name График: "Диагр. 4"
Name ДПО: '[3]2002(v2)'!#REF!
Name иии: NA()
Name культура: '[3]2002(v2)'!#REF!
Name М1: NA()
Name Минздрав: NA()
Name мммммммммм: '[3]2002(v2)'!#REF!
Name Мониторинг1: NA()
Name ненужное: '[3]2002(v2)'!#REF!
Name новое: '[3]2002(v2)'!#REF!
Name новый: '[3]2002(v2)'!#REF!
Name ПОКАЗАТЕЛИ_ДОЛГОСР.ПРОГНОЗА: '[3]2002(v2)'!#REF!
Name ПОКАЗАТЕЛИ_ДОЛГОСР_ПРОГНОЗА: NA()
Name пппп: '[3]2002(v2)'!#REF!
Name пр: NA()
Name приб: NA()
Name прибвб2: NA()
Name Прогноз97: NA()
Name ррр: '[3]2002(v2)'!#REF!
Name старое: '[3]2002(v2)'!#REF!
Name фф: NA()
Name ффф: NA()
Name хрень: '[3]2002(v2)'!#REF!
Name ыыы: NA()

Sheet приложение 1 СПО
G1: Приложение № 1
F2: к письму от ______________________№___________________________
A4: Мониторинг целевых показателей, установленных в плане мероприятий "дорожной карте" за 2020 года
A7: Наименование ОГОАУ | B7: Планируемая среднесписочная численность отдельной категории работников государственных и муниципальных учреждений, чел. | C7: Фактическая среднесписочная численность отдельной категории работников государственных и муниципальных учреждений на отчетный период, чел. | D7: Отношение средней заработной платы работников соответствующей категории к среднемесячному доходу от трудовой деятельности по Томской области, %* | E7: Средняя заработная плата отдельной категории работников списочного состава, руб. | G7: Плановое значение средней заработной платы отдельной категории работников на год, руб. | H7: Отклонение факта за отчетный период от планового значения на год, руб.
E8: план на отчетный период** | F8: факт за отчетный период
A9: 1 | B9: 2 | C9: 3 | D9: 4 | E9: 5 | F9: 6 | G9: 7 | H9: 8=6-7
A10: Преподаватели и мастера производственного обучения образовательных учреждений начального и среднего профессионального образования
A11: Областное государственное автономное профессиональное образовательное учреждение "Губернаторский колледж социально - культурных технологий и инноваций" | B11: ='[4]СЗП и доп.асс 2020'!$N$10 -> 39 | C11: ='[5]УК расш(о)'!$F$11 -> 40.3 | D11: =F11/40339*100 -> 94.814725 | E11: =G11 -> 38247.219 | F11: ='[5]УК расш(о)'!$Q$11 -> 38247.312 | G11: ='[4]СЗП и доп.асс 2020'!$P$10 -> 38247.219 | H11: =F11-G11 -> 0.093117754
A12: ='[6]Итого УК расш (о)'!$C$9 -> Областное государственное образовательное автономное учреждение среднего профессионального образования «Томский музыкальный колледж имени Э.В. Денисова» | B12: ='[4]СЗП и доп.асс 2020'!$N$9 -> 61 | C12: ='[5]УК расш(о)'!$F$9 -> 61 | D12: =F12/40339*100 -> 93.268633 | E12: =G12 -> 37609.153 | F12: ='[5]УК расш(о)'!$Q$9 -> 37623.634 | G12: ='[4]СЗП и доп.асс 2020'!$P$9 -> 37609.153 | H12: =F12-G12 -> 14.480413
A13: Всего по СПО: | B13: =SUM(B11:B12) -> 100 | C13: =SUM(C11:C12) -> 101.3 | D13: =F13/40339*100 -> 93.883712 | E13: =(E11*B11+B12*E12)/B13 -> 37857.999 | F13: =(F11*C11+C12*F12)/C13 -> 37871.751 | G13: =(G11*B11+B12*G12)/B13 -> 37857.999 | H13: =F13-G13 -> 13.751664
A14: *Среднемесячный доход от трудовой деятельности по Томской области на 2020 год составляет 40 339 рублей
A15: **В соответствии с показателями, установленными в Финансовом обеспечении мероприятий региональной "дорожной карты" субъекта Российской Федерации в части повышения заработной платы за отчетный период

Sheet приложение 2 спо
E1: Приложение № 2
B2: к письму от ______________________№___________________________
A4: Мониторинг целевых показателей, установленных в плане мероприятий "дорожной карте"
A5: за 2020 год (данные ведомственной статистики)
A7: Наименование ОГАПОУ | B7: Среднесписочная численность, чел. | C7: ФОТ, тыс.руб | D7: Среднемесячная заработная плата по группам персонала, руб. | E7: Доля ФОТ АУП и вспомогательного персонала в общем ФОТ, %
A8: 1 | B8: 2 | C8: 3 | E8: 4
A9: Преподаватели и мастера производственного обучения образовательных учреждений начального и среднего профессионального образования
A10: Областное государственное автономное профессиональное образовательное учреждение "Губернаторский колледж социально - культурных технологий и инноваций" | E10: =(C13+C15)/C11 -> 0.39998694
A11: ФОТ , всего: | B11: =B13+B14+B15 -> 82 | C11: =C13+C14+C15 -> 36744.2 | D11: =C11/B11/12*1000 -> 37341.667
A12: в том числе по группам персонала:
A13: Административно-управленческий персонал | B13: 4 | C13: 2458.8 | D13: =C13/B13/12*1000 -> 51225
A14: Основной персонал | B14: 45.9 | C14: 22047 | D14: =C14/B14/12*1000 -> 40027.233
A15: Прочий персонал (вспомогательный) | B15: 32.1 | C15: 12238.4 | D15: =C15/B15/12*1000 -> 31771.547
A16: ='[6]Итого УК расш (о)'!$C$9 -> Областное государственное образовательное автономное учреждение среднего профессионального образования «Томский музыкальный колледж имени Э.В. Денисова» | E16: =(C19+C21)/C17 -> 0.2021513
A17: ФОТ , всего: | B17: =B19+B20+B21 -> 92.3 | C17: =C19+C20+C21 -> 38116.5 | D17: =C17/B17/12*1000 -> 34413.597
A18: в том числе по группам персонала:
A19: Административно-управленческий персонал | B19: 2.3 | C19: =488+804.9+898.9 -> 2191.8 | D19: =C19/B19/12*1000 -> 79413.043
A20: Основной персонал | B20: 67 | C20: =2117.5+28293.7 -> 30411.2 | D20: =C20/B20/12*1000 -> 37824.876
A21: Прочий персонал (вспомогательный) | B21: 23 | C21: 5513.5 | D21: =C21/B21/12*1000 -> 19976.449
A22: ИТОГО СПО: | E22: =(C25+C27)/C23 -> 0.29925582
A23: ФОТ , всего: | B23: =B25+B26+B27 -> 174.3 | C23: =C25+C26+C27 -> 74860.7 | D23: =C23/B23/12*1000 -> 35791.117
A24: в том числе по группам персонала:
A25: Административно-управленческий персонал | B25: =B19+B13 -> 6.3 | C25: =C19+C13 -> 4650.6 | D25: =C25/B25/12*1000 -> 61515.873
A26: Основной персонал | B26: =B20+B14 -> 112.9 | C26: =C20+C14 -> 52458.2 | D26: =C26/B26/12*1000 -> 38720.254
A27: Прочий персонал (вспомогательный) | B27: =B21+B15 -> 55.1 | C27: =C21+C15 -> 17751.9 | D27: =C27/B27/12*1000 -> 26848.004

Sheet приложение 3 спо
E1: Приложение № 3
C2: к письму от ______________________№___________________________
A4: Мониторинг целевых показателей, установленных в плане мероприятий "дорожной карте"
A5: за 2020 год (данные ведомственной статистики)
A7: Наименование ОГАПОУ | B7: Среднесписочная численность, чел. | C7: Среднемесячная заработная плата по категориям персонала, руб. | D7: ФОТ, тыс.руб* | E7: Отношение среднемесячной заработной платы категорий персонала к среднемесячной заработной плате основного персонала учреждений, раз
A8: 1 | B8: 2 | C8: 3 | E8: 4
A9: Преподаватели и мастера производственного обучения образовательных учреждений начального и среднего профессионального образования
A10: Областное государственное автономное профессиональное образовательное учреждение "Губернаторский колледж социально - культурных технологий и инноваций"
A11: Административно-управленческий персонал | B11: ='приложение 2 спо'!B13 -> 4 | C11: =D11/B11/12*1000 -> 51225 | D11: ='приложение 2 спо'!C13 -> 2458.8 | E11: =C11/C12 -> 1.2797537
A12: Основной персонал | B12: ='приложение 2 спо'!B14 -> 45.9 | C12: =D12/B12/12*1000 -> 40027.233 | D12: ='приложение 2 спо'!C14 -> 22047 | E12: =C12/C12 -> 1
A13: Вспомогательный персонал | B13: ='приложение 2 спо'!B15 -> 32.1 | C13: =D13/B13/12*1000 -> 31771.547 | D13: ='приложение 2 спо'!C15 -> 12238.4 | E13: =C13/C12 -> 0.79374828
A14: ='[6]Итого УК расш (о)'!$C$9 -> Областное государственное образовательное автономное учреждение среднего профессионального образования «Томский музыкальный колледж имени Э.В. Денисова»
A15: Административно-управленческий персонал | B15: ='приложение 2 спо'!B19 -> 2.3 | C15: =D15/B15/12*1000 -> 79413.043 | D15: ='приложение 2 спо'!C19 -> 2191.8 | E15: =C15/C16 -> 2.0994925
A16: Основной персонал | B16: ='приложение 2 спо'!B20 -> 67 | C16: =D16/B16/12*1000 -> 37824.876 | D16: ='приложение 2 спо'!C20 -> 30411.2 | E16: =C16/C16 -> 1
A17: Вспомогательный персонал | B17: ='приложение 2 спо'!B21 -> 23 | C17: =D17/B17/12*1000 -> 19976.449 | D17: ='приложение 2 спо'!C21 -> 5513.5 | E17: =C17/C16 -> 0.52812994
A18: ИТОГО СПО:
A19: ИТОГО: | B19: ='приложение 2 спо'!B23 -> 174.3 | C19: =D19/B19/12*1000 -> 35791.117 | D19: ='приложение 2 спо'!C23 -> 74860.7
A20: в том числе по группам персонала:
A21: Административно-управленческий персонал | B21: ='приложение 2 спо'!B25 -> 6.3 | C21: =D21/B21/12*1000 -> 61515.873 | D21: ='приложение 2 спо'!C25 -> 4650.6 | E21: =C21/C22 -> 1.588726 | F21: =B11+B15 -> 6.3 | G21: =H21/F21/12*1000 -> 61515.873 | H21: =D11+D15 -> 4650.6
A22: Основной персонал | B22: ='приложение 2 спо'!B26 -> 112.9 | C22: =D22/B22/12*1000 -> 38720.254 | D22: ='приложение 2 спо'!C26 -> 52458.2 | E22: =C22/C22 -> 1 | F22: =B12+B16 -> 112.9 | G22: =H22/F22/12*1000 -> 38720.254 | H22: =D12+D16 -> 52458.2
A23: Прочий персонал (вспомогательный) | B23: ='приложение 2 спо'!B27 -> 55.1 | C23: =D23/B23/12*1000 -> 26848.004 | D23: ='приложение 2 спо'!C27 -> 17751.9 | E23: =C23/C22 -> 0.69338398 | F23: =B13+B17 -> 55.1 | G23: =H23/F23/12*1000 -> 26848.004 | H23: =D13+D17 -> 17751.9

Sheet Приложение 1 ДПО
BL1: Приложение 1
BI2: к письму от____________________№______________________
A3: Информация о средней заработной плате работников в разрезе организаций дополнительного образования детей | AS3: 37858
A4: Наименование муниципального образования | B4: ОКПО | C4: ОКВЭД | D4: Наименование образовательной организации дополнительного образования детей | E4: 01 всего (Код категории 100) | O4: 02 руководитель организации (Код категории 101) | Y4: 03 Заместители руководителя, руководители структурных подразделений и их заместители (Код категории 102) | AI4: 07 (педагогические работники образовательных организаций дополнительного образования детей (код категории 221) | AT4: 26 работники культуры (код категории 631) | BD4: 28 прочий персонал (код категории 103)
E5: Средняя численность работников, человек | G5: Фонд начисленной заработной платы работников за отчетный период, тыс.руб. | J5: Фонд начисленной заработной платы работников по источникам финансирования, тыс.руб. | N5: Средняя заработная плата | O5: Средняя численность работников, человек | Q5: Фонд начисленной заработной платы работников за отчетный период, тыс.руб. | T5: Фонд начисленной заработной платы работников по источникам финансирования, тыс.руб. | X5: Средняя заработная плата | Y5: Средняя численность работников, человек | AA5: Фонд начисленной заработной платы работников за отчетный период, тыс.руб. | AD5: Фонд начисленной заработной платы работников по источникам финансирования, тыс.руб. | AH5: Средняя заработная плата | AI5: Средняя численность работников, человек | AK5: Фонд начисленной заработной платы работников за отчетный период, тыс.руб. | AN5: Фонд начисленной заработной платы работников по источникам финансирования, тыс.руб. | AR5: Средняя заработная плата | AS5: Отношение средней заработной платы работников соответствующей категории к средней заработной плате по Томской области (36 687 руб.), % | AT5: Средняя численность работников, человек | AV5: Фонд начисленной заработной платы работников за отчетный период, тыс.руб. | AY5: Фонд начисленной заработной платы работников по источникам финансирования, тыс.руб. | BC5: Средняя заработная плата | BD5: Средняя численность работников, человек | BF5: Фонд начисленной заработной платы работников за отчетный период, тыс.руб. | BI5: Фонд начисленной заработной платы работников по источникам финансирования, тыс.руб. | BM5: Средняя заработная плата
E6: списочного состава (без внешних совместителей) | F6: внешних совместителей | G6: списочного состава (без внешних совместителей) | I6: внешних совместителей | J6: из гр.3 списочного состава (без внешних совместителей) | L6: из гр.5 внешних совместителей | O6: списочного состава (без внешних совместителей) | P6: внешних совместителей | Q6: списочного состава (без внешних совместителей) | S6: внешних совместителей | T6: из гр.3 списочного состава (без внешних совместителей) | V6: из гр.5 внешних совместителей | Y6: списочного состава (без внешних совместителей) | Z6: внешних совместителей | AA6: списочного состава (без внешних совместителей) | AC6: внешних совместителей | AD6: из гр.3 списочного состава (без внешних совместителей) | AF6: из гр.5 внешних совместителей | AI6: списочного состава (без внешних совместителей) | AJ6: внешних совместителей | AK6: списочного состава (без внешних совместителей) | AM6: внешних совместителей | AN6: из гр.3 списочного состава (без внешних совместителей) | AP6: из гр.5 внешних совместителей | AT6: списочного состава (без внешних совместителей) | AU6: внешних совместителей | AV6: списочного состава (без внешних совместителей) | AX6: внешних совместителей | AY6: из гр.3 списочного состава (без внешних совместителей) | BA6: из гр.5 внешних совместителей | BD6: списочного состава (без внешних совместителей) | BE6: внешних совместителей | BF6: списочного состава (без внешних совместителей) | BH6: внешних совместителей | BI6: из гр.3 списочного состава (без внешних совместителей) | BK6: из гр.5 внешних совместителей
G7: всего | H7: в том числе по внутреннему совместительству | J7: за счет средств бюджетов всех уровней | K7: средства от приносящей доход деятельности | L7: за счет средств бюджетов всех уровней | M7: средства от приносящей доход деятельности | Q7: всего | R7: в том числе по внутреннему совместительству | T7: за счет средств бюджетов всех уровней | U7: средства от приносящей доход деятельности | V7: за счет средств бюджетов всех уровней | W7: средства от приносящей доход деятельности | AA7: всего | AB7: в том числе по внутреннему совместительству | AD7: за счет средств бюджетов всех уровней | AE7: средства от приносящей доход деятельности | AF7: за счет средств бюджетов всех уровней | AG7: средства от приносящей доход деятельности | AK7: всего | AL7: в том числе по внутреннему совместительству | AN7: за счет средств бюджетов всех уровней | AO7: средства от приносящей доход деятельности | AP7: за счет средств бюджетов всех уровней | AQ7: средства от приносящей доход деятельности | AV7: всего | AW7: в том числе по внутреннему совместительству | AY7: за счет средств бюджетов всех уровней | AZ7: средства от приносящей доход деятельности | BA7: за счет средств бюджетов всех уровней | BB7: средства от приносящей доход деятельности | BF7: всего | BG7: в том числе по внутреннему совместительству | BI7: за счет средств бюджетов всех уровней | BJ7: средства от приносящей доход деятельности | BK7: за счет средств бюджетов всех уровней | BL7: средства от приносящей доход деятельности
A8: ОГАОУ ДО
A9: Асиновский район | B9: 49391466 | C9: 85.41.2 | D9: Областное государственное автономное образовательное учреждение дополнительного образования «Асиновская детская школа искусств» | E9: =O9+Y9+AI9+AT9+BD9 -> 29.4 | F9: =P9+Z9+AJ9+AU9+BE9 -> 3.7 | G9: =J9+K9 -> 12168.2 | H9: =R9+AB9+AL9+AW9+BG9 -> 2500.3 | I9: =S9+AC9+AM9+AX9+BH9 -> 789.9 | J9: =T9+AD9+AN9+AY9+BI9 -> 11690.2 | K9: =U9+AE9+AO9+AZ9+BJ9 -> 478 | L9: =V9+AF9+AP9+BA9+BK9 -> 782.6 | M9: =W9+AG9+AQ9+BB9+BL9 -> 7.3 | N9: =G9/E9/12*1000 -> 34490.363 | O9: =[5]ДШИ!$E$34 -> 1 | Q9: =[5]ДШИ!$AP$34 -> 729 | R9: =[5]ДШИ!$BH$34 -> 286.2 | T9: =[5]ДШИ!$CS$34 -> 708 | U9: =[5]ДШИ!$EC$34 -> 21 | X9: =Q9/O9/12*1000 -> 60750 | Y9: =[5]ДШИ!$F$34 -> 1.6 | AA9: =[5]ДШИ!$AQ$34 -> 463.3 | AB9: =[5]ДШИ!$BI$34 -> 267.3 | AD9: =[5]ДШИ!$CT$34 -> 462.2 | AE9: =[5]ДШИ!$ED$34 -> 1.1 | AH9: =AA9/Y9/12*1000 -> 24130.208 | AI9: =[5]ДШИ!$G$34 -> 19 | AJ9: =[5]ДШИ!$Y$34 -> 2 | AK9: =[5]ДШИ!$AR$34 -> 8019.6 | AL9: =[5]ДШИ!$BJ$34 -> 964.6 | AM9: =[5]ДШИ!$CC$34 -> 426.1 | AN9: =[5]ДШИ!$CU$34 -> 7636.4 | AO9: =[5]ДШИ!$EE$34 -> 383.2 | AP9: =[5]ДШИ!$EW$34 -> 418.8 | AQ9: =[5]ДШИ!$GG$34 -> 7.3 | AR9: =AK9/AI9/12*1000 -> 35173.684 | AS9: =AR9/$AS$3*100 -> 92.909515 | BC9: =AV9/AT9/12*1000 -> #DIV/0! | BD9: =[5]ДШИ!$U$34 -> 7.8 | BE9: =[5]ДШИ!$AM$34 -> 1.7 | BF9: =[5]ДШИ!$BF$34 -> 2956.3 | BG9: =[5]ДШИ!$BX$34 -> 982.2 | BH9: =[5]ДШИ!$CQ$34 -> 363.8 | BI9: =[5]ДШИ!$DI$34 -> 2883.6 | BJ9: =[5]ДШИ!$ES$34 -> 72.7 | BK9: =[5]ДШИ!$FK$34 -> 363.8 | BM9: =BF9/BD9/12*1000 -> 31584.402
A10: Верхнекетский район | B10: 46625857 | C10: 85.41.2 | D10: Областное государственное автономное образовательное учреждение дополнительного образования «Детская школа искусств» Верхнекетского района Томской области» | E10: =O10+Y10+AI10+AT10+BD10 -> 16.4 | F10: =P10+Z10+AJ10+AU10+BE10 -> 0.1 | G10: =J10+K10 -> 8067.3 | H10: =R10+AB10+AL10+AW10+BG10 -> 24 | I10: =S10+AC10+AM10+AX10+BH10 -> 22.3 | J10: =T10+AD10+AN10+AY10+BI10 -> 8043.3 | K10: =U10+AE10+AO10+AZ10+BJ10 -> 24 | L10: =V10+AF10+AP10+BA10+BK10 -> 22.3 | M10: =W10+AG10+AQ10+BB10+BL10 -> 0 | N10: =G10/E10/12*1000 -> 40992.378 | O10: =[5]ДШИ!$E$35 -> 0.4 | Q10: =[5]ДШИ!$AP$35 -> 416.6 | R10: =[5]ДШИ!$BH$35 -> 1.5 | T10: =[5]ДШИ!$CS$35 -> 415.1 | U10: =[5]ДШИ!$EC$35 -> 1.5 | X10: =Q10/O10/12*1000 -> 86791.667 | AH10: =AA10/Y10/12*1000 -> #DIV/0! | AI10: =[5]ДШИ!$G$35 -> 10 | AJ10: =[5]ДШИ!$Y$35 -> 0.1 | AK10: =[5]ДШИ!$AR$35 -> 5027.3 | AL10: =[5]ДШИ!$BJ$35 -> 18.5 | AM10: =[5]ДШИ!$CC$35 -> 22.3 | AN10: =[5]ДШИ!$CU$35 -> 5008.8 | AO10: =[5]ДШИ!$EE$35 -> 18.5 | AP10: =[5]ДШИ!$EW$35 -> 22.3 | AR10: =AK10/AI10/12*1000 -> 41894.167 | AS10: =AR10/$AS$3*100 -> 110.66133 | BC10: =AV10/AT10/12*1000 -> #DIV/0! | BD10: =[5]ДШИ!$U$35 -> 6 | BF10: =[5]ДШИ!$BF$35 -> 2623.4 | BG10: =[5]ДШИ!$BX$35 -> 4 | BI10: =[5]ДШИ!$DI$35 -> 2619.4 | BJ10: =[5]ДШИ!$ES$35 -> 4 | BM10: =BF10/BD10/12*1000 -> 36436.111
A11: Зырянский район | B11: 46625857 | C11: 85.41.2 | D11: Областное государственное автономное образовательное учреждение дополнительного образования «Зырянская детская школа искусств» | E11: =O11+Y11+AI11+AT11+BD11 -> 17 | F11: =P11+Z11+AJ11+AU11+BE11 -> 1.8 | G11: =J11+K11 -> 6530 | H11: =R11+AB11+AL11+AW11+BG11 -> 609.7 | I11: =S11+AC11+AM11+AX11+BH11 -> 334.2 | J11: =T11+AD11+AN11+AY11+BI11 -> 6530 | K11: =U11+AE11+AO11+AZ11+BJ11 -> 0 | L11: =V11+AF11+AP11+BA11+BK11 -> 334.2 | M11: =W11+AG11+AQ11+BB11+BL11 -> 0 | N11: =G11/E11/12*1000 -> 32009.804 | O11: =[5]ДШИ!$E$36 -> 1 | Q11: =[5]ДШИ!$AP$36 -> 495.5 | R11: =[5]ДШИ!$BH$36 -> 47.9 | T11: =[5]ДШИ!$CS$36 -> 495.5 | X11: =Q11/O11/12*1000 -> 41291.667 | AH11: =AA11/Y11/12*1000 -> #DIV/0! | AI11: =[5]ДШИ!$G$36 -> 11 | AJ11: =[5]ДШИ!$Y$36 -> 1.8 | AK11: =[5]ДШИ!$AR$36 -> 4625.3 | AL11: =[5]ДШИ!$BJ$36 -> 561.8 | AM11: =[5]ДШИ!$CC$36 -> 334.2 | AN11: =[5]ДШИ!$CU$36 -> 4625.3 | AP11: =[5]ДШИ!$EW$36 -> 334.2 | AR11: =AK11/AI11/12*1000 -> 35040.152 | AS11: =AR11/AS3*100 -> 92.556795 | BC11: =AV11/AT11/12*1000 -> #DIV/0! | BD11: =[5]ДШИ!$U$36 -> 5 | BF11: =[5]ДШИ!$BF$36 -> 1409.2 | BI11: =[5]ДШИ!$DI$36 -> 1409.2 | BM11: =BF11/BD11/12*1000 -> 23486.667
A12: Тегульдетский район | B12: 49396506 | C12: 85.41.2 | D12: Областное государственное автономное образовательное учреждение дополнительного образования «Тегульдетская детская школа искусств» | E12: =O12+Y12+AI12+AT12+BD12 -> 10.5 | F12: =P12+Z12+AJ12+AU12+BE12 -> 0.5 | G12: =J12+K12 -> 4878.7 | H12: =R12+AB12+AL12+AW12+BG12 -> 138.7 | I12: =S12+AC12+AM12+AX12+BH12 -> 130.9 | J12: =T12+AD12+AN12+AY12+BI12 -> 4878.7 | K12: =U12+AE12+AO12+AZ12+BJ12 -> 0 | L12: =V12+AF12+AP12+BA12+BK12 -> 130.9 | M12: =W12+AG12+AQ12+BB12+BL12 -> 0 | N12: =G12/E12/12*1000 -> 38719.841 | O12: =[5]ДШИ!$E$37 -> 1 | Q12: =[5]ДШИ!$AP$37 -> 496.6 | T12: =[5]ДШИ!$CS$37 -> 496.6 | X12: =Q12/O12/12*1000 -> 41383.333 | AH12: =AA12/Y12/12*1000 -> #DIV/0! | AI12: =[5]ДШИ!$G$37 -> 5 | AJ12: =[5]ДШИ!$Y$37 -> 0.5 | AK12: =[5]ДШИ!$AR$37 -> 3047 | AL12: =[5]ДШИ!$BJ$37 -> 138.7 | AM12: =[5]ДШИ!$CC$37 -> 130.9 | AN12: =[5]ДШИ!$CU$37 -> 3047 | AP12: =[5]ДШИ!$EW$37 -> 130.9 | AR12: =AK12/AI12/12*1000 -> 50783.333 | AS12: =AR12/$AS$3*100 -> 134.14162 | BC12: =AV12/AT12/12*1000 -> #DIV/0! | BD12: =[5]ДШИ!$U$37 -> 4.5 | BF12: =[5]ДШИ!$BF$37 -> 1335.1 | BI12: =[5]ДШИ!$DI$37 -> 1335.1 | BM12: =BF12/BD12/12*1000 -> 24724.074
A13: Шегарский район | B13: 46622994 | C13: 85.41 | D13: Областное государственное автономное образовательное учреждение дополнительного образования «Детская школа искусств с. Мельниково» | E13: =O13+Y13+AI13+AT13+BD13 -> 13.5 | F13: =P13+Z13+AJ13+AU13+BE13 -> 1.1 | G13: =J13+K13 -> 5255.2 | H13: =R13+AB13+AL13+AW13+BG13 -> 141.2 | I13: =S13+AC13+AM13+AX13+BH13 -> 239.4 | J13: =T13+AD13+AN13+AY13+BI13 -> 5208.1 | K13: =U13+AE13+AO13+AZ13+BJ13 -> 47.1 | L13: =V13+AF13+AP13+BA13+BK13 -> 232.7 | M13: =W13+AG13+AQ13+BB13+BL13 -> 6.7 | N13: =G13/E13/12*1000 -> 32439.506 | O13: =[5]ДШИ!$E$38 -> 1 | Q13: =[5]ДШИ!$AP$38 -> 468.3 | T13: =[5]ДШИ!$CS$38 -> 468.3 | X13: =Q13/O13/12*1000 -> 39025 | AH13: =AA13/Y13/12*1000 -> #DIV/0! | AI13: =[5]ДШИ!$G$38 -> 9.8 | AK13: =[5]ДШИ!$AR$38 -> 4259.1 | AL13: =[5]ДШИ!$BJ$38 -> 141.2 | AN13: =[5]ДШИ!$CU$38 -> 4225.9 | AO13: =[5]ДШИ!$EE$38 -> 33.2 | AR13: =AK13/AI13/12*1000 -> 36216.837 | AS13: =AR13/$AS$3*100 -> 95.66495 | BC13: =AV13/AT13/12*1000 -> #DIV/0! | BD13: =[5]ДШИ!$U$38 -> 2.7 | BE13: =[5]ДШИ!$AM$38 -> 1.1 | BF13: =[5]ДШИ!$BF$38 -> 527.8 | BH13: =[5]ДШИ!$CQ$38 -> 239.4 | BI13: =[5]ДШИ!$DI$38 -> 513.9 | BJ13: =[5]ДШИ!$ES$38 -> 13.9 | BK13: =[5]ДШИ!$FK$38 -> 232.7 | BL13: =[5]ДШИ!$GU$38 -> 6.7 | BM13: =BF13/BD13/12*1000 -> 16290.123
A14: ВСЕГО | E14: =O14+Y14+AI14+AT14+BD14 -> 86.8 | F14: =P14+Z14+AJ14+AU14+BE14 -> 7.2 | G14: =Q14+AA14+AK14+AV14+BF14 -> 36899.4 | H14: =R14+AB14+AL14+AW14+BG14 -> 3413.9 | I14: =S14+AC14+AM14+AX14+BH14 -> 1516.7 | J14: =T14+AD14+AN14+AY14+BI14 -> 36350.3 | K14: =U14+AE14+AO14+AZ14+BJ14 -> 549.1 | L14: =V14+AF14+AP14+BA14+BK14 -> 1502.7 | M14: =W14+AG14+AQ14+BB14+BL14 -> 14 | N14: =G14/E14/12*1000 -> 35425.691 | O14: =O9+O10+O11+O12+O13 -> 4.4 | P14: =P9+P10+P11+P12+P13 -> 0 | Q14: =Q9+Q10+Q11+Q12+Q13 -> 2606 | R14: =R9+R10+R11+R12+R13 -> 335.6 | S14: =S9+S10+S11+S12+S13 -> 0 | T14: =T9+T10+T11+T12+T13 -> 2583.5 | U14: =U9+U10+U11+U12+U13 -> 22.5 | V14: =V9+V10+V11+V12+V13 -> 0 | W14: =W9+W10+W11+W12+W13 -> 0 | X14: =Q14/O14/12*1000 -> 49356.061 | Y14: =Y9+Y10+Y11+Y12+Y13 -> 1.6 | Z14: =Z9+Z10+Z11+Z12+Z13 -> 0 | AA14: =AA9+AA10+AA11+AA12+AA13 -> 463.3 | AB14: =AB9+AB10+AB11+AB12+AB13 -> 267.3 | AC14: =AC9+AC10+AC11+AC12+AC13 -> 0 | AD14: =AD9+AD10+AD11+AD12+AD13 -> 462.2 | AE14: =AE9+AE10+AE11+AE12+AE13 -> 1.1 | AF14: =AF9+AF10+AF11+AF12+AF13 -> 0 | AG14: =AG9+AG10+AG11+AG12+AG13 -> 0 | AH14: =AA14/Y14/12*1000 -> 24130.208 | AI14: =AI9+AI10+AI11+AI12+AI13 -> 54.8 | AJ14: =AJ9+AJ10+AJ11+AJ12+AJ13 -> 4.4 | AK14: =AK9+AK10+AK11+AK12+AK13 -> 24978.3 | AL14: =AL9+AL10+AL11+AL12+AL13 -> 1824.8 | AM14: =AM9+AM10+AM11+AM12+AM13 -> 913.5 | AN14: =AN9+AN10+AN11+AN12+AN13 -> 24543.4 | AO14: =AO9+AO10+AO11+AO12+AO13 -> 434.9 | AP14: =AP9+AP10+AP11+AP12+AP13 -> 906.2 | AQ14: =AQ9+AQ10+AQ11+AQ12+AQ13 -> 7.3 | AR14: =AK14/AI14/12*1000 -> 37984.033 | AS14: =AR14/$AS$3*100 -> 100.33291 | AT14: =AT9+AT10+AT11+AT12+AT13 -> 0 | AU14: =AU9+AU10+AU11+AU12+AU13 -> 0 | AV14: =AV9+AV10+AV11+AV12+AV13 -> 0 | AW14: =AW9+AW10+AW11+AW12+AW13 -> 0 | AX14: =AX9+AX10+AX11+AX12+AX13 -> 0 | AY14: =AY9+AY10+AY11+AY12+AY13 -> 0 | AZ14: =AZ9+AZ10+AZ11+AZ12+AZ13 -> 0 | BA14: =BA9+BA10+BA11+BA12+BA13 -> 0 | BB14: =BB9+BB10+BB11+BB12+BB13 -> 0 | BC14: =AV14/AT14/12*1000 -> #DIV/0! | BD14: =BD9+BD10+BD11+BD12+BD13 -> 26 | BE14: =BE9+BE10+BE11+BE12+BE13 -> 2.8 | BF14: =BF9+BF10+BF11+BF12+BF13 -> 8851.8 | BG14: =BG9+BG10+BG11+BG12+BG13 -> 986.2 | BH14: =BH9+BH10+BH11+BH12+BH13 -> 603.2 | BI14: =BI9+BI10+BI11+BI12+BI13 -> 8761.2 | BJ14: =BJ9+BJ10+BJ11+BJ12+BJ13 -> 90.6 | BK14: =BK9+BK10+BK11+BK12+BK13 -> 596.5 | BL14: =BL9+BL10+BL11+BL12+BL13 -> 6.7 | BM14: =BF14/BD14/12*1000 -> 28371.154
C16: огу | D16: контроль | E16: =[5]ДШИ!$D$43 -> 86.8 | F16: =[5]ДШИ!$V$43 -> 7.2 | G16: =[5]ДШИ!$AN$43 -> 36899.4 | H16: =[5]ДШИ!$BG$43 -> 3413.9 | I16: =[5]ДШИ!$BY$43 -> 1516.7 | J16: =[5]ДШИ!$CR$43 -> 36350.3 | K16: =[5]ДШИ!$EB$43 -> 549.1 | L16: =[5]ДШИ!$ET$43 -> 1502.7 | M16: =[5]ДШИ!$GD$43 -> 14 | N16: =[5]ДШИ!$GV$43 -> 35425.691 | O16: =[5]ДШИ!$E$43 -> 4.4 | P16: =[5]ДШИ!$W$43 -> 0 | Q16: =[5]ДШИ!$AP$43 -> 2606 | R16: =[5]ДШИ!$BH$43 -> 335.6 | S16: =[5]ДШИ!$CA$43 -> 0 | T16: =[5]ДШИ!$CS$43 -> 2583.5 | U16: =[5]ДШИ!$EC$43 -> 22.5 | V16: =[5]ДШИ!$EU$43 -> 0 | W16: =[5]ДШИ!$GE$43 -> 0 | X16: =[5]ДШИ!$GW$43 -> 49356.061 | Y16: =[5]ДШИ!$F$43 -> 1.6 | Z16: =[5]ДШИ!$X$43 -> 0 | AA16: =[5]ДШИ!$AQ$43 -> 463.3 | AB16: =[5]ДШИ!$BI$43 -> 267.3 | AC16: =[5]ДШИ!$CB$43 -> 0 | AD16: =[5]ДШИ!$CT$43 -> 462.2 | AE16: =[5]ДШИ!$ED$43 -> 1.1 | AF16: =[5]ДШИ!$EV$43 -> 0 | AG16: =[5]ДШИ!$GF$43 -> 0 | AH16: =[5]ДШИ!$GX$43 -> 24130.208 | AI16: =[5]ДШИ!$G$43 -> 54.8 | AJ16: =[5]ДШИ!$Y$43 -> 4.4 | AK16: =[5]ДШИ!$AR$43 -> 24978.3 | AL16: =[5]ДШИ!$BJ$43 -> 1824.8 | AM16: =[5]ДШИ!$CC$43 -> 913.5 | AN16: =[5]ДШИ!$CU$43 -> 24543.4 | AO16: =[5]ДШИ!$EE$43 -> 434.9 | AP16: =[5]ДШИ!$EW$43 -> 906.2 | AQ16: =[5]ДШИ!$GG$43 -> 7.3 | AR16: =[5]ДШИ!$GY$43 -> 37984.033 | AS16: =AR16/AS3*100 -> 100.33291 | AT16: =[5]ДШИ!$S$43 -> 0 | AU16: =[5]ДШИ!$AK$43 -> 0 | AV16: =[5]ДШИ!$BD$43 -> 0 | AW16: =[5]ДШИ!$BV$43 -> 0 | AX16: =[5]ДШИ!$CO$43 -> 0 | AY16: =[5]ДШИ!$DG$43 -> 0 | AZ16: =[5]ДШИ!$EQ$43 -> 0 | BA16: =[5]ДШИ!$FI$43 -> 0 | BB16: =[5]ДШИ!$GS$43 -> 0 | BC16: =[5]ДШИ!$HG$43 -> #DIV/0! | BD16: =[5]ДШИ!$U$43 -> 26 | BE16: =[5]ДШИ!$AM$43 -> 2.8 | BF16: =[5]ДШИ!$BF$43 -> 8851.8 | BG16: =[5]ДШИ!$BX$43 -> 986.2 | BH16: =[5]ДШИ!$CQ$43 -> 603.2 | BI16: =[5]ДШИ!$DI$43 -> 8761.2 | BJ16: =[5]ДШИ!$ES$43 -> 90.6 | BK16: =[5]ДШИ!$FK$43 -> 596.5 | BL16: =[5]ДШИ!$GU$43 -> 6.7 | BM16: =[5]ДШИ!$HH$43 -> 28371.154
E17: =E16-E14 -> 0 | F17: =F16-F14 -> 0 | G17: =G16-G14 -> 0 | H17: =H16-H14 -> 0 | I17: =I16-I14 -> 0 | J17: =J16-J14 -> 0 | K17: =K16-K14 -> 0 | L17: =L16-L14 -> 0 | ... BM17: =BM16-BM14 -> 0
A18: Муниципальное образование
A19: Александровский район | B19: 46634572 | C19: 85.41.2 | D19: Муниципальное бюджетное учреждение дополнительного образования "Детская школа искусств" | E19: =O19+Y19+AI19+AT19+BD19 -> 9 | F19: =P19+Z19+AJ19+AU19+BE19 -> 0 | G19: =J19+K19 -> 6108.9 | H19: =R19+AB19+AL19+AW19+BG19 -> 516.1 | I19: =S19+AC19+AM19+AX19+BH19 -> 0 | J19: =T19+AD19+AN19+AY19+BI19 -> 6088.6 | K19: =U19+AE19+AO19+AZ19+BJ19 -> 20.3 | L19: =V19+AF19+AP19+BA19+BK19 -> 0 | M19: =W19+AG19+AQ19+BB19+BL19 -> 0 | N19: =G19/E19/12*1000 -> 56563.889 | O19: =[5]ДШИ!$E$12 -> 1 | Q19: =[5]ДШИ!$AP$12 -> 716.2 | R19: =[5]ДШИ!$BH$12 -> 280.7 | T19: =[5]ДШИ!$CS$12 -> 716.2 | X19: =Q19/O19/12*1000 -> 59683.333 | AH19: =AA19/Y19/12*1000 -> #DIV/0! | AI19: =[5]ДШИ!$G$12 -> 8 | AK19: =[5]ДШИ!$AR$12 -> 5392.7 | AL19: =[5]ДШИ!$BJ$12 -> 235.4 | AN19: =[5]ДШИ!$CU$12 -> 5372.4 | AO19: =[5]ДШИ!$EE$12 -> 20.3 | AR19: =AK19/AI19/12*1000 -> 56173.958 | AS19: =AR19/AS3*100 -> 148.38068 | BC19: =AV19/AT19/12*1000 -> #DIV/0! | BM19: =BF19/BD19/12*1000 -> #DIV/0!
A20: Каргасокский район | B20: 46631622 | C20: 85.41.2 | D20: Муниципальное бюджетное учреждение дополнительного образования "Каргасокская детская школа искусств" | E20: =O20+Y20+AI20+AT20+BD20 -> 21.1 | F20: =P20+Z20+AJ20+AU20+BE20 -> 0.5 | G20: =J20+K20 -> 11325.1 | H20: =R20+AB20+AL20+AW20+BG20 -> 595.3 | I20: =S20+AC20+AM20+AX20+BH20 -> 119.4 | J20: =T20+AD20+AN20+AY20+BI20 -> 11249.9 | K20: =U20+AE20+AO20+AZ20+BJ20 -> 75.2 | L20: =V20+AF20+AP20+BA20+BK20 -> 119.4 | M20: =W20+AG20+AQ20+BB20+BL20 -> 0 | N20: =G20/E20/12*1000 -> 44727.883 | O20: =[5]ДШИ!$E$16 -> 1 | Q20: =[5]ДШИ!$AP$16 -> 901.8 | R20: =[5]ДШИ!$BH$16 -> 280.5 | T20: =[5]ДШИ!$CS$16 -> 901.8 | X20: =Q20/O20/12*1000 -> 75150 | Y20: =[5]ДШИ!$F$16 -> 1 | AA20: =[5]ДШИ!$AQ$16 -> 856.3 | AB20: =[5]ДШИ!$BI$16 -> 314.8 | AD20: =[5]ДШИ!$CT$16 -> 856.3 | AH20: =AA20/Y20/12*1000 -> 71358.333 | AI20: =[5]ДШИ!$G$16 -> 14.4 | AJ20: =[5]ДШИ!$Y$16 -> 0.3 | AK20: =[5]ДШИ!$AR$16 -> 8182.4 | AM20: =[5]ДШИ!$CC$16 -> 62.4 | AN20: =[5]ДШИ!$CU$16 -> 8107.2 | AO20: =[5]ДШИ!$EE$16 -> 75.2 | AP20: =[5]ДШИ!$EW$16 -> 62.4 | AR20: =AK20/AI20/12*1000 -> 47351.852 | AS20: =AR20/$AS$3*100 -> 125.07753 | AU20: =[5]ДШИ!$AK$16 -> 0.2 | AX20: =[5]ДШИ!$CO$16 -> 57 | BA20: =[5]ДШИ!$FI$16 -> 57 | BC20: =AV20/AT20/12*1000 -> #DIV/0! | BD20: =[5]ДШИ!$U$16 -> 4.7 | BF20: =[5]ДШИ!$BF$16 -> 1384.6 | BI20: =[5]ДШИ!$DI$16 -> 1384.6 | BM20: =BF20/BD20/12*1000 -> 24549.645
A21: Кожевниковский район | B21: 36308989 | C21: 85.41 | D21: Муниципальное казенное учреждение дополнительного образования «Кожевниковская детская школа искусств» | E21: =O21+Y21+AI21+AT21+BD21 -> 28.6 | F21: =P21+Z21+AJ21+AU21+BE21 -> 0.4 | G21: =J21+K21 -> 10718.2 | H21: =R21+AB21+AL21+AW21+BG21 -> 650.1 | I21: =S21+AC21+AM21+AX21+BH21 -> 77.2 | J21: =T21+AD21+AN21+AY21+BI21 -> 10718.2 | K21: =U21+AE21+AO21+AZ21+BJ21 -> 0 | L21: =V21+AF21+AP21+BA21+BK21 -> 77.2 | M21: =W21+AG21+AQ21+BB21+BL21 -> 0 | N21: =G21/E21/12*1000 -> 31230.186 | O21: =[5]ДШИ!$E$17 -> 1 | Q21: =[5]ДШИ!$AP$17 -> 674.2 | R21: =[5]ДШИ!$BH$17 -> 259.4 | T21: =[5]ДШИ!$CS$17 -> 674.2 | X21: =Q21/O21/12*1000 -> 56183.333 | Y21: =[5]ДШИ!$F$17 -> 1.9 | AA21: =[5]ДШИ!$AQ$17 -> 646.8 | AB21: =[5]ДШИ!$BI$17 -> 123.2 | AD21: =[5]ДШИ!$CT$17 -> 646.8 | AH21: =AA21/Y21/12*1000 -> 28368.421 | AI21: =[5]ДШИ!$G$17 -> 16.9 | AJ21: =[5]ДШИ!$Y$17 -> 0.4 | AK21: =[5]ДШИ!$AR$17 -> 7695.5 | AL21: =[5]ДШИ!$BJ$17 -> 121.1 | AM21: =[5]ДШИ!$CC$17 -> 77.2 | AN21: =[5]ДШИ!$CU$17 -> 7695.5 | AP21: =[5]ДШИ!$EW$17 -> 77.2 | AR21: =AK21/AI21/12*1000 -> 37946.252 | AS21: =AR21/$AS$3*100 -> 100.23311 | BC21: =AV21/AT21/12*1000 -> #DIV/0! | BD21: =[5]ДШИ!$U$17 -> 8.8 | BF21: =[5]ДШИ!$BF$17 -> 1701.7 | BG21: =[5]ДШИ!$BX$17 -> 146.4 | BI21: =[5]ДШИ!$DI$17 -> 1701.7 | BM21: =BF21/BD21/12*1000 -> 16114.583
A22: Молчановский район | B22: 46632320 | C22: 85.41.2 | D22: Муниципальное бюджетное учреждение дополнительного образования "Молчановская детская музыкальная школа" | E22: =O22+Y22+AI22+AT22+BD22 -> 14.4 | F22: =P22+Z22+AJ22+AU22+BE22 -> 2.4 | G22: =J22+K22 -> 7446.8 | H22: =R22+AB22+AL22+AW22+BG22 -> 357.4 | I22: =S22+AC22+AM22+AX22+BH22 -> 632.8 | J22: =T22+AD22+AN22+AY22+BI22 -> 7446.8 | K22: =U22+AE22+AO22+AZ22+BJ22 -> 0 | L22: =V22+AF22+AP22+BA22+BK22 -> 632.8 | M22: =W22+AG22+AQ22+BB22+BL22 -> 0 | N22: =G22/E22/12*1000 -> 43094.907 | O22: =[5]ДШИ!$E$19 -> 1 | Q22: =[5]ДШИ!$AP$19 -> 851.9 | R22: =[5]ДШИ!$BH$19 -> 357.4 | T22: =[5]ДШИ!$CS$19 -> 851.9 | X22: =Q22/O22/12*1000 -> 70991.667 | Z22: =[5]ДШИ!$X$19 -> 0.1 | AC22: =[5]ДШИ!$CB$19 -> 26.3 | AF22: =[5]ДШИ!$EV$19 -> 26.3 | AH22: =AA22/Y22/12*1000 -> #DIV/0! | AI22: =[5]ДШИ!$G$19 -> 10 | AJ22: =[5]ДШИ!$Y$19 -> 2.2 | AK22: =[5]ДШИ!$AR$19 -> 5534.2 | AM22: =[5]ДШИ!$CC$19 -> 580.7 | AN22: =[5]ДШИ!$CU$19 -> 5534.2 | AP22: =[5]ДШИ!$EW$19 -> 580.7 | AR22: =AK22/AI22/12*1000 -> 46118.333 | AS22: =AR22/$AS$3*100 -> 121.81925 | BC22: =AV22/AT22/12*1000 -> #DIV/0! | BD22: =[5]ДШИ!$U$19 -> 3.4 | BE22: =[5]ДШИ!$AM$19 -> 0.1 | BF22: =[5]ДШИ!$BF$19 -> 1060.7 | BH22: =[5]ДШИ!$CQ$19 -> 25.8 | BI22: =[5]ДШИ!$DI$19 -> 1060.7 | BK22: =[5]ДШИ!$FK$19 -> 25.8 | BM22: =BF22/BD22/12*1000 -> 25997.549
A23: Парабельский район | B23: 36307062 | C23: 85.41.2 | D23: Муниципальное бюджетное учреждение дополнительного образования "Детская школа искусств им. Геннадия и Александра Заволокиных" | E23: =O23+Y23+AI23+AT23+BD23 -> 16.2 | F23: =P23+Z23+AJ23+AU23+BE23 -> 0.9 | G23: =J23+K23 -> 7951.7 | H23: =R23+AB23+AL23+AW23+BG23 -> 0 | I23: =S23+AC23+AM23+AX23+BH23 -> 535.6 | J23: =T23+AD23+AN23+AY23+BI23 -> 7757.6 | K23: =U23+AE23+AO23+AZ23+BJ23 -> 194.1 | L23: =V23+AF23+AP23+BA23+BK23 -> 535.6 | M23: =W23+AG23+AQ23+BB23+BL23 -> 0 | N23: =G23/E23/12*1000 -> 40903.807 | O23: =[5]ДШИ!$E$20 -> 1 | Q23: =[5]ДШИ!$AP$20 -> 582.3 | T23: =[5]ДШИ!$CS$20 -> 582.3 | X23: =Q23/O23/12*1000 -> 48525 | Y23: =[5]ДШИ!$F$20 -> 1 | AA23: =[5]ДШИ!$AQ$20 -> 454 | AD23: =[5]ДШИ!$CT$20 -> 454 | AH23: =AA23/Y23/12*1000 -> 37833.333 | AI23: =[5]ДШИ!$G$20 -> 9.2 | AJ23: =[5]ДШИ!$Y$20 -> 0.9 | AK23: =[5]ДШИ!$AR$20 -> 5372.3 | AM23: =[5]ДШИ!$CC$20 -> 535.6 | AN23: =[5]ДШИ!$CU$20 -> 5242.3 | AO23: =[5]ДШИ!$EE$20 -> 130 | AP23: =[5]ДШИ!$EW$20 -> 535.6 | AR23: =AK23/AI23/12*1000 -> 48662.138 | AS23: =AR23/$AS$3*100 -> 128.53859 | BC23: =AV23/AT23/12*1000 -> #DIV/0! | BD23: =[5]ДШИ!$U$20 -> 5 | BF23: =[5]ДШИ!$BF$20 -> 1543.1 | BI23: =[5]ДШИ!$DI$20 -> 1479 | BJ23: =[5]ДШИ!$ES$20 -> 64.1 | BM23: =BF23/BD23/12*1000 -> 25718.333
A24: Первомайский район | B24: 49394536 | C24: 85.41.2 | D24: Муниципальное автономное образовательное учреждение дополнительного образования «Первомайская детская школа искусств" | E24: =O24+Y24+AI24+AT24+BD24 -> 12.3 | F24: =P24+Z24+AJ24+AU24+BE24 -> 1 | G24: =J24+K24 -> 5743.7 | H24: =R24+AB24+AL24+AW24+BG24 -> 331.6 | I24: =S24+AC24+AM24+AX24+BH24 -> 267.8 | J24: =T24+AD24+AN24+AY24+BI24 -> 5743.7 | K24: =U24+AE24+AO24+AZ24+BJ24 -> 0 | L24: =V24+AF24+AP24+BA24+BK24 -> 267.8 | M24: =W24+AG24+AQ24+BB24+BL24 -> 0 | N24: =G24/E24/12*1000 -> 38913.957 | O24: =[5]ДШИ!$E$21 -> 1 | Q24: =[5]ДШИ!$AP$21 -> 762.4 | R24: =[5]ДШИ!$BH$21 -> 331.6 | T24: =[5]ДШИ!$CS$21 -> 762.4 | X24: =Q24/O24/12*1000 -> 63533.333 | AH24: =AA24/Y24/12*1000 -> #DIV/0! | AI24: =[5]ДШИ!$G$21 -> 8.5 | AJ24: =[5]ДШИ!$Y$21 -> 1 | AK24: =[5]ДШИ!$AR$21 -> 4270.7 | AM24: =[5]ДШИ!$CC$21 -> 267.8 | AN24: =[5]ДШИ!$CU$21 -> 4270.7 | AP24: =[5]ДШИ!$EW$21 -> 267.8 | AR24: =AK24/AI24/12*1000 -> 41869.608 | AS24: =AR24/$AS$3*100 -> 110.59646 | BC24: =AV24/AT24/12*1000 -> #DIV/0! | BD24: =[5]ДШИ!$U$21 -> 2.8 | BF24: =[5]ДШИ!$BF$21 -> 710.6 | BI24: =[5]ДШИ!$DI$21 -> 710.6 | BM24: =BF24/BD24/12*1000 -> 21148.81
A25: Томский район | E25: =O25+Y25+AI25+AT25+BD25 -> 58.5 | F25: =P25+Z25+AJ25+AU25+BE25 -> 19.1 | G25: =J25+K25 -> 21636.7 | H25: =R25+AB25+AL25+AW25+BG25 -> 1738.2 | I25: =S25+AC25+AM25+AX25+BH25 -> 4412.5 | J25: =T25+AD25+AN25+AY25+BI25 -> 21548.4 | K25: =U25+AE25+AO25+AZ25+BJ25 -> 88.3 | L25: =V25+AF25+AP25+BA25+BK25 -> 4341.8 | M25: =W25+AG25+AQ25+BB25+BL25 -> 70.7 | N25: =G25/E25/12*1000 -> 30821.51 | O25: =O26+O27+O28+O29 -> 4 | P25: =P26+P27+P28+P29 -> 0 | Q25: =Q26+Q27+Q28+Q29 -> 2126.5 | R25: =R26+R27+R28+R29 -> 733.8 | S25: =S26+S27+S28+S29 -> 0 | T25: =T26+T27+T28+T29 -> 2126.5 | U25: =U26+U27+U28+U29 -> 0 | V25: =V26+V27+V28+V29 -> 0 | W25: =W26+W27+W28+W29 -> 0 | X25: =Q25/O25/12*1000 -> 44302.083 | Y25: =Y26+Y27+Y28+Y29 -> 2.9 | Z25: =Z26+Z27+Z28+Z29 -> 0 | AA25: =AA26+AA27+AA28+AA29 -> 1543 | AB25: =AB26+AB27+AB28+AB29 -> 544.4 | AC25: =AC26+AC27+AC28+AC29 -> 0 | AD25: =AD26+AD27+AD28+AD29 -> 1543 | AE25: =AE26+AE27+AE28+AE29 -> 0 | AF25: =AF26+AF27+AF28+AF29 -> 0 | AG25: =AG26+AG27+AG28+AG29 -> 0 | AH25: =AA25/Y25/12*1000 -> 44339.08 | AI25: =AI26+AI27+AI28+AI29 -> 35.6 | AJ25: =AJ26+AJ27+AJ28+AJ29 -> 15.6 | AK25: =AK26+AK27+AK28+AK29 -> 14541.9 | AL25: =AL26+AL27+AL28+AL29 -> 65.2 | AM25: =AM26+AM27+AM28+AM29 -> 3704.5 | AN25: =AN26+AN27+AN28+AN29 -> 14488 | AO25: =AO26+AO27+AO28+AO29 -> 53.9 | AP25: =AP26+AP27+AP28+AP29 -> 3633.8 | AQ25: =AQ26+AQ27+AQ28+AQ29 -> 70.7 | AR25: =AK25/AI25/12*1000 -> 34040.028 | AS25: =AR25/$AS$3*100 -> 89.91502 | AT25: =AT26+AT27+AT28+AT29 -> 0 | AU25: =AU26+AU27+AU28+AU29 -> 0 | AV25: =AV26+AV27+AV28+AV29 -> 0 | AW25: =AW26+AW27+AW28+AW29 -> 0 | AX25: =AX26+AX27+AX28+AX29 -> 0 | AY25: =AY26+AY27+AY28+AY29 -> 0 | AZ25: =AZ26+AZ27+AZ28+AZ29 -> 0 | BA25: =BA26+BA27+BA28+BA29 -> 0 | BB25: =BB26+BB27+BB28+BB29 -> 0 | BC25: =AV25/AT25/12*1000 -> #DIV/0! | BD25: =BD26+BD27+BD28+BD29 -> 16 | BE25: =BE26+BE27+BE28+BE29 -> 3.5 | BF25: =BF26+BF27+BF28+BF29 -> 3425.3 | BG25: =BG26+BG27+BG28+BG29 -> 394.8 | BH25: =BH26+BH27+BH28+BH29 -> 708 | BI25: =BI26+BI27+BI28+BI29 -> 3390.9 | BJ25: =BJ26+BJ27+BJ28+BJ29 -> 34.4 | BK25: =BK26+BK27+BK28+BK29 -> 708 | BL25: =BL26+BL27+BL28+BL29 -> 0 | BM25: =BF25/BD25/12*1000 -> 17840.104
B26: 44233780 | C26: 85.41 | D26: Муниципальное бюджетное образовательное учреждение дополнительного образования "Детская школа искусств д.Кисловка" | E26: =O26+Y26+AI26+AT26+BD26 -> 9.2 | F26: =P26+Z26+AJ26+AU26+BE26 -> 7.6 | G26: =J26+K26 -> 3580.3 | H26: =R26+AB26+AL26+AW26+BG26 -> 320.1 | I26: =S26+AC26+AM26+AX26+BH26 -> 1508 | J26: =T26+AD26+AN26+AY26+BI26 -> 3492 | K26: =U26+AE26+AO26+AZ26+BJ26 -> 88.3 | L26: =V26+AF26+AP26+BA26+BK26 -> 1437.3 | M26: =W26+AG26+AQ26+BB26+BL26 -> 70.7 | N26: =G26/E26/12*1000 -> 32430.254 | O26: 1 | Q26: 697.5 | R26: 294.4 | T26: 697.5 | X26: =Q26/O26/12*1000 -> 58125 | AH26: =AA26/Y26/12*1000 -> #DIV/0! | AI26: 5.7 | AJ26: 5.1 | AK26: 2323.7 | AL26: 25.7 | AM26: 1061.2 | AN26: 2269.8 | AO26: 53.9 | AP26: 990.5 | AQ26: 70.7 | AR26: =AK26/AI26/12*1000 -> 33972.222 | AS26: =AR26/$AS$3*100 -> 89.735914 | BC26: =AV26/AT26/12*1000 -> #DIV/0! | BD26: 2.5 | BE26: 2.5 | BF26: 559.1 | BH26: 446.8 | BI26: 524.7 | BJ26: 34.4 | BK26: 446.8 | BM26: =BF26/BD26/12*1000 -> 18636.667
B27: 44235684 | C27: 85.41 | D27: Муниципальное бюджетное образовательное учреждение дополнительного образования детей "Детская школа искуств п.Зональная Станция" | E27: =O27+Y27+AI27+AT27+BD27 -> 12.3 | F27: =P27+Z27+AJ27+AU27+BE27 -> 5.2 | G27: =J27+K27 -> 4663.8 | H27: =R27+AB27+AL27+AW27+BG27 -> 388.2 | I27: =S27+AC27+AM27+AX27+BH27 -> 1004.8 | J27: =T27+AD27+AN27+AY27+BI27 -> 4663.8 | K27: =U27+AE27+AO27+AZ27+BJ27 -> 0 | L27: =V27+AF27+AP27+BA27+BK27 -> 1004.8 | M27: =W27+AG27+AQ27+BB27+BL27 -> 0 | N27: =G27/E27/12*1000 -> 31597.561 | O27: 1 | Q27: 459.2 | R27: 67.5 | T27: 459.2 | X27: =Q27/O27/12*1000 -> 38266.667 | Y27: 0.6 | AA27: 332 | AB27: 163 | AD27: 332 | AH27: =AA27/Y27/12*1000 -> 46111.111 | AI27: 6.7 | AJ27: 4.7 | AK27: 2999.2 | AL27: 39.5 | AM27: 952.5 | AN27: 2999.2 | AP27: 952.5 | AR27: =AK27/AI27/12*1000 -> 37303.483 | AS27: =AR27/$AS$3*100 -> 98.53527 | BC27: =AV27/AT27/12*1000 -> #DIV/0! | BD27: 4 | BE27: 0.5 | BF27: 873.4 | BG27: 118.2 | BH27: 52.3 | BI27: 873.4 | BK27: 52.3 | BM27: =BF27/BD27/12*1000 -> 18195.833
B28: 44236407 | C28: 85.41 | D28: Муниципальное бюджетное образовательное учреждение дополнительного образования "Детская школа искусств п.Мирный" | E28: =O28+Y28+AI28+AT28+BD28 -> 14.8 | F28: =P28+Z28+AJ28+AU28+BE28 -> 1.4 | G28: =J28+K28 -> 5638 | H28: =R28+AB28+AL28+AW28+BG28 -> 437.6 | I28: =S28+AC28+AM28+AX28+BH28 -> 242 | J28: =T28+AD28+AN28+AY28+BI28 -> 5638 | K28: =U28+AE28+AO28+AZ28+BJ28 -> 0 | L28: =V28+AF28+AP28+BA28+BK28 -> 242 | M28: =W28+AG28+AQ28+BB28+BL28 -> 0 | N28: =G28/E28/12*1000 -> 31745.495 | O28: 1 | Q28: 237.3 | R28: 87.6 | T28: 237.3 | X28: =Q28/O28/12*1000 -> 19775 | Y28: 0.8 | AA28: 502 | AB28: 203.8 | AD28: 502 | AH28: =AA28/Y28/12*1000 -> 52291.667 | AI28: 11 | AJ28: 1.4 | AK28: 4471.5 | AM28: 242 | AN28: 4471.5 | AP28: 242 | AR28: =AK28/AI28/12*1000 -> 33875 | AS28: =AR28/$AS$3*100 -> 89.479106 | BC28: =AV28/AT28/12*1000 -> #DIV/0! | BD28: 2 | BF28: 427.2 | BG28: 146.2 | BI28: 427.2 | BM28: =BF28/BD28/12*1000 -> 17800
B29: 79190417 | C29: 85.41 | D29: Муниципальное бюджетное образовательное учреждение дополнительного образования "Детская школа искусств п.Молодежный" | E29: =O29+Y29+AI29+AT29+BD29 -> 22.2 | F29: =P29+Z29+AJ29+AU29+BE29 -> 4.9 | G29: =J29+K29 -> 7754.6 | H29: =R29+AB29+AL29+AW29+BG29 -> 592.3 | I29: =S29+AC29+AM29+AX29+BH29 -> 1657.7 | J29: =T29+AD29+AN29+AY29+BI29 -> 7754.6 | K29: =U29+AE29+AO29+AZ29+BJ29 -> 0 | L29: =V29+AF29+AP29+BA29+BK29 -> 1657.7 | M29: =W29+AG29+AQ29+BB29+BL29 -> 0 | N29: =G29/E29/12*1000 -> 29108.859 | O29: 1 | Q29: 732.5 | R29: 284.3 | T29: 732.5 | X29: =Q29/O29/12*1000 -> 61041.667 | Y29: 1.5 | AA29: 709 | AB29: 177.6 | AD29: 709 | AH29: =AA29/Y29/12*1000 -> 39388.889 | AI29: 12.2 | AJ29: 4.4 | AK29: 4747.5 | AM29: 1448.8 | AN29: 4747.5 | AP29: 1448.8 | AR29: =AK29/AI29/12*1000 -> 32428.279 | AS29: =AR29/$AS$3*100 -> 85.657665 | BC29: =AV29/AT29/12*1000 -> #DIV/0! | BD29: 7.5 | BE29: 0.5 | BF29: 1565.6 | BG29: 130.4 | BH29: 208.9 | BI29: 1565.6 | BK29: 208.9 | BM29: =BF29/BD29/12*1000 -> 17395.556
A30: Чаинский район | E30: =O30+Y30+AI30+AT30+BD30 -> 12.8 | F30: =P30+Z30+AJ30+AU30+BE30 -> 0 | G30: =J30+K30 -> 7478.7 | H30: =R30+AB30+AL30+AW30+BG30 -> 499 | I30: =S30+AC30+AM30+AX30+BH30 -> 0 | J30: =T30+AD30+AN30+AY30+BI30 -> 7478.7 | K30: =U30+AE30+AO30+AZ30+BJ30 -> 0 | L30: =V30+AF30+AP30+BA30+BK30 -> 0 | M30: =W30+AG30+AQ30+BB30+BL30 -> 0 | N30: =G30/E30/12*1000 -> 48689.453 | O30: =O31+O32 -> 2 | P30: =P31+P32 -> 0 | Q30: =Q31+Q32 -> 1519.3 | R30: =R31+R32 -> 499 | S30: =S31+S32 -> 0 | T30: =T31+T32 -> 1519.3 | U30: =U31+U32 -> 0 | V30: =V31+V32 -> 0 | W30: =W31+W32 -> 0 | X30: =Q30/O30/12*1000 -> 63304.167 | Y30: =Y31+Y32 -> 0 | Z30: =Z31+Z32 -> 0 | AA30: =AA31+AA32 -> 0 | AB30: =AB31+AB32 -> 0 | AC30: =AC31+AC32 -> 0 | AD30: =AD31+AD32 -> 0 | AE30: =AE31+AE32 -> 0 | AF30: =AF31+AF32 -> 0 | AG30: =AG31+AG32 -> 0 | AH30: =AA30/Y30/12*1000 -> #DIV/0! | AI30: =AI31+AI32 -> 9 | AJ30: =AJ31+AJ32 -> 0 | AK30: =AK31+AK32 -> 5437.6 | AL30: =AL31+AL32 -> 0 | AM30: =AM31+AM32 -> 0 | AN30: =AN31+AN32 -> 5437.6 | AO30: =AO31+AO32 -> 0 | AP30: =AP31+AP32 -> 0 | AQ30: =AQ31+AQ32 -> 0 | AR30: =AK30/AI30/12*1000 -> 50348.148 | AS30: =AR30/$AS$3*100 -> 132.9921 | AT30: =AT31+AT32 -> 0 | AU30: =AU31+AU32 -> 0 | AV30: =AV31+AV32 -> 0 | AW30: =AW31+AW32 -> 0 | AX30: =AX31+AX32 -> 0 | AY30: =AY31+AY32 -> 0 | AZ30: =AZ31+AZ32 -> 0 | BA30: =BA31+BA32 -> 0 | BB30: =BB31+BB32 -> 0 | BC30: =AV30/AT30/12*1000 -> #DIV/0! | BD30: =BD31+BD32 -> 1.8 | BE30: =BE31+BE32 -> 0 | BF30: =BF31+BF32 -> 521.8 | BG30: =BG31+BG32 -> 0 | BH30: =BH31+BH32 -> 0 | BI30: =BI31+BI32 -> 521.8 | BJ30: =BJ31+BJ32 -> 0 | BK30: =BK31+BK32 -> 0 | BL30: =BL31+BL32 -> 0 | BM30: =BF30/BD30/12*1000 -> 24157.407
B31: 46631763 | C31: 85.41.2 | D31: Муниципальное бюджетное образовательное учреждение дополнительного образования "Подгорнская детская музыкальная школа" | E31: =O31+Y31+AI31+AT31+BD31 -> 6.8 | F31: =P31+Z31+AJ31+AU31+BE31 -> 0 | G31: =J31+K31 -> 4116.5 | H31: =R31+AB31+AL31+AW31+BG31 -> 284.8 | I31: =S31+AC31+AM31+AX31+BH31 -> 0 | J31: =T31+AD31+AN31+AY31+BI31 -> 4116.5 | K31: =U31+AE31+AO31+AZ31+BJ31 -> 0 | L31: =V31+AF31+AP31+BA31+BK31 -> 0 | M31: =W31+AG31+AQ31+BB31+BL31 -> 0 | N31: =G31/E31/12*1000 -> 50447.304 | O31: 1 | Q31: 795.6 | R31: 284.8 | T31: 795.6 | X31: =Q31/O31/12*1000 -> 66300 | AH31: =AA31/Y31/12*1000 -> #DIV/0! | AI31: 5 | AK31: 3091.5 | AN31: 3091.5 | AR31: =AK31/AI31/12*1000 -> 51525 | AS31: =AR31/$AS$3*100 -> 136.10069 | BC31: =AV31/AT31/12*1000 -> #DIV/0! | BD31: 0.8 | BF31: 229.4 | BI31: 229.4 | BM31: =BF31/BD31/12*1000 -> 23895.833
B32: 46631786 | C32: 85.41.2 | D32: Муниципальное бюджетное образовательное учреждение дополнительного образования "Подгорнская детская художественная школа" | E32: =O32+Y32+AI32+AT32+BD32 -> 6 | F32: =P32+Z32+AJ32+AU32+BE32 -> 0 | G32: =J32+K32 -> 3362.2 | H32: =R32+AB32+AL32+AW32+BG32 -> 214.2 | I32: =S32+AC32+AM32+AX32+BH32 -> 0 | J32: =T32+AD32+AN32+AY32+BI32 -> 3362.2 | K32: =U32+AE32+AO32+AZ32+BJ32 -> 0 | L32: =V32+AF32+AP32+BA32+BK32 -> 0 | M32: =W32+AG32+AQ32+BB32+BL32 -> 0 | N32: =G32/E32/12*1000 -> 46697.222 | O32: 1 | Q32: 723.7 | R32: 214.2 | T32: 723.7 | X32: =Q32/O32/12*1000 -> 60308.333 | AH32: =AA32/Y32/12*1000 -> #DIV/0! | AI32: 4 | AK32: 2346.1 | AN32: 2346.1 | AR32: =AK32/AI32/12*1000 -> 48877.083 | AS32: =AR32/$AS$3*100 -> 129.10635 | BC32: =AV32/AT32/12*1000 -> #DIV/0! | BD32: 1 | BF32: 292.4 | BI32: 292.4 | BM32: =BF32/BD32/12*1000 -> 24366.667
A33: г. Томск | E33: =O33+Y33+AI33+AT33+BD33 -> 327.3 | F33: =P33+Z33+AJ33+AU33+BE33 -> 46.8 | G33: =J33+K33 -> 129802.2 | H33: =R33+AB33+AL33+AW33+BG33 -> 18113.2 | I33: =S33+AC33+AM33+AX33+BH33 -> 10880.8 | J33: =T33+AD33+AN33+AY33+BI33 -> 114221.5 | K33: =U33+AE33+AO33+AZ33+BJ33 -> 15580.7 | L33: =V33+AF33+AP33+BA33+BK33 -> 10325.4 | M33: =W33+AG33+AQ33+BB33+BL33 -> 555.4 | N33: =G33/E33/12*1000 -> 33048.732 | O33: =O34+O35+O36+O37+O38+O39+O40+O41 -> 8 | P33: =P34+P35+P36+P37+P38+P39+P40+P41 -> 0 | Q33: =Q34+Q35+Q36+Q37+Q38+Q39+Q40+Q41 -> 9955.8 | R33: =R34+R35+R36+R37+R38+R39+R40+R41 -> 1910.4 | S33: =S34+S35+S36+S37+S38+S39+S40+S41 -> 0 | T33: =T34+T35+T36+T37+T38+T39+T40+T41 -> 8740.8 | U33: =U34+U35+U36+U37+U38+U39+U40+U41 -> 1215 | V33: =V34+V35+V36+V37+V38+V39+V40+V41 -> 0 | W33: =W34+W35+W36+W37+W38+W39+W40+W41 -> 0 | X33: =Q33/O33/12*1000 -> 103706.25 | Y33: =Y34+Y35+Y36+Y37+Y38+Y39+Y40+Y41 -> 15 | Z33: =Z34+Z35+Z36+Z37+Z38+Z39+Z40+Z41 -> 0 | AA33: =AA34+AA35+AA36+AA37+AA38+AA39+AA40+AA41 -> 7195.2 | AB33: =AB34+AB35+AB36+AB37+AB38+AB39+AB40+AB41 -> 714.4 | AC33: =AC34+AC35+AC36+AC37+AC38+AC39+AC40+AC41 -> 0 | AD33: =AD34+AD35+AD36+AD37+AD38+AD39+AD40+AD41 -> 6037.6 | AE33: =AE34+AE35+AE36+AE37+AE38+AE39+AE40+AE41 -> 1157.6 | AF33: =AF34+AF35+AF36+AF37+AF38+AF39+AF40+AF41 -> 0 | AG33: =AG34+AG35+AG36+AG37+AG38+AG39+AG40+AG41 -> 0 | AH33: =AA33/Y33/12*1000 -> 39973.333 | AI33: =AI34+AI35+AI36+AI37+AI38+AI39+AI40+AI41 -> 224 | AJ33: =AJ34+AJ35+AJ36+AJ37+AJ38+AJ39+AJ40+AJ41 -> 29.2 | AK33: =AK34+AK35+AK36+AK37+AK38+AK39+AK40+AK41 -> 93452.5 | AL33: =AL34+AL35+AL36+AL37+AL38+AL39+AL40+AL41 -> 13640.8 | AM33: =AM34+AM35+AM36+AM37+AM38+AM39+AM40+AM41 -> 6943.9 | AN33: =AN34+AN35+AN36+AN37+AN38+AN39+AN40+AN41 -> 82964 | AO33: =AO34+AO35+AO36+AO37+AO38+AO39+AO40+AO41 -> 10488.5 | AP33: =AP34+AP35+AP36+AP37+AP38+AP39+AP40+AP41 -> 6627.1 | AQ33: =AQ34+AQ35+AQ36+AQ37+AQ38+AQ39+AQ40+AQ41 -> 316.8 | AR33: =AK33/AI33/12*1000 -> 34766.555 | AS33: =AR33/$AS$3*100 -> 91.834104 | AT33: =AT34+AT35+AT36+AT37+AT38+AT39+AT40+AT41 -> 7.5 | AU33: =AU34+AU35+AU36+AU37+AU38+AU39+AU40+AU41 -> 1.4 | AV33: =AV34+AV35+AV36+AV37+AV38+AV39+AV40+AV41 -> 1719.3 | AW33: =AW34+AW35+AW36+AW37+AW38+AW39+AW40+AW41 -> 73.9 | AX33: =AX34+AX35+AX36+AX37+AX38+AX39+AX40+AX41 -> 213.3 | AY33: =AY34+AY35+AY36+AY37+AY38+AY39+AY40+AY41 -> 1545.7 | AZ33: =AZ34+AZ35+AZ36+AZ37+AZ38+AZ39+AZ40+AZ41 -> 173.6 | BA33: =BA34+BA35+BA36+BA37+BA38+BA39+BA40+BA41 -> 213.3 | BB33: =BB34+BB35+BB36+BB37+BB38+BB39+BB40+BB41 -> 0 | BC33: =AV33/AT33/12*1000 -> 19103.333 | BD33: =BD34+BD35+BD36+BD37+BD38+BD39+BD40+BD41 -> 72.8 | BE33: =BE34+BE35+BE36+BE37+BE38+BE39+BE40+BE41 -> 16.2 | BF33: =BF34+BF35+BF36+BF37+BF38+BF39+BF40+BF41 -> 17479.4 | BG33: =BG34+BG35+BG36+BG37+BG38+BG39+BG40+BG41 -> 1773.7 | BH33: =BH34+BH35+BH36+BH37+BH38+BH39+BH40+BH41 -> 3723.6 | BI33: =BI34+BI35+BI36+BI37+BI38+BI39+BI40+BI41 -> 14933.4 | BJ33: =BJ34+BJ35+BJ36+BJ37+BJ38+BJ39+BJ40+BJ41 -> 2546 | BK33: =BK34+BK35+BK36+BK37+BK38+BK39+BK40+BK41 -> 3485 | BL33: =BL34+BL35+BL36+BL37+BL38+BL39+BL40+BL41 -> 238.6 | BM33: =BF33/BD33/12*1000 -> 20008.471
B34: 34034915 | C34: 85.41 | D34: Муниципальное автономное образовательное учреждение дополнительного образования «Детская художественная школа №1» Города Томска | E34: =O34+Y34+AI34+AT34+BD34 -> 30 | F34: =P34+Z34+AJ34+AU34+BE34 -> 1.2 | G34: =J34+K34 -> 13893 | H34: =R34+AB34+AL34+AW34+BG34 -> 610.2 | I34: =S34+AC34+AM34+AX34+BH34 -> 299.3 | J34: =T34+AD34+AN34+AY34+BI34 -> 7669 | K34: =U34+AE34+AO34+AZ34+BJ34 -> 6224 | L34: =V34+AF34+AP34+BA34+BK34 -> 207 | M34: =W34+AG34+AQ34+BB34+BL34 -> 92.3 | N34: =G34/E34/12*1000 -> 38591.667 | O34: 1 | Q34: 1240.6 | T34: 956.7 | U34: 283.9 | X34: =Q34/O34/12*1000 -> 103383.33 | Y34: 3 | AA34: 1096.7 | AD34: 661.6 | AE34: 435.1 | AH34: =AA34/Y34/12*1000 -> 30463.889 | AI34: 15.8 | AK34: 8753.5 | AL34: 600.9 | AN34: 4386.2 | AO34: 4367.3 | AR34: =AK34/AI34/12*1000 -> 46168.249 | AS34: =AR34/$AS$3*100 -> 121.9511 | AT34: 1 | AV34: 220.2 | AY34: 110.8 | AZ34: 109.4 | BC34: =AV34/AT34/12*1000 -> 18350 | BD34: 9.2 | BE34: 1.2 | BF34: 2582 | BG34: 9.3 | BH34: 299.3 | BI34: 1553.7 | BJ34: 1028.3 | BK34: 207 | BL34: 92.3 | BM34: =BF34/BD34/12*1000 -> 23387.681
B35: 34035085 | C35: 85.41 | D35: Муниципальное автономное образовательное учреждение дополнительного образования «Детская художественная школа №2» Города Томска | E35: =O35+Y35+AI35+AT35+BD35 -> 30.5 | F35: =P35+Z35+AJ35+AU35+BE35 -> 3 | G35: =J35+K35 -> 12663.6 | H35: =R35+AB35+AL35+AW35+BG35 -> 920.3 | I35: =S35+AC35+AM35+AX35+BH35 -> 663.1 | J35: =T35+AD35+AN35+AY35+BI35 -> 7667.9 | K35: =U35+AE35+AO35+AZ35+BJ35 -> 4995.7 | L35: =V35+AF35+AP35+BA35+BK35 -> 477 | M35: =W35+AG35+AQ35+BB35+BL35 -> 186.1 | N35: =G35/E35/12*1000 -> 34600 | O35: 1 | Q35: 1584 | R35: 485.6 | T35: 1163.7 | U35: 420.3 | X35: =Q35/O35/12*1000 -> 132000 | Y35: 2 | AA35: 1151 | AD35: 660.5 | AE35: 490.5 | AH35: =AA35/Y35/12*1000 -> 47958.333 | AI35: 17.2 | AJ35: 0.6 | AK35: 7649.6 | AL35: 402.3 | AM35: 203.5 | AN35: 4474.8 | AO35: 3174.8 | AP35: 143.9 | AQ35: 59.6 | AR35: =AK35/AI35/12*1000 -> 37062.016 | AS35: =AR35/$AS$3*100 -> 97.897447 | BC35: =AV35/AT35/12*1000 -> #DIV/0! | BD35: 10.3 | BE35: 2.4 | BF35: 2279 | BG35: 32.4 | BH35: 459.6 | BI35: 1368.9 | BJ35: 910.1 | BK35: 333.1 | BL35: 126.5 | BM35: =BF35/BD35/12*1000 -> 18438.511
B36: 36280558 | C36: 85.41.2 | D36: Муниципальное бюджетное образовательное учреждение дополнительного образования «Детская музыкальная школа № 4» Города Томска | E36: =O36+Y36+AI36+AT36+BD36 -> 34.7 | F36: =P36+Z36+AJ36+AU36+BE36 -> 3.1 | G36: =J36+K36 -> 13303.3 | H36: =R36+AB36+AL36+AW36+BG36 -> 1754.3 | I36: =S36+AC36+AM36+AX36+BH36 -> 712.1 | J36: =T36+AD36+AN36+AY36+BI36 -> 13146 | K36: =U36+AE36+AO36+AZ36+BJ36 -> 157.3 | L36: =V36+AF36+AP36+BA36+BK36 -> 710.1 | M36: =W36+AG36+AQ36+BB36+BL36 -> 2 | N36: =G36/E36/12*1000 -> 31948.367 | O36: 1 | Q36: 1182.7 | R36: 304.9 | T36: 1164.8 | U36: 17.9 | X36: =Q36/O36/12*1000 -> 98558.333 | Y36: 1 | AA36: 480.4 | AB36: 7 | AD36: 469.2 | AE36: 11.2 | AH36: =AA36/Y36/12*1000 -> 40033.333 | AI36: 26.7 | AJ36: 1.6 | AK36: 10307.9 | AL36: 1231.6 | AM36: 344 | AN36: 10207.2 | AO36: 100.7 | AP36: 342 | AQ36: 2 | AR36: =AK36/AI36/12*1000 -> 32171.973 | AS36: =AR36/$AS$3*100 -> 84.980645 | BC36: =AV36/AT36/12*1000 -> #DIV/0! | BD36: 6 | BE36: 1.5 | BF36: 1332.3 | BG36: 210.8 | BH36: 368.1 | BI36: 1304.8 | BJ36: 27.5 | BK36: 368.1 | BM36: =BF36/BD36/12*1000 -> 18504.167
B37: 36280564 | C37: 85.41 | D37: Муниципальное автономное образовательное учреждение дополнительного образования «Детская школа искусств № 3» Города Томска | E37: =O37+Y37+AI37+AT37+BD37 -> 80.3 | F37: =P37+Z37+AJ37+AU37+BE37 -> 10.3 | G37: =J37+K37 -> 27830.1 | H37: =R37+AB37+AL37+AW37+BG37 -> 4491 | I37: =S37+AC37+AM37+AX37+BH37 -> 2034.2 | J37: =T37+AD37+AN37+AY37+BI37 -> 25634.4 | K37: =U37+AE37+AO37+AZ37+BJ37 -> 2195.7 | L37: =V37+AF37+AP37+BA37+BK37 -> 1991.2 | M37: =W37+AG37+AQ37+BB37+BL37 -> 43 | N37: =G37/E37/12*1000 -> 28881.382 | O37: 1 | Q37: 1360.5 | R37: 169.4 | T37: 1064.8 | U37: 295.7 | X37: =Q37/O37/12*1000 -> 113375 | Y37: 2 | AA37: 1183 | AB37: 293.2 | AD37: 1070.4 | AE37: 112.6 | AH37: =AA37/Y37/12*1000 -> 49291.667 | AI37: 54.1 | AJ37: 6.9 | AK37: 20281.3 | AL37: 3515.7 | AM37: 1275 | AN37: 18836.9 | AO37: 1444.4 | AP37: 1241.1 | AQ37: 33.9 | AR37: =AK37/AI37/12*1000 -> 31240.45 | AS37: =AR37/$AS$3*100 -> 82.520074 | AT37: 3 | AU37: 0.4 | AV37: 754.7 | AW37: 59.4 | AX37: 92 | AY37: 701.9 | AZ37: 52.8 | BA37: 92 | BC37: =AV37/AT37/12*1000 -> 20963.889 | BD37: 20.2 | BE37: 3 | BF37: 4250.6 | BG37: 453.3 | BH37: 667.2 | BI37: 3960.4 | BJ37: 290.2 | BK37: 658.1 | BL37: 9.1 | BM37: =BF37/BD37/12*1000 -> 17535.479
B38: 36285461 | C38: 85.41 | D38: Муниципальное бюджетное образовательное учреждение дополнительного образования «Детская школа искусств № 1 имени А.Г.Рубинштейна» Города Томска | E38: =O38+Y38+AI38+AT38+BD38 -> 55.1 | F38: =P38+Z38+AJ38+AU38+BE38 -> 10.1 | G38: =J38+K38 -> 22283.2 | H38: =R38+AB38+AL38+AW38+BG38 -> 3748 | I38: =S38+AC38+AM38+AX38+BH38 -> 2820.9 | J38: =T38+AD38+AN38+AY38+BI38 -> 21231.7 | K38: =U38+AE38+AO38+AZ38+BJ38 -> 1051.5 | L38: =V38+AF38+AP38+BA38+BK38 -> 2726.1 | M38: =W38+AG38+AQ38+BB38+BL38 -> 94.8 | N38: =G38/E38/12*1000 -> 33701.149 | O38: 1 | Q38: 1326.4 | R38: 323.1 | T38: 1221.3 | U38: 105.1 | X38: =Q38/O38/12*1000 -> 110533.33 | Y38: 2 | AA38: 775.4 | AD38: 753.4 | AE38: 22 | AH38: =AA38/Y38/12*1000 -> 32308.333 | AI38: 42.3 | AJ38: 8.6 | AK38: 17286.7 | AL38: 2982.4 | AM38: 2421.9 | AN38: 16537.7 | AO38: 749 | AP38: 2336.8 | AQ38: 85.1 | AR38: =AK38/AI38/12*1000 -> 34055.753 | AS38: =AR38/$AS$3*100 -> 89.956555 | AT38: 2 | AU38: 0.3 | AV38: 487.1 | AX38: 27.9 | AY38: 475.7 | AZ38: 11.4 | BA38: 27.9 | BC38: =AV38/AT38/12*1000 -> 20295.833 | BD38: 7.8 | BE38: 1.2 | BF38: 2407.6 | BG38: 442.5 | BH38: 371.1 | BI38: 2243.6 | BJ38: 164 | BK38: 361.4 | BL38: 9.7 | BM38: =BF38/BD38/12*1000 -> 25722.222
B39: 36288146 | C39: 85.41.2 | D39: Муниципальное бюджетное образовательное учреждение дополнительного образования «Детская музыкальная школа № 2» Города Томска | E39: =O39+Y39+AI39+AT39+BD39 -> 40 | F39: =P39+Z39+AJ39+AU39+BE39 -> 7 | G39: =J39+K39 -> 15593.5 | H39: =R39+AB39+AL39+AW39+BG39 -> 2992.1 | I39: =S39+AC39+AM39+AX39+BH39 -> 1585.4 | J39: =T39+AD39+AN39+AY39+BI39 -> 15246.8 | K39: =U39+AE39+AO39+AZ39+BJ39 -> 346.7 | L39: =V39+AF39+AP39+BA39+BK39 -> 1474.8 | M39: =W39+AG39+AQ39+BB39+BL39 -> 110.6 | N39: =G39/E39/12*1000 -> 32486.458 | O39: 1 | Q39: 959.2 | R39: 100.5 | T39: 923.2 | U39: 36 | X39: =Q39/O39/12*1000 -> 79933.333 | Y39: 3 | AA39: 1450.6 | AB39: 408.9 | AD39: 1384.6 | AE39: 66 | AH39: =AA39/Y39/12*1000 -> 40294.444 | AI39: 30.5 | AJ39: 5.6 | AK39: 12084.7 | AL39: 2379.3 | AM39: 1292.9 | AN39: 11918.9 | AO39: 165.8 | AP39: 1183.3 | AQ39: 109.6 | AR39: =AK39/AI39/12*1000 -> 33018.306 | AS39: =AR39/$AS$3*100 -> 87.216192 | AT39: 1 | AV39: 80.3 | AY39: 80.3 | BC39: =AV39/AT39/12*1000 -> 6691.6667 | BD39: 4.5 | BE39: 1.4 | BF39: 1018.7 | BG39: 103.4 | BH39: 292.5 | BI39: 939.8 | BJ39: 78.9 | BK39: 291.5 | BL39: 1 | BM39: =BF39/BD39/12*1000 -> 18864.815
B40: 46629223 | C40: 85.41 | D40: Муниципальное бюджетное образовательное учреждение дополнительного образования «Детская школа искусств № 5» Города Томска | E40: =O40+Y40+AI40+AT40+BD40 -> 39 | F40: =P40+Z40+AJ40+AU40+BE40 -> 8.8 | G40: =J40+K40 -> 17634 | H40: =R40+AB40+AL40+AW40+BG40 -> 2325.2 | I40: =S40+AC40+AM40+AX40+BH40 -> 2170 | J40: =T40+AD40+AN40+AY40+BI40 -> 17131.8 | K40: =U40+AE40+AO40+AZ40+BJ40 -> 502.2 | L40: =V40+AF40+AP40+BA40+BK40 -> 2145.4 | M40: =W40+AG40+AQ40+BB40+BL40 -> 24.6 | N40: =G40/E40/12*1000 -> 37679.487 | O40: 1 | Q40: 1434.4 | R40: 468.1 | T40: 1391.1 | U40: 43.3 | X40: =Q40/O40/12*1000 -> 119533.33 | Y40: 1 | AA40: 637.1 | AD40: 616.9 | AE40: 20.2 | AH40: =AA40/Y40/12*1000 -> 53091.667 | AI40: 27.4 | AJ40: 3.8 | AK40: 13066.3 | AL40: 1549.6 | AM40: 1025.7 | AN40: 12674.6 | AO40: 391.7 | AP40: 1001.1 | AQ40: 24.6 | AR40: =AK40/AI40/12*1000 -> 39739.355 | AS40: =AR40/$AS$3*100 -> 104.96951 | AT40: 0.5 | AU40: 0.4 | AV40: 177 | AW40: 14.5 | AX40: 45.9 | AY40: 177 | BA40: 45.9 | BC40: =AV40/AT40/12*1000 -> 29500 | BD40: 9.1 | BE40: 4.6 | BF40: 2319.2 | BG40: 293 | BH40: 1098.4 | BI40: 2272.2 | BJ40: 47 | BK40: 1098.4 | BM40: =BF40/BD40/12*1000 -> 21238.095
B41: 76643835 | C41: 85.41 | D41: Муниципальное бюджетное образовательное учреждение дополнительного образования «Детская школа искусств № 8» Города Томска | E41: =O41+Y41+AI41+AT41+BD41 -> 17.7 | F41: =P41+Z41+AJ41+AU41+BE41 -> 3.3 | G41: =J41+K41 -> 6601.5 | H41: =R41+AB41+AL41+AW41+BG41 -> 1272.1 | I41: =S41+AC41+AM41+AX41+BH41 -> 595.8 | J41: =T41+AD41+AN41+AY41+BI41 -> 6493.9 | K41: =U41+AE41+AO41+AZ41+BJ41 -> 107.6 | L41: =V41+AF41+AP41+BA41+BK41 -> 593.8 | M41: =W41+AG41+AQ41+BB41+BL41 -> 2 | N41: =G41/E41/12*1000 -> 31080.508 | O41: 1 | Q41: 868 | R41: 58.8 | T41: 855.2 | U41: 12.8 | X41: =Q41/O41/12*1000 -> 72333.333 | Y41: 1 | AA41: 421 | AB41: 5.3 | AD41: 421 | AH41: =AA41/Y41/12*1000 -> 35083.333 | AI41: 10 | AJ41: 2.1 | AK41: 4022.5 | AL41: 979 | AM41: 380.9 | AN41: 3927.7 | AO41: 94.8 | AP41: 378.9 | AQ41: 2 | AR41: =AK41/AI41/12*1000 -> 33520.833 | AS41: =AR41/$AS$3*100 -> 88.543593 | AU41: 0.3 | AX41: 47.5 | BA41: 47.5 | BC41: =AV41/AT41/12*1000 -> #DIV/0! | BD41: 5.7 | BE41: 0.9 | BF41: 1290 | BG41: 229 | BH41: 167.4 | BI41: 1290 | BK41: 167.4 | BM41: =BF41/BD41/12*1000 -> 18859.649
A42: г. Стрежевой | B42: 46635637 | C42: 85.41.2 | D42: Муниципальное бюджетное учреждение дополнительного образования «Детская школа искусств» городского округа Стрежевой | E42: =O42+Y42+AI42+AT42+BD42 -> 36.8 | F42: =P42+Z42+AJ42+AU42+BE42 -> 0.7 | G42: =J42+K42 -> 22473.4 | H42: =R42+AB42+AL42+AW42+BG42 -> 1061.6 | I42: =S42+AC42+AM42+AX42+BH42 -> 289 | J42: =T42+AD42+AN42+AY42+BI42 -> 21000.5 | K42: =U42+AE42+AO42+AZ42+BJ42 -> 1472.9 | L42: =V42+AF42+AP42+BA42+BK42 -> 289 | M42: =W42+AG42+AQ42+BB42+BL42 -> 0 | N42: =G42/E42/12*1000 -> 50890.851 | O42: =[5]ДШИ!$E$29 -> 1 | Q42: =[5]ДШИ!$AP$29 -> 1011.5 | T42: =[5]ДШИ!$CS$29 -> 1003.2 | U42: =[5]ДШИ!$EC$29 -> 8.3 | X42: =Q42/O42/12*1000 -> 84291.667 | Y42: =[5]ДШИ!$F$29 -> 3 | AA42: =[5]ДШИ!$AQ$29 -> 2113.9 | AB42: =[5]ДШИ!$BI$29 -> 225.4 | AD42: =[5]ДШИ!$CT$29 -> 2033.4 | AE42: =[5]ДШИ!$ED$29 -> 80.5 | AH42: =AA42/Y42/12*1000 -> 58719.444 | AI42: =[5]ДШИ!$G$29 -> 27.3 | AJ42: =[5]ДШИ!$Y$29 -> 0.3 | AK42: =[5]ДШИ!$AR$29 -> 16775.1 | AL42: =[5]ДШИ!$BJ$29 -> 679.9 | AM42: =[5]ДШИ!$CC$29 -> 128.6 | AN42: =[5]ДШИ!$CU$29 -> 15617.2 | AO42: =[5]ДШИ!$EE$29 -> 1157.9 | AP42: =[5]ДШИ!$EW$29 -> 128.6 | AR42: =AK42/AI42/12*1000 -> 51206.044 | AS42: =AR42/$AS$3*100 -> 135.25819 | AT42: =[5]ДШИ!$S$29 -> 1.5 | AU42: =[5]ДШИ!$AK$29 -> 0.4 | AV42: =[5]ДШИ!$BD$29 -> 970.8 | AW42: =[5]ДШИ!$BV$29 -> 46.5 | AX42: =[5]ДШИ!$CO$29 -> 160.4 | AY42: =[5]ДШИ!$DG$29 -> 876.2 | AZ42: =[5]ДШИ!$EQ$29 -> 94.6 | BA42: =[5]ДШИ!$FI$29 -> 160.4 | BC42: =AV42/AT42/12*1000 -> 53933.333 | BD42: =[5]ДШИ!$U$29 -> 4 | BF42: =[5]ДШИ!$BF$29 -> 1602.1 | BG42: =[5]ДШИ!$BX$29 -> 109.8 | BI42: =[5]ДШИ!$DI$29 -> 1470.5 | BJ42: =[5]ДШИ!$ES$29 -> 131.6 | BM42: =BF42/BD42/12*1000 -> 33377.083
A43: г. Кедровый | B43: 46622578 | C43: 85.41.2 | D43: Муниципальное бюджетное образовательное учреждение дополнительного образования "Детская школа искусств" г. Кедрового | E43: =O43+Y43+AI43+AT43+BD43 -> 5.1 | F43: =P43+Z43+AJ43+AU43+BE43 -> 0.9 | G43: =J43+K43 -> 3027.5 | H43: =R43+AB43+AL43+AW43+BG43 -> 430.6 | I43: =S43+AC43+AM43+AX43+BH43 -> 260.6 | J43: =T43+AD43+AN43+AY43+BI43 -> 3027.5 | K43: =U43+AE43+AO43+AZ43+BJ43 -> 0 | L43: =V43+AF43+AP43+BA43+BK43 -> 260.6 | M43: =W43+AG43+AQ43+BB43+BL43 -> 0 | N43: =G43/E43/12*1000 -> 49468.954 | O43: =[5]ДШИ!$E$30 -> 1 | Q43: =[5]ДШИ!$AP$30 -> 914.2 | R43: =[5]ДШИ!$BH$30 -> 430.6 | T43: =[5]ДШИ!$CS$30 -> 914.2 | X43: =Q43/O43/12*1000 -> 76183.333 | AH43: =AA43/Y43/12*1000 -> #DIV/0! | AI43: =[5]ДШИ!$G$30 -> 2.1 | AJ43: =[5]ДШИ!$Y$30 -> 0.9 | AK43: =[5]ДШИ!$AR$30 -> 1517.4 | AM43: =[5]ДШИ!$CC$30 -> 260.6 | AN43: =[5]ДШИ!$CU$30 -> 1517.4 | AP43: =[5]ДШИ!$EW$30 -> 260.6 | AR43: =AK43/AI43/12*1000 -> 60214.286 | AS43: =AR43/$AS$3*100 -> 159.053 | BC43: =AV43/AT43/12*1000 -> #DIV/0! | BD43: =[5]ДШИ!$U$30 -> 2 | BF43: =[5]ДШИ!$BF$30 -> 595.9 | BI43: =[5]ДШИ!$DI$30 -> 595.9 | BM43: =BF43/BD43/12*1000 -> 24829.167
A44: ЗАТО Северск | E44: =O44+Y44+AI44+AT44+BD44 -> 223.9 | F44: =P44+Z44+AJ44+AU44+BE44 -> 13.1 | G44: =J44+K44 -> 89682.1 | H44: =R44+AB44+AL44+AW44+BG44 -> 6429.3 | I44: =S44+AC44+AM44+AX44+BH44 -> 4100.8 | J44: =T44+AD44+AN44+AY44+BI44 -> 88171.9 | K44: =U44+AE44+AO44+AZ44+BJ44 -> 1510.2 | L44: =V44+AF44+AP44+BA44+BK44 -> 4096.9 | M44: =W44+AG44+AQ44+BB44+BL44 -> 3.9 | N44: =G44/E44/12*1000 -> 33378.778 | O44: =O45+O46+O47 -> 3 | P44: =P45+P46+P47 -> 0 | Q44: =Q45+Q46+Q47 -> 2380 | R44: =R45+R46+R47 -> 256.8 | S44: =S45+S46+S47 -> 0 | T44: =T45+T46+T47 -> 2131.8 | U44: =U45+U46+U47 -> 248.2 | V44: =V45+V46+V47 -> 0 | W44: =W45+W46+W47 -> 0 | X44: =Q44/O44/12*1000 -> 66111.111 | Y44: =Y45+Y46+Y47 -> 9 | Z44: =Z45+Z46+Z47 -> 0 | AA44: =AA45+AA46+AA47 -> 6174.6 | AB44: =AB45+AB46+AB47 -> 472.6 | AC44: =AC45+AC46+AC47 -> 0 | AD44: =AD45+AD46+AD47 -> 5749.1 | AE44: =AE45+AE46+AE47 -> 425.5 | AF44: =AF45+AF46+AF47 -> 0 | AG44: =AG45+AG46+AG47 -> 0 | AH44: =AA44/Y44/12*1000 -> 57172.222 | AI44: =AI45+AI46+AI47 -> 127.4 | AJ44: =AJ45+AJ46+AJ47 -> 8.5 | AK44: =AK45+AK46+AK47 -> 56063.8 | AL44: =AL45+AL46+AL47 -> 2939.4 | AM44: =AM45+AM46+AM47 -> 2586.7 | AN44: =AN45+AN46+AN47 -> 55458.2 | AO44: =AO45+AO46+AO47 -> 605.6 | AP44: =AP45+AP46+AP47 -> 2582.8 | AQ44: =AQ45+AQ46+AQ47 -> 3.9 | AR44: =AK44/AI44/12*1000 -> 36671.769 | AS44: =AR44/$AS$3*100 -> 96.86663 | AT44: =AT45+AT46+AT47 -> 9 | AU44: =AU45+AU46+AU47 -> 0.3 | AV44: =AV45+AV46+AV47 -> 3537.4 | AW44: =AW45+AW46+AW47 -> 871.1 | AX44: =AX45+AX46+AX47 -> 78.9 | AY44: =AY45+AY46+AY47 -> 3536.4 | AZ44: =AZ45+AZ46+AZ47 -> 1 | BA44: =BA45+BA46+BA47 -> 78.9 | BB44: =BB45+BB46+BB47 -> 0 | BC44: =AV44/AT44/12*1000 -> 32753.704 | BD44: =BD45+BD46+BD47 -> 75.5 | BE44: =BE45+BE46+BE47 -> 4.3 | BF44: =BF45+BF46+BF47 -> 21526.3 | BG44: =BG45+BG46+BG47 -> 1889.4 | BH44: =BH45+BH46+BH47 -> 1435.2 | BI44: =BI45+BI46+BI47 -> 21296.4 | BJ44: =BJ45+BJ46+BJ47 -> 229.9 | BK44: =BK45+BK46+BK47 -> 1435.2 | BL44: =BL45+BL46+BL47 -> 0 | BM44: =BF44/BD44/12*1000 -> 23759.713
B45: 12439787 | C45: 85.41.2 | D45: Муниципальное автономное учреждение дополнительного образования ЗАТО Северск "Детская школа искусств» | E45: =O45+Y45+AI45+AT45+BD45 -> 157 | F45: =P45+Z45+AJ45+AU45+BE45 -> 10.5 | G45: =J45+K45 -> 62856.9 | H45: =R45+AB45+AL45+AW45+BG45 -> 4394.1 | I45: =S45+AC45+AM45+AX45+BH45 -> 3476.6 | J45: =T45+AD45+AN45+AY45+BI45 -> 62273.1 | K45: =U45+AE45+AO45+AZ45+BJ45 -> 583.8 | L45: =V45+AF45+AP45+BA45+BK45 -> 3472.7 | M45: =W45+AG45+AQ45+BB45+BL45 -> 3.9 | N45: =G45/E45/12*1000 -> 33363.535 | O45: 1 | Q45: 781.2 | T45: 708.7 | U45: 72.5 | X45: =Q45/O45/12*1000 -> 65100 | Y45: 4 | AA45: 2778.8 | AB45: 166.4 | AD45: 2648.2 | AE45: 130.6 | AH45: =AA45/Y45/12*1000 -> 57891.667 | AI45: 93.4 | AJ45: 8.4 | AK45: 41724 | AL45: 2291.4 | AM45: 2569.9 | AN45: 41495 | AO45: 229 | AP45: 2566 | AQ45: 3.9 | AR45: =AK45/AI45/12*1000 -> 37226.981 | AS45: =AR45/$AS$3*100 -> 98.333194 | AT45: 9 | AV45: 3537.4 | AW45: 871.1 | AY45: 3536.4 | AZ45: 1 | BC45: =AV45/AT45/12*1000 -> 32753.704 | BD45: 49.6 | BE45: 2.1 | BF45: 14035.5 | BG45: 1065.2 | BH45: 906.7 | BI45: 13884.8 | BJ45: 150.7 | BK45: 906.7 | BM45: =BF45/BD45/12*1000 -> 23581.149
B46: 28842502 | C46: 85.41.2 | D46: Муниципальное бюджетное учреждение дополнительного образования «Художественная школа» | E46: =O46+Y46+AI46+AT46+BD46 -> 42.2 | F46: =P46+Z46+AJ46+AU46+BE46 -> 0.9 | G46: =J46+K46 -> 17198.1 | H46: =R46+AB46+AL46+AW46+BG46 -> 1315.9 | I46: =S46+AC46+AM46+AX46+BH46 -> 213.3 | J46: =T46+AD46+AN46+AY46+BI46 -> 16292.4 | K46: =U46+AE46+AO46+AZ46+BJ46 -> 905.7 | L46: =V46+AF46+AP46+BA46+BK46 -> 213.3 | M46: =W46+AG46+AQ46+BB46+BL46 -> 0 | N46: =G46/E46/12*1000 -> 33961.493 | O46: 1 | Q46: 947.2 | R46: 109.5 | T46: 771.5 | U46: 175.7 | X46: =Q46/O46/12*1000 -> 78933.333 | Y46: 4 | AA46: 2916.8 | AB46: 306.2 | AD46: 2621.9 | AE46: 294.9 | AH46: =AA46/Y46/12*1000 -> 60766.667 | AI46: 21 | AJ46: 0.1 | AK46: 8505.4 | AL46: 355.9 | AM46: 16.8 | AN46: 8149.5 | AO46: 355.9 | AP46: 16.8 | AR46: =AK46/AI46/12*1000 -> 33751.587 | AS46: =AR46/$AS$3*100 -> 89.153118 | AU46: 0.3 | AX46: 78.9 | BA46: 78.9 | BC46: =AV46/AT46/12*1000 -> #DIV/0! | BD46: 16.2 | BE46: 0.5 | BF46: 4828.7 | BG46: 544.3 | BH46: 117.6 | BI46: 4749.5 | BJ46: 79.2 | BK46: 117.6 | BM46: =BF46/BD46/12*1000 -> 24838.992
B47: 46628867 | C47: 85.41.2 | D47: Муниципальное бюджетное учреждение дополнительного образования "Самусьская детская школа искусств" | E47: =O47+Y47+AI47+AT47+BD47 -> 24.7 | F47: =P47+Z47+AJ47+AU47+BE47 -> 1.7 | G47: =J47+K47 -> 9627.1 | H47: =R47+AB47+AL47+AW47+BG47 -> 719.3 | I47: =S47+AC47+AM47+AX47+BH47 -> 410.9 | J47: =T47+AD47+AN47+AY47+BI47 -> 9606.4 | K47: =U47+AE47+AO47+AZ47+BJ47 -> 20.7 | L47: =V47+AF47+AP47+BA47+BK47 -> 410.9 | M47: =W47+AG47+AQ47+BB47+BL47 -> 0 | N47: =G47/E47/12*1000 -> 32480.094 | O47: 1 | Q47: 651.6 | R47: 147.3 | T47: 651.6 | X47: =Q47/O47/12*1000 -> 54300 | Y47: 1 | AA47: 479 | AD47: 479 | AH47: =AA47/Y47/12*1000 -> 39916.667 | AI47: 13 | AK47: 5834.4 | AL47: 292.1 | AN47: 5813.7 | AO47: 20.7 | AR47: =AK47/AI47/12*1000 -> 37400 | AS47: =AR47/$AS$3*100 -> 98.790216 | BC47: =AV47/AT47/12*1000 -> #DIV/0! | BD47: 9.7 | BE47: 1.7 | BF47: 2662.1 | BG47: 279.9 | BH47: 410.9 | BI47: 2662.1 | BK47: 410.9 | BM47: =BF47/BD47/12*1000 -> 22870.275
A48: ВСЕГО | E48: =O48+Y48+AI48+AT48+BD48 -> 766 | F48: =P48+Z48+AJ48+AU48+BE48 -> 85.8 | G48: =Q48+AA48+AK48+AV48+BF48 -> 323395 | H48: =R48+AB48+AL48+AW48+BG48 -> 30722.4 | I48: =S48+AC48+AM48+AX48+BH48 -> 21576.5 | J48: =T48+AD48+AN48+AY48+BI48 -> 304453.3 | K48: =U48+AE48+AO48+AZ48+BJ48 -> 18941.7 | L48: =V48+AF48+AP48+BA48+BK48 -> 20946.5 | M48: =W48+AG48+AQ48+BB48+BL48 -> 630 | N48: =G48/E48/12*1000 -> 35182.224 | O48: =O19+O20+O21+O22+O23+O24+O25+O30+O33+O42+O43+O44 -> 25 | P48: =P19+P20+P21+P22+P23+P24+P25+P30+P33+P42+P43+P44 -> 0 | Q48: =Q19+Q20+Q21+Q22+Q23+Q24+Q25+Q30+Q33+Q42+Q43+Q44 -> 22396.1 | R48: =R19+R20+R21+R22+R23+R24+R25+R30+R33+R42+R43+R44 -> 5340.2 | S48: =S19+S20+S21+S22+S23+S24+S25+S30+S33+S42+S43+S44 -> 0 | T48: =T19+T20+T21+T22+T23+T24+T25+T30+T33+T42+T43+T44 -> 20924.6 | U48: =U19+U20+U21+U22+U23+U24+U25+U30+U33+U42+U43+U44 -> 1471.5 | V48: =V19+V20+V21+V22+V23+V24+V25+V30+V33+V42+V43+V44 -> 0 | W48: =W19+W20+W21+W22+W23+W24+W25+W30+W33+W42+W43+W44 -> 0 | X48: =Q48/O48/12*1000 -> 74653.667 | Y48: =Y19+Y20+Y21+Y22+Y23+Y24+Y25+Y30+Y33+Y42+Y43+Y44 -> 33.8 | Z48: =Z19+Z20+Z21+Z22+Z23+Z24+Z25+Z30+Z33+Z42+Z43+Z44 -> 0.1 | AA48: =AA19+AA20+AA21+AA22+AA23+AA24+AA25+AA30+AA33+AA42+AA43+AA44 -> 18983.8 | AB48: =AB19+AB20+AB21+AB22+AB23+AB24+AB25+AB30+AB33+AB42+AB43+AB44 -> 2394.8 | AC48: =AC19+AC20+AC21+AC22+AC23+AC24+AC25+AC30+AC33+AC42+AC43+AC44 -> 26.3 | AD48: =AD19+AD20+AD21+AD22+AD23+AD24+AD25+AD30+AD33+AD42+AD43+AD44 -> 17320.2 | AE48: =AE19+AE20+AE21+AE22+AE23+AE24+AE25+AE30+AE33+AE42+AE43+AE44 -> 1663.6 | AF48: =AF19+AF20+AF21+AF22+AF23+AF24+AF25+AF30+AF33+AF42+AF43+AF44 -> 26.3 | AG48: =AG19+AG20+AG21+AG22+AG23+AG24+AG25+AG30+AG33+AG42+AG43+AG44 -> 0 | AH48: =AA48/Y48/12*1000 -> 46804.241 | AI48: =AI19+AI20+AI21+AI22+AI23+AI24+AI25+AI30+AI33+AI42+AI43+AI44 -> 492.4 | AJ48: =AJ19+AJ20+AJ21+AJ22+AJ23+AJ24+AJ25+AJ30+AJ33+AJ42+AJ43+AJ44 -> 59.3 | AK48: =AK19+AK20+AK21+AK22+AK23+AK24+AK25+AK30+AK33+AK42+AK43+AK44 -> 224236.1 | AL48: =AL19+AL20+AL21+AL22+AL23+AL24+AL25+AL30+AL33+AL42+AL43+AL44 -> 17681.8 | AM48: =AM19+AM20+AM21+AM22+AM23+AM24+AM25+AM30+AM33+AM42+AM43+AM44 -> 15148 | AN48: =AN19+AN20+AN21+AN22+AN23+AN24+AN25+AN30+AN33+AN42+AN43+AN44 -> 211704.7 | AO48: =AO19+AO20+AO21+AO22+AO23+AO24+AO25+AO30+AO33+AO42+AO43+AO44 -> 12531.4 | AP48: =AP19+AP20+AP21+AP22+AP23+AP24+AP25+AP30+AP33+AP42+AP43+AP44 -> 14756.6 | AQ48: =AQ19+AQ20+AQ21+AQ22+AQ23+AQ24+AQ25+AQ30+AQ33+AQ42+AQ43+AQ44 -> 391.4 | AR48: =AK48/AI48/12*1000 -> 37949.516 | AS48: =AR48/$AS$3*100 -> 100.24173 | AT48: =AT19+AT20+AT21+AT22+AT23+AT24+AT25+AT30+AT33+AT42+AT43+AT44 -> 18 | AU48: =AU19+AU20+AU21+AU22+AU23+AU24+AU25+AU30+AU33+AU42+AU43+AU44 -> 2.3 | AV48: =AV19+AV20+AV21+AV22+AV23+AV24+AV25+AV30+AV33+AV42+AV43+AV44 -> 6227.5 | AW48: =AW19+AW20+AW21+AW22+AW23+AW24+AW25+AW30+AW33+AW42+AW43+AW44 -> 991.5 | AX48: =AX19+AX20+AX21+AX22+AX23+AX24+AX25+AX30+AX33+AX42+AX43+AX44 -> 509.6 | AY48: =AY19+AY20+AY21+AY22+AY23+AY24+AY25+AY30+AY33+AY42+AY43+AY44 -> 5958.3 | AZ48: =AZ19+AZ20+AZ21+AZ22+AZ23+AZ24+AZ25+AZ30+AZ33+AZ42+AZ43+AZ44 -> 269.2 | BA48: =BA19+BA20+BA21+BA22+BA23+BA24+BA25+BA30+BA33+BA42+BA43+BA44 -> 509.6 | BB48: =BB19+BB20+BB21+BB22+BB23+BB24+BB25+BB30+BB33+BB42+BB43+BB44 -> 0 | BC48: =AV48/AT48/12*1000 -> 28831.019 | BD48: =BD19+BD20+BD21+BD22+BD23+BD24+BD25+BD30+BD33+BD42+BD43+BD44 -> 196.8 | BE48: =BE19+BE20+BE21+BE22+BE23+BE24+BE25+BE30+BE33+BE42+BE43+BE44 -> 24.1 | BF48: =BF19+BF20+BF21+BF22+BF23+BF24+BF25+BF30+BF33+BF42+BF43+BF44 -> 51551.5 | BG48: =BG19+BG20+BG21+BG22+BG23+BG24+BG25+BG30+BG33+BG42+BG43+BG44 -> 4314.1 | BH48: =BH19+BH20+BH21+BH22+BH23+BH24+BH25+BH30+BH33+BH42+BH43+BH44 -> 5892.6 | BI48: =BI19+BI20+BI21+BI22+BI23+BI24+BI25+BI30+BI33+BI42+BI43+BI44 -> 48545.5 | BJ48: =BJ19+BJ20+BJ21+BJ22+BJ23+BJ24+BJ25+BJ30+BJ33+BJ42+BJ43+BJ44 -> 3006 | BK48: =BK19+BK20+BK21+BK22+BK23+BK24+BK25+BK30+BK33+BK42+BK43+BK44 -> 5654 | BL48: =BL19+BL20+BL21+BL22+BL23+BL24+BL25+BL30+BL33+BL42+BL43+BL44 -> 238.6 | BM48: =BF48/BD48/12*1000 -> 21829.057
A49: ВСЕГО ОГУ + МО | E49: =E48+E14 -> 852.8 | F49: =F48+F14 -> 93 | G49: =G48+G14 -> 360294.4 | H49: =H48+H14 -> 34136.3 | I49: =I48+I14 -> 23093.2 | J49: =J48+J14 -> 340803.6 | K49: =K48+K14 -> 19490.8 | L49: =L48+L14 -> 22449.2 | M49: =M48+M14 -> 644 | N49: =G49/E49/12*1000 -> 35207.004 | O49: =O48+O14 -> 29.4 | P49: =P48+P14 -> 0 | Q49: =Q48+Q14 -> 25002.1 | R49: =R48+R14 -> 5675.8 | S49: =S48+S14 -> 0 | T49: =T48+T14 -> 23508.1 | U49: =U48+U14 -> 1494 | V49: =V48+V14 -> 0 | W49: =W48+W14 -> 0 | X49: =Q49/O49/12*1000 -> 70867.63 | Y49: =Y48+Y14 -> 35.4 | Z49: =Z48+Z14 -> 0.1 | AA49: =AA48+AA14 -> 19447.1 | AB49: =AB48+AB14 -> 2662.1 | AC49: =AC48+AC14 -> 26.3 | AD49: =AD48+AD14 -> 17782.4 | AE49: =AE48+AE14 -> 1664.7 | AF49: =AF48+AF14 -> 26.3 | AG49: =AG48+AG14 -> 0 | AH49: =AA49/Y49/12*1000 -> 45779.426 | AI49: =AI48+AI14 -> 547.2 | AJ49: =AJ48+AJ14 -> 63.7 | AK49: =AK48+AK14 -> 249214.4 | AL49: =AL48+AL14 -> 19506.6 | AM49: =AM48+AM14 -> 16061.5 | AN49: =AN48+AN14 -> 236248.1 | AO49: =AO48+AO14 -> 12966.3 | AP49: =AP48+AP14 -> 15662.8 | AQ49: =AQ48+AQ14 -> 398.7 | AR49: =AK49/AI49/12*1000 -> 37952.973 | AS49: =AR49/$AS$3*100 -> 100.25087 | AT49: =AT48+AT14 -> 18 | AU49: =AU48+AU14 -> 2.3 | AV49: =AV48+AV14 -> 6227.5 | AW49: =AW48+AW14 -> 991.5 | AX49: =AX48+AX14 -> 509.6 | AY49: =AY48+AY14 -> 5958.3 | AZ49: =AZ48+AZ14 -> 269.2 | BA49: =BA48+BA14 -> 509.6 | BB49: =BB48+BB14 -> 0 | BC49: =AV49/AT49/12*1000 -> 28831.019 | BD49: =BD48+BD14 -> 222.8 | BE49: =BE48+BE14 -> 26.9 | BF49: =BF48+BF14 -> 60403.3 | BG49: =BG48+BG14 -> 5300.3 | BH49: =BH48+BH14 -> 6495.8 | BI49: =BI48+BI14 -> 57306.7 | BJ49: =BJ48+BJ14 -> 3096.6 | BK49: =BK48+BK14 -> 6250.5 | BL49: =BL48+BL14 -> 245.3 | BM49: =BF49/BD49/12*1000 -> 22592.497
C51: МО | D51: контроль | E51: =[5]ДШИ!$D$32 -> 766 | F51: =[5]ДШИ!$V$32 -> 85.8 | G51: =[5]ДШИ!$AN$32 -> 323395 | H51: =[5]ДШИ!$BG$32 -> 30722.4 | I51: =[5]ДШИ!$BY$32 -> 21576.5 | J51: =[5]ДШИ!$CR$32 -> 304453.3 | K51: =[5]ДШИ!$EB$32 -> 18941.7 | L51: =[5]ДШИ!$ET$32 -> 20946.5 | M51: =[5]ДШИ!$GD$32 -> 630 | N51: =[5]ДШИ!$GV$32 -> 35182.224 | O51: =[5]ДШИ!$E$32 -> 25 | P51: =[5]ДШИ!$W$32 -> 0 | Q51: =[5]ДШИ!$AP$32 -> 22396.1 | R51: =[5]ДШИ!$BH$32 -> 5340.2 | S51: =[5]ДШИ!$CA$32 -> 0 | T51: =[5]ДШИ!$CS$32 -> 20924.6 | U51: =[5]ДШИ!$EC$32 -> 1471.5 | V51: =[5]ДШИ!$EU$32 -> 0 | W51: =[5]ДШИ!$GE$32 -> 0 | X51: =[5]ДШИ!$GW$32 -> 74653.667 | Y51: =[5]ДШИ!$F$32 -> 33.8 | Z51: =[5]ДШИ!$X$32 -> 0.1 | AA51: =[5]ДШИ!$AQ$32 -> 18983.8 | AB51: =[5]ДШИ!$BI$32 -> 2394.8 | AC51: =[5]ДШИ!$CB$32 -> 26.3 | AD51: =[5]ДШИ!$CT$32 -> 17320.2 | AE51: =[5]ДШИ!$ED$32 -> 1663.6 | AF51: =[5]ДШИ!$EV$32 -> 26.3 | AG51: =[5]ДШИ!$GF$32 -> 0 | AH51: =[5]ДШИ!$GX$32 -> 46804.241 | AI51: =[5]ДШИ!$G$32 -> 492.4 | AJ51: =[5]ДШИ!$Y$32 -> 59.3 | AK51: =[5]ДШИ!$AR$32 -> 224236.1 | AL51: =[5]ДШИ!$BJ$32 -> 17681.8 | AM51: =[5]ДШИ!$CC$32 -> 15148 | AN51: =[5]ДШИ!$CU$32 -> 211704.7 | AO51: =[5]ДШИ!$EE$32 -> 12531.4 | AP51: =[5]ДШИ!$EW$32 -> 14756.6 | AQ51: =[5]ДШИ!$GG$32 -> 391.4 | AR51: =[5]ДШИ!$GY$32 -> 37949.516 | AT51: =[5]ДШИ!$S$32 -> 18 | AU51: =[5]ДШИ!$AK$32 -> 2.3 | AV51: =[5]ДШИ!$BD$32 -> 6227.5 | AW51: =[5]ДШИ!$BV$32 -> 991.5 | AX51: =[5]ДШИ!$CO$32 -> 509.6 | AY51: =[5]ДШИ!$DG$32 -> 5958.3 | AZ51: =[5]ДШИ!$EQ$32 -> 269.2 | BA51: =[5]ДШИ!$FI$32 -> 509.6 | BB51: =[5]ДШИ!$GS$32 -> 0 | BC51: =[5]ДШИ!$HG$32 -> 28831.019 | BD51: =[5]ДШИ!$U$32 -> 196.8 | BE51: =[5]ДШИ!$AM$32 -> 24.1 | BF51: =[5]ДШИ!$BF$32 -> 51551.5 | BG51: =[5]ДШИ!$BX$32 -> 4314.1 | BH51: =[5]ДШИ!$CQ$32 -> 5892.6 | BI51: =[5]ДШИ!$DI$32 -> 48545.5 | BJ51: =[5]ДШИ!$ES$32 -> 3006 | BK51: =[5]ДШИ!$FK$32 -> 5654 | BL51: =[5]ДШИ!$GU$32 -> 238.6 | BM51: =[5]ДШИ!$HH$32 -> 21829.057
E52: =E51-E48 -> 0 | F52: =F51-F48 -> 0 | G52: =G51-G48 -> 0 | H52: =H51-H48 -> 0 | I52: =I51-I48 -> 0 | J52: =J51-J48 -> 0 | K52: =K51-K48 -> 0 | L52: =L51-L48 -> 0 | ... AR52: =AR51-AR48 -> 0 | AT52: =AT51-AT48 -> 0 | AU52: =AU51-AU48 -> 0 | AV52: =AV51-AV48 -> 0 | AW52: =AW51-AW48 -> 0 | AX52: =AX51-AX48 -> 0 | AY52: =AY51-AY48 -> 0 | AZ52: =AZ51-AZ48 -> 0 | BA52: =BA51-BA48 -> 0 | ... BM52: =BM51-BM48 -> 0
C53: общий | D53: контроль | E53: =[5]ДШИ!$D$44 -> 852.8 | F53: =[5]ДШИ!$V$44 -> 93 | G53: =[5]ДШИ!$AN$44 -> 360294.4 | H53: =[5]ДШИ!$BG$44 -> 34136.3 | I53: =[5]ДШИ!$BY$44 -> 23093.2 | J53: =[5]ДШИ!$CR$44 -> 340803.6 | K53: =[5]ДШИ!$EB$44 -> 19490.8 | L53: =[5]ДШИ!$ET$44 -> 22449.2 | M53: =[5]ДШИ!$GD$44 -> 644 | N53: =[5]ДШИ!$GV$44 -> 35207.004 | O53: =[5]ДШИ!$E$44 -> 29.4 | P53: =[5]ДШИ!$W$44 -> 0 | Q53: =[5]ДШИ!$AP$44 -> 25002.1 | R53: =[5]ДШИ!$BH$44 -> 5675.8 | S53: =[5]ДШИ!$CA$44 -> 0 | T53: =[5]ДШИ!$CS$44 -> 23508.1 | U53: =[5]ДШИ!$EC$44 -> 1494 | V53: =[5]ДШИ!$EU$44 -> 0 | W53: =[5]ДШИ!$GE$44 -> 0 | X53: =[5]ДШИ!$GW$44 -> 70867.63 | Y53: =[5]ДШИ!$F$44 -> 35.4 | Z53: =[5]ДШИ!$X$44 -> 0.1 | AA53: =[5]ДШИ!$AQ$44 -> 19447.1 | AB53: =[5]ДШИ!$BI$44 -> 2662.1 | AC53: =[5]ДШИ!$CB$44 -> 26.3 | AD53: =[5]ДШИ!$CT$44 -> 17782.4 | AE53: =[5]ДШИ!$ED$44 -> 1664.7 | AF53: =[5]ДШИ!$EV$44 -> 26.3 | AG53: =[5]ДШИ!$GF$44 -> 0 | AH53: =[5]ДШИ!$GX$44 -> 45779.426 | AI53: =[5]ДШИ!$G$44 -> 547.2 | AJ53: =[5]ДШИ!$Y$44 -> 63.7 | AK53: =[5]ДШИ!$AR$44 -> 249214.4 | AL53: =[5]ДШИ!$BJ$44 -> 19506.6 | AM53: =[5]ДШИ!$CC$44 -> 16061.5 | AN53: =[5]ДШИ!$CU$44 -> 236248.1 | AO53: =[5]ДШИ!$EE$44 -> 12966.3 | AP53: =[5]ДШИ!$EW$44 -> 15662.8 | AQ53: =[5]ДШИ!$GG$44 -> 398.7 | AR53: =[5]ДШИ!$GY$44 -> 37952.973 | AT53: =[5]ДШИ!$S$44 -> 18 | AU53: =[5]ДШИ!$AK$44 -> 2.3 | AV53: =[5]ДШИ!$BD$44 -> 6227.5 | AW53: =[5]ДШИ!$BV$44 -> 991.5 | AX53: =[5]ДШИ!$CO$44 -> 509.6 | AY53: =[5]ДШИ!$DG$44 -> 5958.3 | AZ53: =[5]ДШИ!$EQ$44 -> 269.2 | BA53: =[5]ДШИ!$FI$44 -> 509.6 | BB53: =[5]ДШИ!$GS$44 -> 0 | BC53: =[5]ДШИ!$HG$44 -> 28831.019 | BD53: =[5]ДШИ!$U$44 -> 222.8 | BE53: =[5]ДШИ!$AM$44 -> 26.9 | BF53: =[5]ДШИ!$BF$44 -> 60403.3 | BG53: =[5]ДШИ!$BX$44 -> 5300.3 | BH53: =[5]ДШИ!$CQ$44 -> 6495.8 | BI53: =[5]ДШИ!$DI$44 -> 57306.7 | BJ53: =[5]ДШИ!$ES$44 -> 3096.6 | BK53: =[5]ДШИ!$FK$44 -> 6250.5 | BL53: =[5]ДШИ!$GU$44 -> 245.3 | BM53: =[5]ДШИ!$HH$44 -> 22592.497
E54: =E53-E49 -> 0 | F54: =F53-F49 -> 0 | G54: =G53-G49 -> 0 | H54: =H53-H49 -> 0 | I54: =I53-I49 -> 0 | J54: =J53-J49 -> 0 | K54: =K53-K49 -> 0 | L54: =L53-L49 -> 0 | ... AR54: =AR53-AR49 -> 0 | AT54: =AT53-AT49 -> 0 | AU54: =AU53-AU49 -> 0 | AV54: =AV53-AV49 -> 0 | AW54: =AW53-AW49 -> 0 | AX54: =AX53-AX49 -> 0 | AY54: =AY53-AY49 -> 0 | AZ54: =AZ53-AZ49 -> 0 | BA54: =BA53-BA49 -> 0 | ... BM54: =BM53-BM49 -> 0

Sheet приложение 2 ДПО
G1: Приложение 2
G2: к письму от _____________________№___________
A4: Мониторинг целевых показателей, установленных в плане мероприятий "дорожной карте" за 2020 года
A7: Наименование МУ | B7: Планируемая среднесписочная численность отдельной категории работников государственных и муниципальных учреждений, чел. | C7: Фактическая среднесписочная численность отдельной категории работников государственных и муниципальных учреждений на отчетный период, чел. | D7: Отношение средней заработной платы работников соответствующей категории к среднемесячному доходу от трудовой деятельности по Томской области, %* | E7: Средняя заработная плата отдельной категории работников списочного состава, руб. | G7: Плановое значение средней заработной платы отдельной категории работников на год, руб. | H7: Отклонение факта за отчетный период от планового значения на год, руб.
E8: план на отчетный период** | F8: факт за отчетный период | W8: оптимизация | X8: реорганизация
A9: 1 | B9: 2 | C9: 3 | D9: 4 | E9: 5 | F9: 6 | G9: 7 | H9: 8=6-7
A10: Педагогические работники дополнительного образования детей
A11: ОГАОУ ДО
A12: ОГАОУ ДО «Асиновская ДШИ» | B12: ='[7]ФОРМА 2 2020 (черновик)'!$JR$13 -> 19 | C12: ='[5]УК расш(о)'!$F$15 -> 19 | D12: =F12/37858*100 -> 92.909515 | E12: =G12 -> 35172.281 | F12: ='[5]УК расш(о)'!$Q$15 -> 35173.684 | G12: ='[7]ФОРМА 2 2020 (черновик)'!$JS$13 -> 35172.281 | H12: =F12-G12 -> 1.4035088
A13: ОГАОУ ДО «ДШИ» Верхнекетского района | B13: ='[7]ФОРМА 2 2020 (черновик)'!$JR$14 -> 10.8 | C13: ='[5]УК расш(о)'!$F$17 -> 10 | D13: =F13/37858*100 -> 110.66133 | E13: =G13 -> 41893.556 | F13: ='[5]УК расш(о)'!$Q$17 -> 41894.167 | G13: ='[7]ФОРМА 2 2020 (черновик)'!$JS$14 -> 41893.556 | H13: =F13-G13 -> 0.61033832
A14: ОГАОУ ДО «Зырянская ДШИ» | B14: ='[7]ФОРМА 2 2020 (черновик)'!$JR$15 -> 12 | C14: ='[5]УК расш(о)'!$F$19 -> 11 | D14: =F14/37858*100 -> 92.556795 | E14: =G14 -> 35040.139 | F14: ='[5]УК расш(о)'!$Q$19 -> 35040.152 | G14: ='[7]ФОРМА 2 2020 (черновик)'!$JS$15 -> 35040.139 | H14: =F14-G14 -> 0.012626263
A15: ОГАОУ ДО «Тегульдетская ДШИ» | B15: ='[7]ФОРМА 2 2020 (черновик)'!$JR$16 -> 4 | C15: ='[5]УК расш(о)'!$F$21 -> 5 | D15: =F15/37858*100 -> 134.14162 | E15: =G15 -> 50783.021 | F15: ='[5]УК расш(о)'!$Q$21 -> 50783.333 | G15: ='[7]ФОРМА 2 2020 (черновик)'!$JS$16 -> 50783.021 | H15: =F15-G15 -> 0.3125
A16: ОГАОУ ДО «ДШИ с.Мельниково» | B16: ='[7]ФОРМА 2 2020 (черновик)'!$JR$17 -> 9.8 | C16: ='[5]УК расш(о)'!$F$23 -> 9.8 | D16: =F16/37858*100 -> 95.66495 | E16: =G16 -> 36195.85 | F16: ='[5]УК расш(о)'!$Q$23 -> 36216.837 | G16: ='[7]ФОРМА 2 2020 (черновик)'!$JS$17 -> 36195.85 | H16: =F16-G16 -> 20.986395
A17: ИТОГО ОГАОУ: | B17: =B12+B13+B14+B15+B16 -> 55.6 | C17: =C12+C13+C14+C15+C16 -> 54.8 | D17: =F17/37858*100 -> 100.33291 | E17: =(E12*B12+E13*B13+E14*B14+E15*B15+E16*B16)/B17 -> 37752.821 | F17: =(F12*C12+F13*C13+F14*C14+F15*C15+F16*C16)/C17 -> 37984.033 | G17: =(G12*B12+G13*B13+G14*B14+G15*B15+G16*B16)/B17 -> 37752.821 | H17: =F17-G17 -> 231.21225
A18: Муниципальное образование
A19: Александровский район | W19: 38.6
A20: ='[6]Итого УК расш (о)'!$C$18 -> Муниципальное бюджетное образовательное учреждение дополнительного образования детей "Детская школа искусств" | B20: ='[7]ФОРМА 2 2020 (черновик)'!$JR$19 -> 8 | C20: ='[5]УК расш(о)'!$F$26 -> 8 | D20: =F20/37858*100 -> 148.38068 | E20: =G20 -> 56173.675 | F20: ='[5]УК расш(о)'!$Q$26 -> 56173.958 | G20: ='[7]ФОРМА 2 2020 (черновик)'!$JS$19 -> 56173.675 | H20: =F20-G20 -> 0.28289811
A21: Всего по муниципальному образованию "Александровский район" | B21: =SUM(B20:B20) -> 8 | C21: =SUM(C20:C20) -> 8 | D21: =F21/37858*100 -> 148.38068 | E21: =(B20*E20)/B21 -> 56173.675 | F21: =(C20*F20)/C21 -> 56173.958 | G21: =(B20*G20)/B21 -> 56173.675 | H21: =F21-G21 -> 0.28289811
A22: Каргасокский район | W22: 132
A23: ='[6]Итого УК расш (о)'!$C$27 -> Муниципальное бюджетное учреждение дополнительного образования "Каргасокская детская школа искусств" | B23: ='[7]ФОРМА 2 2020 (черновик)'!$JR$21 -> 11.7 | C23: ='[5]УК расш(о)'!$F$35 -> 14.4 | D23: =F23/37858*100 -> 125.07753 | E23: =G23 -> 47349.673 | F23: ='[5]УК расш(о)'!$Q$35 -> 47351.852 | G23: ='[7]ФОРМА 2 2020 (черновик)'!$JS$21 -> 47349.673 | H23: =F23-G23 -> 2.1787651
A24: Всего по муниципальному образованию "Каргасокский район" | B24: =SUM(B23:B23) -> 11.7 | C24: =SUM(C23:C23) -> 14.4 | D24: =F24/37858*100 -> 125.07753 | E24: =(B23*E23)/B24 -> 47349.673 | F24: =(C23*F23)/C24 -> 47351.852 | G24: =(B23*G23)/B24 -> 47349.673 | H24: =F24-G24 -> 2.1787651 | J24: =F24-E24 -> 2.1787651 | L24: б/л
A25: Кожевниковский район | W25: 0
A26: ='[6]Итого УК расш (о)'!$C$30 -> Муниципальное бюджетное образовательное учреждение дополнительного образования детей «Кожевниковская детская школа искусств» | B26: ='[7]ФОРМА 2 2020 (черновик)'!$JR$22 -> 17.9 | C26: ='[5]УК расш(о)'!$F$38 -> 16.9 | D26: =F26/37858*100 -> 100.23311 | E26: =G26 -> 37924.287 | F26: ='[5]УК расш(о)'!$Q$38 -> 37946.252 | G26: ='[7]ФОРМА 2 2020 (черновик)'!$JS$22 -> 37924.287 | H26: =F26-G26 -> 21.96545
A27: Всего по муниципальному образованию "Кожевниковский район" | B27: =B26 -> 17.9 | C27: =C26 -> 16.9 | D27: =F27/37858*100 -> 100.23311 | E27: =(B26*E26)/B27 -> 37924.287 | F27: =(C26*F26)/C27 -> 37946.252 | G27: =(B26*G26)/B27 -> 37924.287 | H27: =F27-G27 -> 21.96545 | I27: =C27-B27 -> -1 | J27: =F27-E27 -> 21.96545 | L27: не выплата отпускных
A28: Молчановский район | W28: 0
A29: ='[6]Итого УК расш (о)'!$C$33 -> Муниципальное бюджетное образовательное учреждение дополнительного образования детей "Молчановская детская музыкальная школа" | B29: ='[7]ФОРМА 2 2020 (черновик)'!$JR$23 -> 10 | C29: ='[5]УК расш(о)'!$F$41 -> 10 | D29: =F29/37858*100 -> 121.81925 | E29: =G29 -> 46118.43 | F29: ='[5]УК расш(о)'!$Q$41 -> 46118.333 | G29: ='[7]ФОРМА 2 2020 (черновик)'!$JS$23 -> 46118.43 | H29: =F29-G29 -> -0.096774194
A30: Всего по муниципальному образованию "Молчановский район" | B30: =SUM(B29:B29) -> 10 | C30: =SUM(C29:C29) -> 10 | D30: =F30/37858*100 -> 121.81925 | E30: =(B29*E29)/B30 -> 46118.43 | F30: =(C29*F29)/C30 -> 46118.333 | G30: =(B29*G29)/B30 -> 46118.43 | H30: =F30-G30 -> -0.096774194
A31: Парабельский район | W31: 92.2
A32: ='[6]Итого УК расш (о)'!$C$36 -> Муниципальное бюджетное образовательное учреждение дополнительного образования детей "Детская школа искусств им. Г.Д. Заволокина" | B32: ='[7]ФОРМА 2 2020 (черновик)'!$JR$24 -> 8.3 | C32: ='[5]УК расш(о)'!$F$44 -> 9.2 | D32: =F32/37858*100 -> 128.53859 | E32: =G32 -> 48661.679 | F32: ='[5]УК расш(о)'!$Q$44 -> 48662.138 | G32: ='[7]ФОРМА 2 2020 (черновик)'!$JS$24 -> 48661.679 | H32: =F32-G32 -> 0.45839875
A33: Всего по муниципальному образованию "Парабельский район" | B33: =SUM(B32:B32) -> 8.3 | C33: =SUM(C32:C32) -> 9.2 | D33: =F33/37858*100 -> 128.53859 | E33: =(B32*E32)/B33 -> 48661.679 | F33: =(C32*F32)/C33 -> 48662.138 | G33: =(B32*G32)/B33 -> 48661.679 | H33: =F33-G33 -> 0.45839875
A34: Первомайский район | W34: 0
A35: ='[6]Итого УК расш (о)'!$C$40 -> Муниципальное автономное образовательное учреждение дополнительного образования детей «Первомайская детская школа искусств" | B35: ='[7]ФОРМА 2 2020 (черновик)'!$JR$25 -> 8.5 | C35: ='[5]УК расш(о)'!$F$47 -> 8.5 | D35: =F35/37858*100 -> 110.59646 | E35: =G35 -> 41869.377 | F35: ='[5]УК расш(о)'!$Q$47 -> 41869.608 | G35: ='[7]ФОРМА 2 2020 (черновик)'!$JS$25 -> 41869.377 | H35: =F35-G35 -> 0.23086654
A36: Всего по муниципальному образованию "Первомайский район" | B36: =B35 -> 8.5 | C36: =C35 -> 8.5 | D36: =F36/37858*100 -> 110.59646 | E36: =(B35*E35)/B36 -> 41869.377 | F36: =(F35*C35)/C36 -> 41869.608 | G36: =(G35*B35)/B36 -> 41869.377 | H36: =F36-G36 -> 0.23086654
A37: Томский район | W37: 283
A38: ='[6]Итого УК расш (о)'!$C$49 -> Муниципальное бюджетное образовательное учреждение дополнительного образования детей "Детская школа искусств п.Зональная Станция" | B38: ='[7]ФОРМА 2 2020 (черновик)'!$JR$30 -> 7.6 | C38: ='[5]УК расш(о)'!$F$59 -> 6.7 | D38: =F38/37858*100 -> 98.53527 | E38: =G38 -> 34468.101 | F38: ='[5]УК расш(о)'!$Q$59 -> 37303.483 | G38: ='[7]ФОРМА 2 2020 (черновик)'!$JS$30 -> 34468.101 | H38: =F38-G38 -> 2835.3819 | J38: =F38-E38 -> 2835.3819
A39: ='[6]Итого УК расш (о)'!$C$48 -> Муниципальное бюджетное образовательное учреждение дополнительного образования детей "Детская школа искусств д.Кисловка" | B39: ='[7]ФОРМА 2 2020 (черновик)'!$JR$31 -> 5.7 | C39: ='[5]УК расш(о)'!$F$58 -> 5.7 | D39: =F39/37858*100 -> 89.735914 | E39: =G39 -> 33053.995 | F39: ='[5]УК расш(о)'!$Q$58 -> 33972.222 | G39: ='[7]ФОРМА 2 2020 (черновик)'!$JS$31 -> 33053.995 | H39: =F39-G39 -> 918.22747 | J39: =F39-E39 -> 918.22747
A40: ='[6]Итого УК расш (о)'!$C$51 -> Муниципальное бюджетное образовательное учреждение дополнительного образования детей "Детская школа искусств п.Молодежный" | B40: ='[7]ФОРМА 2 2020 (черновик)'!$JR$32 -> 13.1 | C40: ='[5]УК расш(о)'!$F$61 -> 12.2 | D40: =F40/37858*100 -> 85.657665 | E40: =G40 -> 32428.461 | F40: ='[5]УК расш(о)'!$Q$61 -> 32428.279 | G40: ='[7]ФОРМА 2 2020 (черновик)'!$JS$32 -> 32428.461 | H40: =F40-G40 -> -0.18241848 | J40: =F40-E40 -> -0.18241848
A41: ='[6]Итого УК расш (о)'!$C$50 -> Муниципальное бюджетное образовательное учреждение дополнительного образования детей "Детская школа искусств п.Мирный" | B41: ='[7]ФОРМА 2 2020 (черновик)'!$JR$33 -> 10.9 | C41: ='[5]УК расш(о)'!$F$60 -> 11 | D41: =F41/37858*100 -> 89.479106 | E41: =G41 -> 32721.018 | F41: ='[5]УК расш(о)'!$Q$60 -> 33875 | G41: ='[7]ФОРМА 2 2020 (черновик)'!$JS$33 -> 32721.018 | H41: =F41-G41 -> 1153.9815 | J41: =F41-E41 -> 1153.9815
A42: Всего по муниципальному образованию "Томский район" | B42: =SUM(B38:B41) -> 37.3 | C42: =SUM(C38:C41) -> 35.6 | D42: =F42/37858*100 -> 89.91502 | E42: ='[7]ФОРМА 2 2020 (черновик)'!$JS$29 -> 33025.15 | F42: =(C38*F38+C39*F39+C40*F40+C41*F41)/C42 -> 34040.028 | G42: ='[7]ФОРМА 2 2020 (черновик)'!$JS$29 -> 33025.15 | H42: =F42-G42 -> 1014.8777 | I42: =C42-B42 -> -1.7 | J42: =F42-E42 -> 1014.8777
A43: Чаинский район | X43: 121.8
A44: Муниципальное бюджетное образовательное учреждение дополнительного образования детей "Подгорнская детская музыкальная школа" | B44: ='[7]ФОРМА 2 2020 (черновик)'!$JR$36 -> 5 | C44: ='[5]УК расш(о)'!$F$65 -> 5 | D44: =F44/37858*100 -> 136.10069 | E44: =G44 -> 51524.716 | F44: ='[5]УК расш(о)'!$Q$65 -> 51525 | G44: ='[7]ФОРМА 2 2020 (черновик)'!$JS$36 -> 51524.716 | H44: =F44-G44 -> 0.28417819
A45: ='[6]Итого УК расш (о)'!$C$56 -> Муниципальное бюджетное образовательное учреждение дополнительного образования детей "Подгорнская детская художественная школа" | B45: ='[7]ФОРМА 2 2020 (черновик)'!$JR$35 -> 4 | C45: ='[5]УК расш(о)'!$F$66 -> 4 | D45: =F45/37858*100 -> 129.10635 | E45: =G45 -> 48877.663 | F45: ='[5]УК расш(о)'!$Q$66 -> 48877.083 | G45: ='[7]ФОРМА 2 2020 (черновик)'!$JS$35 -> 48877.663 | H45: =F45-G45 -> -0.57923707
A46: Всего по муниципальному образованию "Чаинский район" | B46: =SUM(B44:B45) -> 9 | C46: =SUM(C44:C45) -> 9 | D46: =F46/37858*100 -> 132.9921 | E46: =(B44*E44+B45*E45)/B46 -> 50348.248 | F46: =(C44*F44+C45*F45)/C46 -> 50348.148 | G46: =(G44*B44+B45*G45)/B46 -> 50348.248 | H46: =F46-G46 -> -0.099561928
A47: г.Томск | W47: 1623.88
A48: ='[6]Итого УК расш (о)'!$C$67 -> Муниципальное бюджетное образовательное учреждение дополнительного образования детей «Детская школа искусств №1 имени А.Г.Рубинштейна» Города Томска | B48: ='[7]ФОРМА 2 2020 (черновик)'!$JR$40 -> 42.2 | C48: ='[5]УК расш(о)'!$F$77 -> 42.3 | D48: =F48/37858*100 -> 89.956555 | E48: =G48 -> 35722.259 | F48: ='[5]УК расш(о)'!$Q$77 -> 34055.753 | G48: ='[7]ФОРМА 2 2020 (черновик)'!$JS$40 -> 35722.259 | H48: =F48-G48 -> -1666.5065
A49: ='[6]Итого УК расш (о)'!$C$68 -> Муниципальное бюджетное образовательное учреждение дополнительного образования детей «Детская музыкальная школа № 2» Города Томска | B49: ='[7]ФОРМА 2 2020 (черновик)'!$JR$41 -> 30.1 | C49: ='[5]УК расш(о)'!$F$78 -> 30.5 | D49: =F49/37858*100 -> 87.216192 | E49: =G49 -> 32137.431 | F49: ='[5]УК расш(о)'!$Q$78 -> 33018.306 | G49: ='[7]ФОРМА 2 2020 (черновик)'!$JS$41 -> 32137.431 | H49: =F49-G49 -> 880.87534
A50: ='[6]Итого УК расш (о)'!$C$66 -> Муниципальное автономное образовательное учреждение дополнительного образования детей «Детская школа искусств № 3» Города Томска | B50: ='[7]ФОРМА 2 2020 (черновик)'!$JR$42 -> 53.4 | C50: ='[5]УК расш(о)'!$F$76 -> 54.1 | D50: =F50/37858*100 -> 82.520074 | E50: =G50 -> 34157.13 | F50: ='[5]УК расш(о)'!$Q$76 -> 31240.45 | G50: ='[7]ФОРМА 2 2020 (черновик)'!$JS$42 -> 34157.13 | H50: =F50-G50 -> -2916.6798
A51: ='[6]Итого УК расш (о)'!$C$65 -> Муниципальное бюджетное образовательное учреждение дополнительного образования детей «Детская музыкальная школа №4» Города Томска | B51: ='[7]ФОРМА 2 2020 (черновик)'!$JR$43 -> 26.5 | C51: ='[5]УК расш(о)'!$F$75 -> 26.7 | D51: =F51/37858*100 -> 84.980645 | E51: =G51 -> 34767.421 | F51: ='[5]УК расш(о)'!$Q$75 -> 32171.973 | G51: ='[7]ФОРМА 2 2020 (черновик)'!$JS$43 -> 34767.421 | H51: =F51-G51 -> -2595.4481
A52: ='[6]Итого УК расш (о)'!$C$69 -> Муниципальное бюджетное образовательное учреждение дополнительного образования детей «Детская школа искусств №5» Города Томска | B52: ='[7]ФОРМА 2 2020 (черновик)'!$JR$44 -> 30 | C52: ='[5]УК расш(о)'!$F$79 -> 27.4 | D52: =F52/37858*100 -> 104.96951 | E52: =G52 -> 36496.411 | F52: ='[5]УК расш(о)'!$Q$79 -> 39739.355 | G52: ='[7]ФОРМА 2 2020 (черновик)'!$JS$44 -> 36496.411 | H52: =F52-G52 -> 3242.9446
A53: ='[6]Итого УК расш (о)'!$C$71 -> Муниципальное бюджетное образовательное учреждение дополнительного образования детей «Детская школа искусств № 8» Города Томска | B53: ='[7]ФОРМА 2 2020 (черновик)'!$JR$46 -> 8.2 | C53: ='[5]УК расш(о)'!$F$80 -> 10 | D53: =F53/37858*100 -> 88.543593 | E53: =G53 -> 32351.724 | F53: ='[5]УК расш(о)'!$Q$80 -> 33520.833 | G53: ='[7]ФОРМА 2 2020 (черновик)'!$JS$46 -> 32351.724 | H53: =F53-G53 -> 1169.109
A54: ='[6]Итого УК расш (о)'!$C$63 -> Муниципальное автономное образовательное учреждение дополнительного образования детей «Детская художественная школа №1» Города Томска | B54: ='[7]ФОРМА 2 2020 (черновик)'!$JR$47 -> 16 | C54: ='[5]УК расш(о)'!$F$73 -> 15.8 | D54: =F54/37858*100 -> 121.9511 | E54: =G54 -> 36635.938 | F54: ='[5]УК расш(о)'!$Q$73 -> 46168.249 | G54: ='[7]ФОРМА 2 2020 (черновик)'!$JS$47 -> 36635.938 | H54: =F54-G54 -> 9532.3106
A55: ='[6]Итого УК расш (о)'!$C$64 -> Муниципальное автономное образовательное учреждение дополнительного образования детей «Детская художественная школа №2» Города Томска | B55: ='[7]ФОРМА 2 2020 (черновик)'!$JR$48 -> 17.6 | C55: ='[5]УК расш(о)'!$F$74 -> 17.2 | D55: =F55/37858*100 -> 97.897447 | E55: =G55 -> 35297.338 | F55: ='[5]УК расш(о)'!$Q$74 -> 37062.016 | G55: ='[7]ФОРМА 2 2020 (черновик)'!$JS$48 -> 35297.338 | H55: =F55-G55 -> 1764.677
A56: Всего по муниципальному образованию "г.Томск" | B56: =SUM(B48:B55) -> 224 | C56: =SUM(C48:C55) -> 224 | D56: =F56/37858*100 -> 91.834104 | E56: =G56 -> 34766.643 | F56: =(C48*F48+C49*F49+C50*F50+C51*F51+C52*F52+C53*F53+C54*F54+C55*F55)/C56 -> 34766.555 | G56: =(G48*B48+B49*G49+G50*B50+B51*G51+G52*B52+G53*B53+B54*G54+G55*B55)/B56 -> 34766.643 | H56: =F56-G56 -> -0.087767113
A57: г. Кедровый | W57: 0
A58: Муниципальное бюджетное образовательное учреждение дополнительного образования детей "Детская школа искусств" г. Кедрового | B58: ='[7]ФОРМА 2 2020 (черновик)'!$JR$49 -> 4 | C58: ='[5]УК расш(о)'!$F$84 -> 2.1 | D58: =F58/37858*100 -> 159.053 | E58: =G58 -> 60213.753 | F58: ='[5]УК расш(о)'!$Q$84 -> 60214.286 | G58: ='[7]ФОРМА 2 2020 (черновик)'!$JS$49 -> 60213.753 | H58: =F58-G58 -> 0.53254608
A59: Всего по муниципальному образованию "г.Кедровый" | B59: =B58 -> 4 | C59: =C58 -> 2.1 | D59: =F59/37858*100 -> 159.053 | E59: =(B58*E58)/B59 -> 60213.753 | F59: =(C58*F58)/C59 -> 60214.286 | G59: =(B58*G58)/B59 -> 60213.753 | H59: =F59-G59 -> 0.53254608
A60: г. Стрежевой | W60: 332.2
A61: ='[6]Итого УК расш (о)'!$C$74 -> Муниципальное бюджетное образовательное учреждение дополнительного образования детей "Детская школа искусств" | B61: ='[7]ФОРМА 2 2020 (черновик)'!$JR$50 -> 27.3 | C61: ='[5]УК расш(о)'!$F$81 -> 27.3 | D61: =F61/37858*100 -> 135.25819 | E61: =G61 -> 51206.049 | F61: ='[5]УК расш(о)'!$Q$81 -> 51206.044 | G61: ='[7]ФОРМА 2 2020 (черновик)'!$JS$50 -> 51206.049 | H61: =F61-G61 -> -0.0051578393
A62: Всего по муниципальному образованию "г.Стрежевой" | B62: =SUM(B61:B61) -> 27.3 | C62: =SUM(C61:C61) -> 27.3 | D62: =F62/37858*100 -> 135.25819 | E62: =(B61*E61)/B62 -> 51206.049 | F62: =(C61*F61)/C62 -> 51206.044 | G62: =(B61*G61)/B62 -> 51206.049 | H62: =F62-G62 -> -0.0051578393 | I62: =C62-B62 -> 0
A63: ЗАТО Северск | W63: 487.2 | X63: 1545.48 | Z63: =X63-W63 -> 1058.28
A64: ='[6]Итого УК расш (о)'!$C$78 -> Муниципальное автономное учреждение дополнительного образования ЗАТО Северск "Детская школа искусств» | B64: ='[7]ФОРМА 2 2020 (черновик)'!$JR$53 -> 95 | C64: ='[5]УК расш(о)'!$F$90 -> 93.4 | D64: =F64/37858*100 -> 98.333194 | E64: =G64 -> 37227.023 | F64: ='[5]УК расш(о)'!$Q$90 -> 37226.981 | G64: ='[7]ФОРМА 2 2020 (черновик)'!$JS$53 -> 37227.023 | H64: =F64-G64 -> -0.042225839
A65: ='[6]Итого УК расш (о)'!$C$79 -> Муниципальное бюджетное образовательное учреждение дополнительного образования детей «Художественная школа» | B65: ='[7]ФОРМА 2 2020 (черновик)'!$JR$52 -> 21 | C65: ='[5]УК расш(о)'!$F$91 -> 21 | D65: =F65/37858*100 -> 89.153118 | E65: =G65 -> 33751.59 | F65: ='[5]УК расш(о)'!$Q$91 -> 33751.587 | G65: ='[7]ФОРМА 2 2020 (черновик)'!$JS$52 -> 33751.59 | H65: =F65-G65 -> -0.0030478141
A66: ='[6]Итого УК расш (о)'!$C$80 -> Муниципальное бюджетное образовательное учреждение дополнительного образования детей "Самусьская детская школа искусств" | B66: ='[7]ФОРМА 2 2020 (черновик)'!$JR$54 -> 12.8 | C66: ='[5]УК расш(о)'!$F$92 -> 13 | D66: =F66/37858*100 -> 98.790216 | E66: =G66 -> 37341.666 | F66: ='[5]УК расш(о)'!$Q$92 -> 37400 | G66: ='[7]ФОРМА 2 2020 (черновик)'!$JS$54 -> 37341.666 | H66: =F66-G66 -> 58.333533
A67: Всего по муниципальному образованию "ЗАТО Северск" | B67: =SUM(B64:B66) -> 128.8 | C67: =SUM(C64:C66) -> 127.4 | D67: =F67/37858*100 -> 96.86663 | E67: =G67 -> 36671.769 | F67: =(C64*F64+C65*F65+C66*F66)/C67 -> 36671.769 | G67: =(G64*B64+G65*B65+G66*B66)/B67 -> 36671.769 | H67: =F67-G67 -> -0.00077023583 | I67: =C67-B67 -> -1.4 | K67: смерть работника, д/о, движение
A68: ИТОГО ПО ДПО: | B68: =(B67+B62+B56+B46+B42+B36+B33+B30+B24+B27+B21+B59) -> 494.8 | C68: =(C67+C62+C56+C46+C42+C36+C33+C30+C24+C27+C21+C59) -> 492.4 | D68: =F68/37858*100 -> 100.24173 | E68: =(E21*B21+E24*B24+E27*B27+E30*B30+E33*B33+E36*B36+E42*B42+E46*B46+E56*B56+E59*B59+E62*B62+E67*B67)/B68 -> 37869.838 | F68: =(F67*C67+C62*F62+F56*C56+C46*F46+F42*C42+F36*C36+C33*F33+F30*C30+C27*F27+F24*C24+F21*C21+F59*C59)/C68 -> 37949.516 | G68: =(G67*B67+B62*G62+G56*B56+B46*G46+G42*B42+G36*B36+B33*G33+G30*B30+B27*G27+G24*B24+G21*B21+G59*B59)/B68 -> 37869.838 | H68: =F68-G68 -> 79.678355 | I68: =C68-B68 -> -2.4 | W68: =W19+#REF!+W22+W25+W28+W31+W34+#REF!+W37+W43+#REF!+#REF!+W47+W57+W60+W63 -> #REF!
A69: ИТОГО ПО ДПО+ОГАОУ: | B69: =B17+B68 -> 550.4 | C69: =C17+C68 -> 547.2 | D69: =F69/37858*100 -> 100.25087 | E69: =(E68*B68+E17*B17)/B69 -> 37858.017 | F69: =(F17*C17+F68*C68)/C69 -> 37952.973 | G69: =(G68*B68+G17*B17)/B69 -> 37858.017 | H69: =F69-G69 -> 94.955849
A70: *Среднемесячный доход от трудовой деятельности по Томской области на 2020 год составляет 37 858 рублей
A71: **В соответствии с показателями, установленными в Финансовом обеспечении мероприятий региональной "дорожной карты" субъекта Российской Федерации в части повышения заработной платы за отчетный период

Sheet приложение 3 ДПО
G1: Приложение № 3
D2: к письму от _____________________№________________
A4: Мониторинг целевых показателей, установленных в плане мероприятий "дорожной карте"
A5: за 2020 год (данные ведомственной статистики)
A7: Наименование муниципального образования | B7: Наименование организации дополнительного образования детей | C7: категория персонала | D7: Среднесписочная численность, чел. | E7: ФОТ, тыс.руб | G7: Доля ФОТ АУП и вспомогательного персонала в общем ФОТ, % | H7: Доля фонда оплаты труда в общем фонде оплаты труда, %
A8: 1 | B8: 2 | C8: 3 | D8: 4 | E8: 5 | G8: 6 | H8: 7
A9: Работники учреждений дополнительного образования детей
A10: ОГАОУ ДО
B11: ОГАОУ ДО «Асиновская ДШИ» | G11: =(E14+E16)/E12 -> 0.34093785
C12: ФОТ , всего: | D12: =D14+D15+D16 -> 29.4 | E12: =SUM(E14:E16) -> 12168.2 | F12: =E12/D12/12*1000 -> 34490.363 | H12: =E12/E12*100 -> 100
C13: в том числе по группам персонала:
C14: Административно-управленческий персонал | D14: 2.6 | E14: =729+463.3 -> 1192.3 | F14: =E14/D14/12*1000 -> 38214.744 | H14: =E14*100/E12 -> 9.7984911
C15: Основной персонал | D15: 19 | E15: 8019.6 | F15: =E15/D15/12*1000 -> 35173.684 | H15: =E15*100/E12 -> 65.906215
C16: Прочий персонал (вспомогательный) | D16: 7.8 | E16: 2956.3 | F16: =E16/D16/12*1000 -> 31584.402
B17: ОГАОУ ДО «ДШИ» Верхнекетского района | G17: =(E20+E22)/E18 -> 0.37682992
C18: ФОТ , всего: | D18: =D20+D21+D22 -> 16.4 | E18: =SUM(E20:E22) -> 8067.3 | F18: =E18/D18/12*1000 -> 40992.378 | H18: =E18/E18*100 -> 100
C19: в том числе по группам персонала:
C20: Административно-управленческий персонал | D20: 0.4 | E20: 416.6 | F20: =E20/D20/12*1000 -> 86791.667 | H20: =E20*100/E18 -> 5.1640574
C21: Основной персонал | D21: 10 | E21: 5027.3 | F21: =E21/D21/12*1000 -> 41894.167 | H21: =E21*100/E18 -> 62.317008
C22: Прочий персонал (вспомогательный) | D22: 6 | E22: 2623.4 | F22: =E22/D22/12*1000 -> 36436.111
B23: ОГАОУ ДО «Зырянская ДШИ» | G23: =(E26+E28)/E24 -> 0.29168453
C24: ФОТ , всего: | D24: =D26+D27+D28 -> 17 | E24: =SUM(E26:E28) -> 6530 | F24: =E24/D24/12*1000 -> 32009.804 | H24: =E24/E24*100 -> 100
C25: в том числе по группам персонала:
C26: Административно-управленческий персонал | D26: 1 | E26: 495.5 | F26: =E26/D26/12*1000 -> 41291.667 | H26: =E26*100/E24 -> 7.5880551
C27: Основной персонал | D27: 11 | E27: 4625.3 | F27: =E27/D27/12*1000 -> 35040.152 | H27: =E27*100/E24 -> 70.831547
C28: Прочий персонал (вспомогательный) | D28: 5 | E28: 1409.2 | F28: =E28/D28/12*1000 -> 23486.667
B29: ОГАОУ ДО «Тегульдетская ДШИ» | G29: =(E32+E34)/E30 -> 0.37544838
C30: ФОТ , всего: | D30: =D32+D33+D34 -> 10.5 | E30: =SUM(E32:E34) -> 4878.7 | F30: =E30/D30/12*1000 -> 38719.841 | H30: =E30/E30*100 -> 100
C31: в том числе по группам персонала:
C32: Административно-управленческий персонал | D32: 1 | E32: 496.6 | F32: =E32/D32/12*1000 -> 41383.333 | H32: =E32*100/E30 -> 10.178941
C33: Основной персонал | D33: 5 | E33: 3047 | F33: =E33/D33/12*1000 -> 50783.333 | H33: =E33*100/E30 -> 62.455162
C34: Прочий персонал (вспомогательный) | D34: 4.5 | E34: 1335.1 | F34: =E34/D34/12*1000 -> 24724.074
B35: ОГАОУ ДО «ДШИ с.Мельниково» | G35: =(E38+E40)/E36 -> 0.18954559
C36: ФОТ , всего: | D36: =D38+D39+D40 -> 13.5 | E36: =SUM(E38:E40) -> 5255.2 | F36: =E36/D36/12*1000 -> 32439.506 | H36: =E36/E36*100 -> 100
C37: в том числе по группам персонала:
C38: Административно-управленческий персонал | D38: 1 | E38: 468.3 | F38: =E38/D38/12*1000 -> 39025 | H38: =E38*100/E36 -> 8.9111737
C39: Основной персонал | D39: 9.8 | E39: 4259.1 | F39: =E39/D39/12*1000 -> 36216.837 | H39: =E39*100/E36 -> 81.045441
C40: Прочий персонал (вспомогательный) | D40: 2.7 | E40: 527.8 | F40: =E40/D40/12*1000 -> 16290.123
B41: ИТОГО ПО ОГАОУ: | G41: =(E44+E46)/E42 -> 0.32307029
C42: ФОТ всего: | D42: =D44+D45+D46 -> 86.8 | E42: =E44+E45+E46 -> 36899.4 | F42: =E42/D42/12*1000 -> 35425.691 | H42: =E42/E42*100 -> 100
C43: в том числе по группам персонала:
C44: Административно-управленческий персонал | D44: =D14+D20+D26+D32+D38 -> 6 | E44: =E14+E20+E26+E32+E38 -> 3069.3 | F44: =E44/D44/12*1000 -> 42629.167 | H44: =E44*100/E42 -> 8.3180214
C45: Основной персонал | D45: =D15+D21+D27+D33+D39 -> 54.8 | E45: =E15+E21+E27+E33+E39 -> 24978.3 | F45: =E45/D45/12*1000 -> 37984.033 | H45: =E45*100/E42 -> 67.692971
C46: Прочий персонал (вспомогательный) | D46: =D16+D22+D28+D34+D40 -> 26 | E46: =E16+E22+E28+E34+E40 -> 8851.8 | F46: =E46/D46/12*1000 -> 28371.154 | H46: =E46/E42*100 -> 23.989008
A47: Муниципальное образование
A48: Александровский район
B49: ='[8]Итого УК расш (о)'!$C$18 -> Муниципальное бюджетное образовательное учреждение дополнительного образования детей "Детская школа искусств" | G49: =(E52+E54)/E50 -> 0.11723878
C50: ФОТ , всего: | D50: =D52+D53+D54 -> 9 | E50: =SUM(E52:E54) -> 6108.9 | F50: =E50/D50/12*1000 -> 56563.889 | H50: =E50/E50*100 -> 100
C51: в том числе по группам персонала:
C52: Административно-управленческий персонал | D52: 1 | E52: 716.2 | F52: =E52/D52/12*1000 -> 59683.333 | H52: =E52*100/E50 -> 11.723878
C53: Основной персонал | D53: 8 | E53: 5392.7 | F53: =E53/D53/12*1000 -> 56173.958 | H53: =E53*100/E50 -> 88.276122
C54: Прочий персонал (вспомогательный) | F54: =E54/D54/12*1000 -> #DIV/0!
A55: Каргасокский район
B56: Муниципальное бюджетное учреждение дополнительного образования "Каргасокская детская школа искусств" | G56: =(E59+E61)/E57 -> 0.27749865
C57: ФОТ , всего: | D57: =D59+D60+D61 -> 21.1 | E57: =SUM(E59:E61) -> 11325.1 | F57: =E57/D57/12*1000 -> 44727.883 | H57: =E57/E57*100 -> 100
C58: в том числе по группам персонала:
C59: Административно-управленческий персонал | D59: 2 | E59: 1758.1 | F59: =E59/D59/12*1000 -> 73254.167 | H59: =E59*100/E57 -> 15.523925
C60: Основной персонал | D60: 14.4 | E60: 8182.4 | F60: =E60/D60/12*1000 -> 47351.852 | H60: =E60*100/E57 -> 72.250135
C61: Прочий персонал (вспомогательный) | D61: 4.7 | E61: 1384.6 | F61: =E61/D61/12*1000 -> 24549.645 | H61: =E61/E57*100 -> 12.225941
A62: Кожевниковский район
B63: ='[8]Итого УК расш (о)'!$C$30 -> Муниципальное бюджетное образовательное учреждение дополнительного образования детей «Кожевниковская детская школа искусств» | G63: =(E66+E68)/E64 -> 0.28201564
C64: ФОТ , всего: | D64: =D66+D67+D68 -> 28.6 | E64: =SUM(E66:E68) -> 10718.2 | F64: =E64/D64/12*1000 -> 31230.186 | H64: =E64/E64*100 -> 100
C65: в том числе по группам персонала:
C66: Административно-управленческий персонал | D66: 2.9 | E66: 1321 | F66: =E66/D66/12*1000 -> 37959.77 | H66: =E66*100/E64 -> 12.324831
C67: Основной персонал | D67: 16.9 | E67: 7695.5 | F67: =E67/D67/12*1000 -> 37946.252 | H67: =E67*100/E64 -> 71.798436
C68: Прочий персонал (вспомогательный) | D68: 8.8 | E68: 1701.7 | F68: =E68/D68/12*1000 -> 16114.583 | H68: =E68/E64*100 -> 15.876733
A69: Молчановский район
B70: ='[8]Итого УК расш (о)'!$C$33 -> Муниципальное бюджетное образовательное учреждение дополнительного образования детей "Молчановская детская музыкальная школа" | G70: =(E73+E75)/E71 -> 0.25683515
C71: ФОТ, всего: | D71: =D73+D74+D75 -> 14.4 | E71: =SUM(E73:E75) -> 7446.8 | F71: =E71/D71/12*1000 -> 43094.907 | H71: =E71/E71*100 -> 100
C72: в том числе по группам персонала:
C73: Административно-управленческий персонал | D73: 1 | E73: 851.9 | F73: =E73/D73/12*1000 -> 70991.667 | H73: =E73*100/E71 -> 11.439813
C74: Основной персонал | D74: 10 | E74: 5534.2 | F74: =E74/D74/12*1000 -> 46118.333 | H74: =E74*100/E71 -> 74.316485
C75: Прочий персонал (вспомогательный) | D75: 3.4 | E75: 1060.7 | F75: =E75/D75/12*1000 -> 25997.549 | H75: =E75/E71*100 -> 14.243702
A76: Парабельский район
B77: ='[8]Итого УК расш (о)'!$C$36 -> Муниципальное бюджетное образовательное учреждение дополнительного образования детей "Детская школа искусств им. Г.Д. Заволокина" | G77: =(E80+E82)/E78 -> 0.32438347
C78: ФОТ, всего: | D78: =D80+D81+D82 -> 16.2 | E78: =SUM(E80:E82) -> 7951.7 | F78: =E78/D78/12*1000 -> 40903.807 | H78: =E78/E78*100 -> 100
C79: в том числе по группам персонала:
C80: Административно-управленческий персонал | D80: 2 | E80: 1036.3 | F80: =E80/D80/12*1000 -> 43179.167 | H80: =E80*100/E78 -> 13.032433
C81: Основной персонал | D81: 9.2 | E81: 5372.3 | F81: =E81/D81/12*1000 -> 48662.138 | H81: =E81*100/E78 -> 67.561653
C82: Прочий персонал (вспомогательный) | D82: 5 | E82: 1543.1 | F82: =E82/D82/12*1000 -> 25718.333 | H82: =E82/E78*100 -> 19.405913
A83: Первомайский район
B84: Муниципальное автономное образовательное учреждение дополнительного образования "Первомайская детская школа искусств" | G84: =(E87+E89)/E85 -> 0.2564549
C85: ФОТ всего: | D85: =D87+D88+D89 -> 12.3 | E85: =E87+E88+E89 -> 5743.7 | F85: =E85/D85/12*1000 -> 38913.957 | H85: =E85/E85*100 -> 100
C86: в том числе по группам персонала:
C87: Административно-управленческий персонал | D87: 1 | E87: 762.4 | F87: =E87/D87/12*1000 -> 63533.333 | H87: =E87*100/E85 -> 13.273674
C88: Основной персонал | D88: 8.5 | E88: 4270.7 | F88: =E88/D88/12*1000 -> 41869.608 | H88: =E88*100/E85 -> 74.35451
C89: Прочий персонал (вспомогательный) | D89: 2.8 | E89: 710.6 | F89: =E89/D89/12*1000 -> 21148.81 | H89: =E89/E85*100 -> 12.371816
A90: Томский район
B91: Муниципальное бюджетное образовательное учреждение дополнительного образования детей "Детская школа искусств п.Зональная Станция" | G91: =(E94+E96)/E92 -> 0.35691925
C92: ФОТ, всего: | D92: =D94+D95+D96 -> 12.3 | E92: =SUM(E94:E96) -> 4663.8 | F92: =E92/D92/12*1000 -> 31597.561 | H92: =E92/E92*100 -> 100
C93: в том числе по группам персонала:
C94: Административно-управленческий персонал | D94: =1+0.6 -> 1.6 | E94: =459.2+332 -> 791.2 | F94: =E94/D94/12*1000 -> 41208.333 | H94: =E94*100/E92 -> 16.964707
C95: Основной персонал | D95: 6.7 | E95: =1076.6+1922.6 -> 2999.2 | F95: =E95/D95/12*1000 -> 37303.483 | H95: =E95*100/E92 -> 64.308075
C96: Прочий персонал (вспомогательный) | D96: 4 | E96: 873.4 | F96: =E96/D96/12*1000 -> 18195.833 | H96: =E96/E92*100 -> 18.727218
B97: Муниципальное бюджетное образовательное учреждение дополнительного образования детей "Детская школа искусств д.Кисловка" | G97: =(E100+E102)/E98 -> 0.35097618
C98: ФОТ , всего: | D98: =D100+D101+D102 -> 9.2 | E98: =SUM(E100:E102) -> 3580.3 | F98: =E98/D98/12*1000 -> 32430.254 | H98: =E98/E98*100 -> 100
C99: в том числе по группам персонала:
C100: Административно-управленческий персонал | D100: 1 | E100: 697.5 | F100: =E100/D100/12*1000 -> 58125 | H100: =E100*100/E98 -> 19.481608
C101: Основной персонал | D101: 5.7 | E101: =537+1732.8+53.9 -> 2323.7 | F101: =E101/D101/12*1000 -> 33972.222 | H101: =E101*100/E98 -> 64.902382
C102: Прочий персонал (вспомогательный) | D102: 2.5 | E102: =524.7+34.4 -> 559.1 | F102: =E102/D102/12*1000 -> 18636.667 | H102: =E102/E98*100 -> 15.61601
...

Sheet приложение 4 ДПО 
G1: Приложение № 4
E2: к письму от _____________________№________________
B4: Мониторинг целевых показателей, установленных в плане мероприятий "дорожной карте" за 2020 год
B5: (данные ведомственной статистики)
A7: Наименование муниципального образования | B7: Наименование организации дополнительного образования детей | C7: Категория персонала | D7: Среднесписочная численность, чел. | E7: Среднемесячная заработная плата по категориям персонала, руб. | F7: ФОТ, тыс.руб* | G7: Отношение среднемесячной заработной платы категорий персонала к среднемесячной заработной плате основного персонала учреждений, раз
A8: 1 | B8: 2 | C8: 3 | D8: 4 | E8: 5 | G8: 6
A9: Работники учреждений дополнительного образования детей
B11: ОГАОУ ДО «Асиновская ДШИ»
C12: Административно-управленческий персонал | D12: ='приложение 3 ДПО'!D14 -> 2.6 | E12: =F12/D12/12*1000 -> 38214.744 | F12: ='приложение 3 ДПО'!E14 -> 1192.3 | G12: =E12/E13 -> 1.0864584
C13: Основной персонал | D13: ='приложение 3 ДПО'!D15 -> 19 | E13: =F13/D13/12*1000 -> 35173.684 | F13: ='приложение 3 ДПО'!E15 -> 8019.6 | G13: =E13/E13 -> 1
C14: Вспомогательный персонал | D14: ='приложение 3 ДПО'!D16 -> 7.8 | E14: =F14/D14/12*1000 -> 31584.402 | F14: ='приложение 3 ДПО'!E16 -> 2956.3 | G14: =E14/E13 -> 0.89795546
B15: ОГАОУ ДО «ДШИ» Верхнекетского района
C16: Административно-управленческий персонал | D16: ='приложение 3 ДПО'!D20 -> 0.4 | E16: =F16/D16/12*1000 -> 86791.667 | F16: ='приложение 3 ДПО'!E20 -> 416.6 | G16: =E16/E17 -> 2.0716886
C17: Основной персонал | D17: ='приложение 3 ДПО'!D21 -> 10 | E17: =F17/D17/12*1000 -> 41894.167 | F17: ='приложение 3 ДПО'!E21 -> 5027.3 | G17: =E17/E17 -> 1
C18: Вспомогательный персонал | D18: ='приложение 3 ДПО'!D22 -> 6 | E18: =F18/D18/12*1000 -> 36436.111 | F18: ='приложение 3 ДПО'!E22 -> 2623.4 | G18: =E18/E17 -> 0.86971801
B19: ОГАОУ ДО «Зырянская ДШИ»
C20: Административно-управленческий персонал | D20: ='приложение 3 ДПО'!D26 -> 1 | E20: =F20/D20/12*1000 -> 41291.667 | F20: ='приложение 3 ДПО'!E26 -> 495.5 | G20: =E20/E21 -> 1.17841
C21: Основной персонал | D21: ='приложение 3 ДПО'!D27 -> 11 | E21: =F21/D21/12*1000 -> 35040.152 | F21: ='приложение 3 ДПО'!E27 -> 4625.3 | G21: =E21/E21 -> 1
C22: Вспомогательный персонал | D22: ='приложение 3 ДПО'!D28 -> 5 | E22: =F22/D22/12*1000 -> 23486.667 | F22: ='приложение 3 ДПО'!E28 -> 1409.2 | G22: =E22/E21 -> 0.67027868
B23: ОГАОУ ДО «Тегульдетская ДШИ»
C24: Административно-управленческий персонал | D24: ='приложение 3 ДПО'!D32 -> 1 | E24: =F24/D24/12*1000 -> 41383.333 | F24: ='приложение 3 ДПО'!E32 -> 496.6 | G24: =E24/E25 -> 0.8148999
C25: Основной персонал | D25: ='приложение 3 ДПО'!D33 -> 5 | E25: =F25/D25/12*1000 -> 50783.333 | F25: ='приложение 3 ДПО'!E33 -> 3047 | G25: =E25/E25 -> 1
C26: Вспомогательный персонал | D26: ='приложение 3 ДПО'!D34 -> 4.5 | E26: =F26/D26/12*1000 -> 24724.074 | F26: ='приложение 3 ДПО'!E34 -> 1335.1 | G26: =E26/E25 -> 0.4868541
B27: ОГАОУ ДО «ДШИ с.Мельниково»
C28: Административно-управленческий персонал | D28: ='приложение 3 ДПО'!D38 -> 1 | E28: =F28/D28/12*1000 -> 39025 | F28: ='приложение 3 ДПО'!E38 -> 468.3 | G28: =E28/E29 -> 1.0775375
C29: Основной персонал | D29: ='приложение 3 ДПО'!D39 -> 9.8 | E29: =F29/D29/12*1000 -> 36216.837 | F29: ='приложение 3 ДПО'!E39 -> 4259.1 | G29: =E29/E29 -> 1
C30: Вспомогательный персонал | D30: ='приложение 3 ДПО'!D40 -> 2.7 | E30: =F30/D30/12*1000 -> 16290.123 | F30: ='приложение 3 ДПО'!E40 -> 527.8 | G30: =E30/E29 -> 0.44979421
B31: ИТОГО ПО ОГАОУ:
C32: Административно-управленческий персонал | D32: ='приложение 3 ДПО'!D44 -> 6 | E32: =F32/D32/12*1000 -> 42629.167 | F32: ='приложение 3 ДПО'!E44 -> 3069.3 | G32: =E32/E33 -> 1.1222917
C33: Основной персонал | D33: ='приложение 3 ДПО'!D45 -> 54.8 | E33: =F33/D33/12*1000 -> 37984.033 | F33: ='приложение 3 ДПО'!E45 -> 24978.3 | G33: =E33/E33 -> 1
C34: Вспомогательный персонал | D34: ='приложение 3 ДПО'!D46 -> 26 | E34: =F34/D34/12*1000 -> 28371.154 | F34: ='приложение 3 ДПО'!E46 -> 8851.8 | G34: =E34/E33 -> 0.74692316
A35: Муниципальное образование
A36: Александровский район
B37: МБОУ ДОД "ДШИ"
C38: Административно-управленческий персонал | D38: ='приложение 3 ДПО'!D52 -> 1 | E38: =F38/D38/12*1000 -> 59683.333 | F38: ='приложение 3 ДПО'!E52 -> 716.2 | G38: =E38/E39 -> 1.0624733
C39: Основной персонал | D39: ='приложение 3 ДПО'!D53 -> 8 | E39: =F39/D39/12*1000 -> 56173.958 | F39: ='приложение 3 ДПО'!E53 -> 5392.7 | G39: =E39/E39 -> 1
C40: Вспомогательный персонал | D40: ='приложение 3 ДПО'!D54 -> 0 | E40: =F40/D40/12*1000 -> #DIV/0! | F40: ='приложение 3 ДПО'!E54 -> 0 | G40: =E40/E39 -> #DIV/0!
A41: Каргасокский район
B42: Муниципальное бюджетное учреждение дополнительного образования "Каргасокская детская школа искусств"
C43: Административно-управленческий персонал | D43: ='приложение 3 ДПО'!D59 -> 2 | E43: =F43/D43/12*1000 -> 73254.167 | F43: ='приложение 3 ДПО'!E59 -> 1758.1 | G43: =E43/E44 -> 1.547018
C44: Основной персонал | D44: ='приложение 3 ДПО'!D60 -> 14.4 | E44: =F44/D44/12*1000 -> 47351.852 | F44: ='приложение 3 ДПО'!E60 -> 8182.4 | G44: =E44/E44 -> 1
C45: Вспомогательный персонал | D45: ='приложение 3 ДПО'!D61 -> 4.7 | E45: =F45/D45/12*1000 -> 24549.645 | F45: ='приложение 3 ДПО'!E61 -> 1384.6 | G45: =E45/E44 -> 0.51845164
A46: Кожевниковский район
B47: МБОУ ДОД "Кожевниковская ДШИ"
C48: Административно-управленческий персонал | D48: ='приложение 3 ДПО'!D66 -> 2.9 | E48: =F48/D48/12*1000 -> 37959.77 | F48: ='приложение 3 ДПО'!E66 -> 1321 | G48: =E48/E49 -> 1.0003562
C49: Основной персонал | D49: ='приложение 3 ДПО'!D67 -> 16.9 | E49: =F49/D49/12*1000 -> 37946.252 | F49: ='приложение 3 ДПО'!E67 -> 7695.5 | G49: =E49/E49 -> 1
C50: Вспомогательный персонал | D50: ='приложение 3 ДПО'!D68 -> 8.8 | E50: =F50/D50/12*1000 -> 16114.583 | F50: ='приложение 3 ДПО'!E68 -> 1701.7 | G50: =E50/E49 -> 0.42466864
A51: Молчановский район
B52: МБОУ ДОД "Молчановская ДМШ"
C53: Административно-управленческий персонал | D53: ='приложение 3 ДПО'!D73 -> 1 | E53: =F53/D53/12*1000 -> 70991.667 | F53: ='приложение 3 ДПО'!E73 -> 851.9 | G53: =E53/E54 -> 1.5393372
C54: Основной персонал | D54: ='приложение 3 ДПО'!D74 -> 10 | E54: =F54/D54/12*1000 -> 46118.333 | F54: ='приложение 3 ДПО'!E74 -> 5534.2 | G54: =E54/E54 -> 1
C55: Вспомогательный персонал | D55: ='приложение 3 ДПО'!D75 -> 3.4 | E55: =F55/D55/12*1000 -> 25997.549 | F55: ='приложение 3 ДПО'!E75 -> 1060.7 | G55: =E55/E54 -> 0.56371398
A56: Парабельский район
B57: МБОУ ДШИ им.Г.Д.Заволокина
C58: Административно-управленческий персонал | D58: ='приложение 3 ДПО'!D80 -> 2 | E58: =F58/D58/12*1000 -> 43179.167 | F58: ='приложение 3 ДПО'!E80 -> 1036.3 | G58: =E58/E59 -> 0.88732573
C59: Основной персонал | D59: ='приложение 3 ДПО'!D81 -> 9.2 | E59: =F59/D59/12*1000 -> 48662.138 | F59: ='приложение 3 ДПО'!E81 -> 5372.3 | G59: =E59/E59 -> 1
C60: Вспомогательный персонал | D60: ='приложение 3 ДПО'!D82 -> 5 | E60: =F60/D60/12*1000 -> 25718.333 | F60: ='приложение 3 ДПО'!E82 -> 1543.1 | G60: =E60/E59 -> 0.52850809
A61: Первомайский район
B62: Муниципальное автономное образовательное учреждение дополнительного образования "Первомайская детская школа искусств"
C63: Административно-управленческий персонал | D63: ='приложение 3 ДПО'!D87 -> 1 | E63: =F63/D63/12*1000 -> 63533.333 | F63: ='приложение 3 ДПО'!E87 -> 762.4 | G63: =E63/E64 -> 1.5174093
C64: Основной персонал | D64: ='приложение 3 ДПО'!D88 -> 8.5 | E64: =F64/D64/12*1000 -> 41869.608 | F64: ='приложение 3 ДПО'!E88 -> 4270.7 | G64: =E64/E64 -> 1
C65: Вспомогательный персонал | D65: ='приложение 3 ДПО'!D89 -> 2.8 | E65: =F65/D65/12*1000 -> 21148.81 | F65: ='приложение 3 ДПО'!E89 -> 710.6 | G65: =E65/E64 -> 0.50511124
A66: Томский район
B67: Муниципальное бюджетное образовательное учреждение дополнительного образования детей "Детская школа искусств п.Зональная Станция"
C68: Административно-управленческий персонал | D68: ='приложение 3 ДПО'!D94 -> 1.6 | E68: =F68/D68/12*1000 -> 41208.333 | F68: ='приложение 3 ДПО'!E94 -> 791.2 | G68: =E68/E69 -> 1.1046779
C69: Основной персонал | D69: ='приложение 3 ДПО'!D95 -> 6.7 | E69: =F69/D69/12*1000 -> 37303.483 | F69: ='приложение 3 ДПО'!E95 -> 2999.2 | G69: =E69/E69 -> 1
C70: Вспомогательный персонал | D70: ='приложение 3 ДПО'!D96 -> 4 | E70: =F70/D70/12*1000 -> 18195.833 | F70: ='приложение 3 ДПО'!E96 -> 873.4 | G70: =E70/E69 -> 0.48777841
B71: Муниципальное бюджетное образовательное учреждение дополнительного образования детей "Детская школа искусств д.Кисловка"
C72: Административно-управленческий персонал | D72: ='приложение 3 ДПО'!D100 -> 1 | E72: =F72/D72/12*1000 -> 58125 | F72: ='приложение 3 ДПО'!E100 -> 697.5 | G72: =E72/E73 -> 1.7109567
C73: Основной персонал | D73: ='приложение 3 ДПО'!D101 -> 5.7 | E73: =F73/D73/12*1000 -> 33972.222 | F73: ='приложение 3 ДПО'!E101 -> 2323.7 | G73: =E73/E73 -> 1
C74: Вспомогательный персонал | D74: ='приложение 3 ДПО'!D102 -> 2.5 | E74: =F74/D74/12*1000 -> 18636.667 | F74: ='приложение 3 ДПО'!E102 -> 559.1 | G74: =E74/E73 -> 0.54858545
B75: Муниципальное бюджетное образовательное учреждение дополнительного образования детей "Детская школа искусств п.Молодежный"
C76: Административно-управленческий персонал | D76: ='приложение 3 ДПО'!D106 -> 2.5 | E76: =F76/D76/12*1000 -> 48050 | F76: ='приложение 3 ДПО'!E106 -> 1441.5 | G76: =E76/E77 -> 1.4817314
C77: Основной персонал | D77: ='приложение 3 ДПО'!D107 -> 12.2 | E77: =F77/D77/12*1000 -> 32428.279 | F77: ='приложение 3 ДПО'!E107 -> 4747.5 | G77: =E77/E77 -> 1
C78: Вспомогательный персонал | D78: ='приложение 3 ДПО'!D108 -> 7.5 | E78: =F78/D78/12*1000 -> 17395.556 | F78: ='приложение 3 ДПО'!E108 -> 1565.6 | G78: =E78/E77 -> 0.53643167
B79: Муниципальное бюджетное образовательное учреждение дополнительного образования детей "Детская школа искусств п.Мирный"
C80: Административно-управленческий персонал | D80: ='приложение 3 ДПО'!D112 -> 1.8 | E80: =F80/D80/12*1000 -> 34226.852 | F80: ='приложение 3 ДПО'!E112 -> 739.3 | G80: =E80/E81 -> 1.0103868
C81: Основной персонал | D81: ='приложение 3 ДПО'!D113 -> 11 | E81: =F81/D81/12*1000 -> 33875 | F81: ='приложение 3 ДПО'!E113 -> 4471.5 | G81: =E81/E81 -> 1
C82: Вспомогательный персонал | D82: ='приложение 3 ДПО'!D114 -> 2 | E82: =F82/D82/12*1000 -> 17800 | F82: ='приложение 3 ДПО'!E114 -> 427.2 | G82: =E82/E81 -> 0.52546125
B83: Всего по муниципальному образованию "Томский район"
C84: Административно-управленческий персонал | D84: ='приложение 3 ДПО'!D117 -> 6.9 | E84: =F84/D84/12*1000 -> 44317.633 | F84: ='приложение 3 ДПО'!E117 -> 3669.5 | G84: =E84/E85 -> 1.301927 | H84: =D68+D72+D76+D80 -> 6.9 | I84: =J84/H84/12*1000 -> 44317.633 | J84: =F68+F72+F76+F80 -> 3669.5
C85: Основной персонал | D85: ='приложение 3 ДПО'!D118 -> 35.6 | E85: =F85/D85/12*1000 -> 34040.028 | F85: ='приложение 3 ДПО'!E118 -> 14541.9 | G85: =E85/E85 -> 1 | H85: =D69+D73+D77+D81 -> 35.6 | I85: =J85/H85/12*1000 -> 34040.028 | J85: =F69+F73+F77+F81 -> 14541.9
C86: Вспомогательный персонал | D86: ='приложение 3 ДПО'!D119 -> 16 | E86: =F86/D86/12*1000 -> 17840.104 | F86: ='приложение 3 ДПО'!E119 -> 3425.3 | G86: =E86/E85 -> 0.52409193 | H86: =D70+D74+D78+D82 -> 16 | I86: =J86/H86/12*1000 -> 17840.104 | J86: =F70+F74+F78+F82 -> 3425.3
A87: Чаинский район
B88: МБОУ ДОД "Подгорнская ДМШ"
C89: Административно-управленческий персонал | D89: ='приложение 3 ДПО'!D124 -> 1 | E89: =F89/D89/12*1000 -> 66300 | F89: ='приложение 3 ДПО'!E124 -> 795.6 | G89: =E89/E90 -> 1.286754
C90: Основной персонал | D90: ='приложение 3 ДПО'!D125 -> 5 | E90: =F90/D90/12*1000 -> 51525 | F90: ='приложение 3 ДПО'!E125 -> 3091.5 | G90: =E90/E90 -> 1
C91: Вспомогательный персонал | D91: ='приложение 3 ДПО'!D126 -> 0.8 | E91: =F91/D91/12*1000 -> 23895.833 | F91: ='приложение 3 ДПО'!E126 -> 229.4 | G91: =E91/E90 -> 0.46377163
B92: МБОУ ДОД "Подгорнская ДХШ"
C93: Административно-управленческий персонал | D93: ='приложение 3 ДПО'!D130 -> 1 | E93: =F93/D93/12*1000 -> 60308.333 | F93: ='приложение 3 ДПО'!E130 -> 723.7 | G93: =E93/E94 -> 1.2338775
C94: Основной персонал | D94: ='приложение 3 ДПО'!D131 -> 4 | E94: =F94/D94/12*1000 -> 48877.083 | F94: ='приложение 3 ДПО'!E131 -> 2346.1 | G94: =E94/E94 -> 1
C95: Вспомогательный персонал | D95: ='приложение 3 ДПО'!D132 -> 1 | E95: =F95/D95/12*1000 -> 24366.667 | F95: ='приложение 3 ДПО'!E132 -> 292.4 | G95: =E95/E94 -> 0.49852947
B96: Всего по муниципальному образованию "Чаинский район"
C97: Административно-управленческий персонал | D97: ='приложение 3 ДПО'!D136 -> 2 | E97: =F97/D97/12*1000 -> 63304.167 | F97: ='приложение 3 ДПО'!E136 -> 1519.3 | G97: =E97/E98 -> 1.2573286 | H97: =D89+D93 -> 2 | I97: =J97/H97/12*1000 -> 63304.167 | J97: =F89+F93 -> 1519.3
C98: Основной персонал | D98: ='приложение 3 ДПО'!D137 -> 9 | E98: =F98/D98/12*1000 -> 50348.148 | F98: ='приложение 3 ДПО'!E137 -> 5437.6 | G98: =E98/E98 -> 1 | H98: =D90+D94 -> 9 | I98: =J98/H98/12*1000 -> 50348.148 | J98: =F90+F94 -> 5437.6
C99: Вспомогательный персонал | D99: ='приложение 3 ДПО'!D138 -> 1.8 | E99: =F99/D99/12*1000 -> 24157.407 | F99: ='приложение 3 ДПО'!E138 -> 521.8 | G99: =E99/E98 -> 0.47980727 | H99: =D91+D95 -> 1.8 | I99: =J99/H99/12*1000 -> 24157.407 | J99: =F91+F95 -> 521.8
A100: г.Томск
B101: МБОУДОД "ДШИ № 1"
C102: Административно-управленческий персонал | D102: ='приложение 3 ДПО'!D143 -> 2 | E102: =F102/D102/12*1000 -> 76370.833 | F102: ='приложение 3 ДПО'!E143 -> 1832.9 | G102: =E102/E103 -> 2.2425237
C103: Основной персонал | D103: ='приложение 3 ДПО'!D144 -> 42.3 | E103: =F103/D103/12*1000 -> 34055.753 | F103: ='приложение 3 ДПО'!E144 -> 17286.7 | G103: =E103/E103 -> 1
...

Sheet приложение 1 культура
H1: Приложение № 1
F2: к письму от _____________________№________________
A4: Мониторинг целевых показателей, установленных в плане мероприятий "дорожной карте" за 2020 год
A5: (данные ведомственной статистики)
A7: Наименование ОГУ/МУ | B7: Планируемая среднесписочная численность отдельной категории работников государственных и муниципальных учреждений, чел. | C7: Фактическая среднесписочная численность отдельной категории работников государственных и муниципальных учреждений на отчетный период, чел. | D7: Отношение средней заработной платы работников соответствующей категории к среднемесячному доходу от трудовой деятельности по Томской области, %* | E7: Средняя заработная плата отдельной категории работников списочного состава, руб. | G7: Плановое значение средней заработной платы отдельной категории работников на год, руб. | H7: Отклонение факта за отчетный период от планового значения на год, руб.
E8: план на отчетный период** | F8: факт за отчетный период
A9: 1 | B9: 2 | C9: 3 | D9: 4 | E9: 5 | F9: 6 | G9: 7 | H9: 8=6-7
A10: Работники учреждений культуры
A11: ОГАУК "ТОУНБ им.А.С.Пушкина" | B11: ='[9]СЗП2019 37858 ОГУ+МО'!$KK$248 -> 143.3 | C11: ='[10]УК расш(к)'!$F$9 -> 139 | D11: =F11/40339*100 -> 86.712206 | E11: =G11 -> 34972.766 | F11: ='[10]УК расш(к)'!$Q$9 -> 34978.837 | G11: ='[9]СЗП2019 37858 ОГУ+МО'!$KL$248 -> 34972.766 | H11: =F11-G11 -> 6.0707938
A12: ='[11]Sheet1 (2)'!$P$26 -> ОГАУК "ТОДЮБ" | B12: ='[9]СЗП2019 37858 ОГУ+МО'!$KK$258 -> 49.5 | C12: ='[10]УК расш(к)'!$F$10 -> 49.6 | D12: =F12/40339*100 -> 90.513143 | E12: =G12 -> 36489.837 | F12: ='[10]УК расш(к)'!$Q$10 -> 36512.097 | G12: ='[9]СЗП2019 37858 ОГУ+МО'!$KL$258 -> 36489.837 | H12: =F12-G12 -> 22.260139
A13: ОГАУК "Дом искусств" | B13: ='[9]СЗП2019 37858 ОГУ+МО'!$KK$349 -> 13.7 | C13: ='[10]УК расш(к)'!$F$14 -> 12.7 | D13: =F13/40339*100 -> 69.712663 | E13: =G13 -> 28121.078 | F13: ='[10]УК расш(к)'!$Q$14 -> 28121.391 | G13: ='[9]СЗП2019 37858 ОГУ+МО'!$KL$349 -> 28121.078 | H13: =F13-G13 -> 0.31271529
A14: ОГАУК "ТОХМ" | B14: ='[9]СЗП2019 37858 ОГУ+МО'!$KK$279 -> 69.1 | C14: ='[10]УК расш(к)'!$F$16 -> 69.1 | D14: =F14/40339*100 -> 83.336176 | E14: =G14 -> 33597.719 | F14: ='[10]УК расш(к)'!$Q$16 -> 33616.98 | G14: ='[9]СЗП2019 37858 ОГУ+МО'!$KL$279 -> 33597.719 | H14: =F14-G14 -> 19.261657
A15: ОГАУК "Томский областной краеведческий музей им.М.Б. Шатилова" | B15: ='[9]СЗП2019 37858 ОГУ+МО'!$KK$268 -> 160.3 | C15: ='[10]УК расш(к)'!$F$15 -> 160.3 | D15: =F15/40339*100 -> 72.956115 | E15: =G15 -> 29239.892 | F15: ='[10]УК расш(к)'!$Q$15 -> 29429.767 | G15: ='[9]СЗП2019 37858 ОГУ+МО'!$KL$268 -> 29239.892 | H15: =F15-G15 -> 189.87471
A16: ОГАУК "ДНТ "Авангард" | B16: ='[9]СЗП2019 37858 ОГУ+МО'!$KK$319 -> 89 | C16: ='[10]УК расш(к)'!$F$11 -> 88.5 | D16: =F16/40339*100 -> 91.547114 | E16: =G16 -> 36900.479 | F16: ='[10]УК расш(к)'!$Q$11 -> 36929.19 | G16: ='[9]СЗП2019 37858 ОГУ+МО'!$KL$319 -> 36900.479 | H16: =F16-G16 -> 28.710991
A17: ОГАУК "ЦТК" | B17: ='[9]СЗП2019 37858 ОГУ+МО'!$KK$339 -> 9.8 | C17: ='[10]УК расш(к)'!$F$13 -> 9.8 | D17: =F17/40339*100 -> 84.327839 | E17: =G17 -> 34009.226 | F17: ='[10]УК расш(к)'!$Q$13 -> 34017.007 | G17: ='[9]СЗП2019 37858 ОГУ+МО'!$KL$339 -> 34009.226 | H17: =F17-G17 -> 7.7805188
A18: ОГАУК "РНД" | B18: ='[9]СЗП2019 37858 ОГУ+МО'!$KK$329 -> 13.8 | C18: ='[10]УК расш(к)'!$F$12 -> 13.8 | D18: =F18/40339*100 -> 83.736289 | E18: =G18 -> 33778.489 | F18: ='[10]УК расш(к)'!$Q$12 -> 33778.382 | G18: ='[9]СЗП2019 37858 ОГУ+МО'!$KL$329 -> 33778.489 | H18: =F18-G18 -> -0.10694948
A19: ОГАУК "ТОТК Скоморох" | B19: ='[9]СЗП2019 37858 ОГУ+МО'!$KK$309 -> 61.5 | C19: ='[10]УК расш(к)'!$F$19 -> 63.8 | D19: =F19/40339*100 -> 89.762707 | E19: =G19 -> 36209.416 | F19: ='[10]УК расш(к)'!$Q$19 -> 36209.378 | G19: ='[9]СЗП2019 37858 ОГУ+МО'!$KL$309 -> 36209.416 | H19: =F19-G19 -> -0.03745079
A20: ='[11]Sheet1 (2)'!$P$45 -> ОГАУК "Театр драмы" | B20: ='[9]СЗП2019 37858 ОГУ+МО'!$KK$289 -> 142.3 | C20: ='[10]УК расш(к)'!$F$17 -> 137.1 | D20: =F20/40339*100 -> 103.4079 | E20: =G20 -> 41713.672 | F20: ='[10]УК расш(к)'!$Q$17 -> 41713.713 | G20: ='[9]СЗП2019 37858 ОГУ+МО'!$KL$289 -> 41713.672 | H20: =F20-G20 -> 0.040525211
A21: ОГАУК ТО ТЮЗ | B21: ='[9]СЗП2019 37858 ОГУ+МО'!$KK$299 -> 106.8 | C21: ='[10]УК расш(к)'!$F$18 -> 105.3 | D21: =F21/40339*100 -> 82.713062 | E21: =G21 -> 33365.556 | F21: ='[10]УК расш(к)'!$Q$18 -> 33365.622 | G21: ='[9]СЗП2019 37858 ОГУ+МО'!$KL$299 -> 33365.556 | H21: =F21-G21 -> 0.066038338
A22: ОГАУК "ТОГФ" | B22: ='[9]СЗП2019 37858 ОГУ+МО'!$KK$359 -> 173.1 | C22: ='[10]УК расш(к)'!$F$20 -> 164.2 | D22: =F22/40339*100 -> 155.38958 | E22: =G22 -> 62682.626 | F22: ='[10]УК расш(к)'!$Q$20 -> 62682.603 | G22: ='[9]СЗП2019 37858 ОГУ+МО'!$KL$359 -> 62682.626 | H22: =F22-G22 -> -0.023557419
A23: ОГКУ "ГАТО" | B23: ='[9]СЗП2019 37858 ОГУ+МО'!$KK$373 -> 69.5 | C23: ='[10]УК расш(к)'!$F$21 -> 69.5 | D23: =F23/40339*100 -> 94.121386 | E23: =G23 -> 37967.597 | F23: ='[10]УК расш(к)'!$Q$21 -> 37967.626 | G23: ='[9]СЗП2019 37858 ОГУ+МО'!$KL$373 -> 37967.597 | H23: =F23-G23 -> 0.029184648
A24: ='[11]Sheet1 (2)'!$P$314 -> ОГКУ ЦДНИ ТО | B24: ='[9]СЗП2019 37858 ОГУ+МО'!$KK$383 -> 40 | C24: ='[10]УК расш(к)'!$F$22 -> 39.7 | D24: =F24/40339*100 -> 99.817876 | E24: =G24 -> 40250.748 | F24: ='[10]УК расш(к)'!$Q$22 -> 40265.533 | G24: ='[9]СЗП2019 37858 ОГУ+МО'!$KL$383 -> 40250.748 | H24: =F24-G24 -> 14.785209
A25: ОГАУК "ЦОП" | B25: ='[9]СЗП2019 37858 ОГУ+МО'!$KK$393 -> 13.6 | C25: ='[10]УК расш(к)'!$F$177 -> 12 | D25: =F25/40339*100 -> 103.91791 | E25: =G25 -> 37539.828 | F25: ='[10]УК расш(к)'!$Q$177 -> 41919.444 | G25: ='[9]СЗП2019 37858 ОГУ+МО'!$KL$393 -> 37539.828 | H25: =F25-G25 -> 4379.616
A26: ИТОГО ОГУ: | B26: =B11+B12+B13+B14+B15+B16+B17+B18+B19+B20+B21+B22+B23+B24 -> 1141.7 | C26: =C11+C12+C13+C14+C15+C16+C17+C18+C19+C20+C21+C22+C23+C24 -> 1122.4 | D26: =F26/40339*100 -> 97.646144 | E26: =(E11*B11+E12*B12+E13*B13+E14*B14+E15*B15+E16*B16+E17*B17+E18*B18+E19*B19+E20*B20+E21*B21+E22*B22+E23*B23+E24*B24)/B26 -> 39520.673 | F26: =(F11*C11+F12*C12+F13*C13+F14*C14+F15*C15+F16*C16+F17*C17+F18*C18+F19*C19+F20*C20+F21*C21+F22*C22+F23*C23+F24*C24)/C26 -> 39389.478 | G26: ='[9]СЗП2019 37858 ОГУ+МО'!$KL$24 -> 39520.673 | H26: =F26-G26 -> -131.19551
A27: ИТОГО ОГУ+ЦОП: | B27: =B26+B25 -> 1155.3 | C27: =C26+C25 -> 1134.4 | D27: =F27/40339*100 -> 97.712488 | E27: =(E26*B26+E25*B25)/B27 -> 39497.355 | F27: =(F26*C26+F25*C25)/C27 -> 39416.241 | G27: =(G25*B25+G26*B26)/B27 -> 39497.355 | H27: =F27-G27 -> -81.114639
A28: Александровский район
A29: ='[12]СЗП15 ф14 юр.л.'!$B$6 -> МБУ "Культурно - спортивный комплекс" | B29: ='[13]Ф2 2019'!$IQ$43 -> 69.4 | C29: ='[10]УК расш(к)'!$F$24 -> 69.8 | D29: =F29/40339*100 -> 118.28035 | E29: =G29 -> 47713.148 | F29: ='[10]УК расш(к)'!$Q$24 -> 47713.109 | G29: ='[13]Ф2 2019'!$IR$43 -> 47713.148 | H29: =F29-G29 -> -0.039519096
A30: Всего по муниципальному образованию "Александровский район" | B30: =B29 -> 69.4 | C30: =C29 -> 69.8 | D30: =F30/40339*100 -> 118.28035 | E30: =E29*B29/B30 -> 47713.148 | F30: =(F29*C29)/C30 -> 47713.109 | G30: =(G29*B29)/B30 -> 47713.148 | H30: =F30-G30 -> -0.039519096
A31: Бакчарский район
A32: ОГУ 1
A33: ОГУ 2
A34: Всего по ОГУ, подведомственным Департаменту
A35: ='[14]СВ Т-ст'!$C$38 -> Муниципальное казённое учреждение "Бакчарский краеведческий музей северного садоводства" | B35: ='[13]Ф2 2019'!$IQ$60 -> 2.5 | C35: ='[10]УК расш(к)'!$F$32 -> 3.2 | D35: =F35/40339*100 -> 82.633019 | E35: =G35 -> 27913.333 | F35: ='[10]УК расш(к)'!$Q$32 -> 33333.333 | G35: ='[13]Ф2 2019'!$IR$60 -> 27913.333 | H35: =F35-G35 -> 5420
A36: ='[14]СВ Т-ст'!$C$39 -> Муниципальное бюджетное учреждение культуры "Бакчарская межпоселенческая централизованная библиотечная система" | B36: ='[13]Ф2 2019'!$IQ$53 -> 17.9 | C36: ='[10]УК расш(к)'!$F$33 -> 18.2 | D36: =F36/40339*100 -> 108.41497 | E36: =G36 -> 44348.231 | F36: ='[10]УК расш(к)'!$Q$33 -> 43733.516 | G36: ='[13]Ф2 2019'!$IR$53 -> 44348.231 | H36: =F36-G36 -> -614.71443
A37: Муниципальное бюджетное учреждение культуры "Бакчарская межпоселенческая централизованная клубная система" | B37: ='[13]Ф2 2019'!$IQ$61 -> 36.4 | C37: ='[10]УК расш(к)'!$F$34 -> 36.4 | D37: =F37/40339*100 -> 92.037632 | E37: =G37 -> 37127.06 | F37: ='[10]УК расш(к)'!$Q$34 -> 37127.06 | G37: ='[13]Ф2 2019'!$IR$62 -> 37127.06 | H37: =F37-G37 -> 6.044138e-08
A38: Всего по муниципальному образованию "Бакчарский район" | B38: =B36+B35+B37 -> 56.8 | C38: =C36+C35+C37 -> 57.8 | D38: =F38/40339*100 -> 96.673841 | E38: =(E35*B35+E36*B36+E37*B37)/B38 -> 38997.212 | F38: =(F35*C35+F36*C36+F37*C37)/C38 -> 38997.261 | G38: =(G35*B35+G36*B36+G37*B37)/B38 -> 38997.212 | H38: =F38-G38 -> 0.048227736
A39: Верхнекетский район
A40: ОГУ 1
A41: ОГУ 2
A42: Всего по ОГУ, подведомственным Департаменту
A43: ='[14]СВ Т-ст'!$C$53 -> Муниципальное автономное учреждение "Культура" | B43: ='[13]Ф2 2019'!$IQ$69 -> 92.9 | C43: ='[10]УК расш(к)'!$F$36 -> 92.9 | D43: =F43/40339*100 -> 111.20723 | E43: =G43 -> 44859.87 | F43: ='[10]УК расш(к)'!$Q$36 -> 44859.885 | G43: ='[13]Ф2 2019'!$IR$69 -> 44859.87 | H43: =F43-G43 -> 0.014817574
A44: Всего по муниципальному образованию "Верхнекетский район" | B44: =B43 -> 92.9 | C44: =C43 -> 92.9 | D44: =F44/40339*100 -> 111.20723 | E44: =E43 -> 44859.87 | F44: =(F43*C43)/C44 -> 44859.885 | G44: =G43 -> 44859.87 | H44: =F44-G44 -> 0.014817574
A45: Зырянский район
A46: ОГУ 1
A47: ОГУ 2
A48: Всего по ОГУ, подведомственным Департаменту
A49: ='[14]СВ Т-ст'!$C$56 -> Муниципальное автономное учреждение «Центр культуры" Зырянского района | B49: ='[13]Ф2 2019'!$IQ$77 -> 42.1 | C49: ='[10]УК расш(к)'!$F$40 -> 42.1 | D49: =F49/40339*100 -> 73.673911 | E49: =G49 -> 28319.393 | F49: ='[10]УК расш(к)'!$Q$40 -> 29719.319 | G49: ='[13]Ф2 2019'!$IR$77 -> 28319.393 | H49: =F49-G49 -> 1399.9259
A50: ='[14]СВ Т-ст'!$C$57 -> Муниципальное бюджетное учреждение «Межпоселенческая централизованная библиотечная система Зырянского района» | B50: ='[13]Ф2 2019'!$IQ$72 -> 18.7 | C50: ='[10]УК расш(к)'!$F$41 -> 18.7 | D50: =F50/40339*100 -> 75.455656 | E50: =G50 -> 29916.68 | F50: ='[10]УК расш(к)'!$Q$41 -> 30438.057 | G50: ='[13]Ф2 2019'!$IR$72 -> 29916.68 | H50: =F50-G50 -> 521.37737
A51: ='[14]СВ Т-ст'!$C$58 -> Муниципальное бюджетное учреждение культуры «Зырянский краеведческий музей» | B51: ='[13]Ф2 2019'!$IQ$73 -> 4 | C51: ='[10]УК расш(к)'!$F$42 -> 4 | D51: =F51/40339*100 -> 77.840303 | E51: =G51 -> 36768.27 | F51: ='[10]УК расш(к)'!$Q$42 -> 31400 | G51: ='[13]Ф2 2019'!$IR$73 -> 36768.27 | H51: =F51-G51 -> -5368.27
A52: ='[14]СВ Т-ст'!$C$59 -> Муниципальное бюджетное учреждение «Центр культуры» Высоковского сельского поселения | B52: ='[13]Ф2 2019'!$IQ$76 -> 6 | C52: ='[10]УК расш(к)'!$F$43 -> 6 | D52: =F52/40339*100 -> 58.115113 | E52: =G52 -> 29236.979 | F52: ='[10]УК расш(к)'!$Q$43 -> 23443.056 | G52: ='[13]Ф2 2019'!$IR$76 -> 29236.979 | H52: =F52-G52 -> -5793.9239
A53: ='[14]СВ Т-ст'!$C$62 -> Муниципальное бюджетное учреждение «Центр культуры и досуга муниципального образования «Чердатское сельское поселение» | B53: ='[13]Ф2 2019'!$IQ$75 -> 4.9 | C53: ='[10]УК расш(к)'!$F$46 -> 4.9 | D53: =F53/40339*100 -> 67.143544 | E53: =G53 -> 29528.355 | F53: ='[10]УК расш(к)'!$Q$46 -> 27085.034 | G53: ='[13]Ф2 2019'!$IR$75 -> 29528.355 | H53: =F53-G53 -> -2443.3211
A54: Всего по муниципальному образованию "Зырянский район" | B54: =B49+B50+B51+B52+B53 -> 75.7 | C54: =C49+C50+C51+C52+C53 -> 75.7 | D54: =F54/40339*100 -> 72.678305 | E54: =(B49*E49+E50*B50+E51*B51+E52*B52+E53*B53)/B54 -> 29311.39 | F54: =(C49*F49+F50*C50+F51*C51+F52*C52+F53*C53)/C54 -> 29317.701 | G54: =(G49*B49+G50*B50+G51*B51+G52*B52+G53*B53)/B54 -> 29311.39 | H54: =F54-G54 -> 6.3109561
A55: Каргасокский район
A56: ОГУ 1
A57: ОГУ 2
A58: Всего по ОГУ, подведомственным Департаменту
A59: Муниципальное бюджетное учреждение культуры "Каргасокская центральная районная библиотека" | B59: ='[13]Ф2 2019'!$IQ$98 -> 43 | C59: ='[10]УК расш(к)'!$F$49 -> 41.1 | D59: =F59/40339*100 -> 119.46302 | E59: =G59 -> 47751.152 | F59: ='[10]УК расш(к)'!$Q$49 -> 48190.187 | G59: ='[13]Ф2 2019'!$IR$98 -> 47751.152 | H59: =F59-G59 -> 439.03458
A60: Муниципальное бюджетное учреждение культуры "Каргасокский районный дом культуры" | B60: ='[13]Ф2 2019'!$IQ$83 -> 31 | C60: ='[10]УК расш(к)'!$F$50 -> 33.3 | D60: =F60/40339*100 -> 124.06554 | E60: =G60 -> 50069.416 | F60: ='[10]УК расш(к)'!$Q$50 -> 50046.797 | G60: ='[13]Ф2 2019'!$IR$83 -> 50069.416 | H60: =F60-G60 -> -22.619331
A61: Муниципальное казенное учреждение культуры "Сосновский центр культуры" | B61: ='[13]Ф2 2019'!$IQ$94 -> 5.1 | C61: ='[10]УК расш(к)'!$F$51 -> 4.7 | D61: =F61/40339*100 -> 105.12414 | E61: =G61 -> 42216.265 | F61: ='[10]УК расш(к)'!$Q$51 -> 42406.028 | G61: ='[13]Ф2 2019'!$IR$94 -> 42216.265 | H61: =F61-G61 -> 189.76315
A62: Муниципальное казенное учреждение культуры "Березовский библиотечно-досуговый центр" | B62: ='[13]Ф2 2019'!$IQ$96 -> 1.7 | C62: ='[10]УК расш(к)'!$F$53 -> 1.7 | D62: =F62/40339*100 -> 86.861885 | E62: =G62 -> 33356.469 | F62: ='[10]УК расш(к)'!$Q$53 -> 35039.216 | G62: ='[13]Ф2 2019'!$IR$96 -> 33356.469 | H62: =F62-G62 -> 1682.747
A63: Муниципальное казенное учреждение культуры "Вертикосский библиотечно-досуговый центр" | B63: ='[13]Ф2 2019'!$IQ$90 -> 4.4 | C63: ='[10]УК расш(к)'!$F$54 -> 4.2 | D63: =F63/40339*100 -> 85.603872 | E63: =G63 -> 29963.355 | F63: ='[10]УК расш(к)'!$Q$54 -> 34531.746 | G63: ='[13]Ф2 2019'!$IR$90 -> 29963.355 | H63: =F63-G63 -> 4568.3912
A64: Муниципальное казенное учреждение культуры "Культурно библиотечный центр Новоюгинского поселения" | B64: ='[13]Ф2 2019'!$IQ$87 -> 5.5 | C64: ='[10]УК расш(к)'!$F$55 -> 5.5 | D64: =F64/40339*100 -> 89.112198 | E64: =G64 -> 35089.275 | F64: ='[10]УК расш(к)'!$Q$55 -> 35946.97 | G64: ='[13]Ф2 2019'!$IR$87 -> 35089.275 | H64: =F64-G64 -> 857.69511
A65: Муниципальное казенное учреждение культуры "Тымский библиотечно-досуговый центр" | B65: ='[13]Ф2 2019'!$IQ$85 -> 2.2 | C65: ='[10]УК расш(к)'!$F$56 -> 2 | D65: =F65/40339*100 -> 91.175207 | E65: =G65 -> 38905.43 | F65: ='[10]УК расш(к)'!$Q$56 -> 36779.167 | G65: ='[13]Ф2 2019'!$IR$85 -> 38905.43 | H65: =F65-G65 -> -2126.2634
A66: Муниципальное казенное учреждение "Культурно-досуговый центр Средневасюганского сельского поселения" | B66: ='[13]Ф2 2019'!$IQ$89 -> 6.7 | C66: ='[10]УК расш(к)'!$F$57 -> 6.7 | D66: =F66/40339*100 -> 126.98352 | E66: =G66 -> 51574.892 | F66: ='[10]УК расш(к)'!$Q$57 -> 51223.881 | G66: ='[13]Ф2 2019'!$IR$89 -> 51574.892 | H66: =F66-G66 -> -351.0115
A67: Муниципальное казенное учреждение культуры "Нововасюганский центр культуры" | B67: ='[13]Ф2 2019'!$IQ$92 -> 3.9 | C67: ='[10]УК расш(к)'!$F$58 -> 4.4 | D67: =F67/40339*100 -> 96.389538 | E67: =G67 -> 42981.303 | F67: ='[10]УК расш(к)'!$Q$58 -> 38882.576 | G67: ='[13]Ф2 2019'!$IR$92 -> 42981.303 | H67: =F67-G67 -> -4098.7274
A68: Муниципальное казенное учреждение культуры "Каргасокский культурно-досуговый и библиотечный центр" | B68: ='[13]Ф2 2019'!$IQ$93 -> 9 | C68: ='[10]УК расш(к)'!$F$59 -> 9.5 | D68: =F68/40339*100 -> 113.51167 | E68: =G68 -> 51611.505 | F68: ='[10]УК расш(к)'!$Q$59 -> 45789.474 | G68: ='[13]Ф2 2019'!$IR$93 -> 51611.505 | H68: =F68-G68 -> -5822.0311
A69: Муниципальное казенное учреждение культуры "Усть -Тымский библиотечно-досуговый центр" | B69: ='[13]Ф2 2019'!$IQ$86 -> 3.3 | C69: ='[10]УК расш(к)'!$F$60 -> 3.4 | D69: =F69/40339*100 -> 92.682652 | E69: =G69 -> 35526.373 | F69: ='[10]УК расш(к)'!$Q$60 -> 37387.255 | G69: ='[13]Ф2 2019'!$IR$86 -> 35526.373 | H69: =F69-G69 -> 1860.8824
A70: Муниципальное казенное учреждение культуры "Киевский сельский библиотечно-досуговый центр" | B70: ='[13]Ф2 2019'!$IQ$91 -> 2.7 | C70: ='[10]УК расш(к)'!$F$61 -> 2.8 | D70: =F70/40339*100 -> 82.352656 | E70: =G70 -> 30035.723 | F70: ='[10]УК расш(к)'!$Q$61 -> 33220.238 | G70: ='[13]Ф2 2019'!$IR$91 -> 30035.723 | H70: =F70-G70 -> 3184.5154
A71: Муниципальное казенное учреждение культуры "Среднетымский центр культуры" | B71: ='[13]Ф2 2019'!$IQ$88 -> 5.9 | C71: ='[10]УК расш(к)'!$F$63 -> 6 | D71: =F71/40339*100 -> 115.49342 | E71: =G71 -> 45013.052 | F71: ='[10]УК расш(к)'!$Q$63 -> 46588.889 | G71: ='[13]Ф2 2019'!$IR$88 -> 45013.052 | H71: =F71-G71 -> 1575.8367
A72: Всего по муниципальному образованию "Каргасокский район" | B72: =B59+B60+B61+B62+B63+B64+B65+B66+B67+B68+B69+B70+B71 -> 124.4 | C72: =C59+C60+C61+C62+C63+C64+C65+C66+C67+C68+C69+C70+C71 -> 125.3 | D72: =F72/40339*100 -> 114.18195 | E72: ='[13]Ф2 2019'!$IR$80 -> 46056.987 | F72: =(F59*C59+F60*C60+F61*C61+F62*C62+F63*C63+F64*C64+F65*C65+F66*C66+F67*C67+F68*C68+F69*C69+F70*C70+F71*C71)/C72 -> 46059.856 | G72: ='[13]Ф2 2019'!$IR$80 -> 46056.987 | H72: =F72-G72 -> 2.8698241
A73: Кожевниковский район
A74: ОГУ 1
A75: ОГУ 2
A76: Всего по ОГУ, подведомственным Департаменту
A77: Муниципальное бюджетное учреждение культуры «Кожевниковская межмуниципальная централизованная клубная система» | B77: ='[13]Ф2 2019'!$IQ$102 -> 43.6 | C77: ='[10]УК расш(к)'!$F$65 -> 42.6 | D77: =F77/40339*100 -> 81.329027 | E77: =G77 -> 32672.18 | F77: ='[10]УК расш(к)'!$Q$65 -> 32807.316 | G77: ='[13]Ф2 2019'!$IR$102 -> 32672.18 | H77: =F77-G77 -> 135.13612
A78: Муниципальное бюджетное учреждение «Межпоселенческая централизованная библиотечная система Кожевниковского района» | B78: ='[13]Ф2 2019'!$IQ$101 -> 23 | C78: ='[10]УК расш(к)'!$F$66 -> 22.4 | D78: =F78/40339*100 -> 89.324817 | E78: =G78 -> 35923.91 | F78: ='[10]УК расш(к)'!$Q$66 -> 36032.738 | G78: ='[13]Ф2 2019'!$IR$101 -> 35923.91 | H78: =F78-G78 -> 108.8281
A79: Всего по муниципальному образованию "Кожевниковский район" | B79: =B77+B78 -> 66.6 | C79: =C77+C78 -> 65 | D79: =F79/40339*100 -> 84.084499 | E79: =(E77*B77+E78*B78)/B79 -> 33795.15 | F79: =(F77*C77+F78*C78)/C79 -> 33918.846 | G79: =(G77*B77+G78*B78)/B79 -> 33795.15 | H79: =F79-G79 -> 123.69633
A80: Кривошеинский район
A81: ОГУ 1
A82: ОГУ 2
A83: Всего по ОГУ, подведомственным Департаменту
A84: Муниципальное бюджетное учреждение "Кривошеинская центральная межпоселенческая библиотека" | B84: ='[13]Ф2 2019'!$IQ$104 -> 20.4 | C84: ='[10]УК расш(к)'!$F$73 -> 20.4 | D84: =F84/40339*100 -> 106.26039 | E84: =G84 -> 43101.137 | F84: ='[10]УК расш(к)'!$Q$73 -> 42864.379 | G84: ='[13]Ф2 2019'!$IR$104 -> 43101.137 | H84: =F84-G84 -> -236.75805
A85: Муниципальное бюджетное учреждение культуры "Кривошеинская межпоселенческая централизованная клубная система" | B85: ='[13]Ф2 2019'!$IQ$105 -> 39.1 | C85: ='[10]УК расш(к)'!$F$74 -> 38.8 | D85: =F85/40339*100 -> 94.425261 | E85: =G85 -> 37979.17 | F85: ='[10]УК расш(к)'!$Q$74 -> 38090.206 | G85: ='[13]Ф2 2019'!$IR$105 -> 37979.17 | H85: =F85-G85 -> 111.03584
A86: Всего по муниципальному образованию "Кривошеинский район" | B86: =B84+B85 -> 59.5 | C86: =C84+C85 -> 59.2 | D86: =F86/40339*100 -> 98.503583 | E86: =(E84*B84+E85*B85)/B86 -> 39735.273 | F86: =(F84*C84+F85*C85)/C86 -> 39735.36 | G86: =(G84*B84+G85*B85)/B86 -> 39735.273 | H86: =F86-G86 -> 0.087111276
A87: Молчановский район
A88: ОГУ 1
A89: ОГУ 2
A90: Всего по ОГУ, подведомственным Департаменту
A91: Муниципальное автономное учреждение культуры "Межпоселенческий методический центр народного творчества и досуга" | B91: ='[13]Ф2 2019'!$IQ$108 -> 55.4 | C91: ='[10]УК расш(к)'!$F$76 -> 55.4 | D91: =F91/40339*100 -> 97.123255 | E91: =G91 -> 38507.521 | F91: ='[10]УК расш(к)'!$Q$76 -> 39178.55 | G91: ='[13]Ф2 2019'!$IR$108 -> 38507.521 | H91: =F91-G91 -> 671.02934
A92: Муниципальное бюджетное учреждение культуры "Молчановская межпоселенческая централизованная библиотечная система" | B92: ='[13]Ф2 2019'!$IQ$107 -> 21.9 | C92: ='[10]УК расш(к)'!$F$77 -> 21.9 | D92: =F92/40339*100 -> 98.711555 | E92: =G92 -> 41516.7 | F92: ='[10]УК расш(к)'!$Q$77 -> 39819.254 | G92: ='[13]Ф2 2019'!$IR$107 -> 41516.7 | H92: =F92-G92 -> -1697.4453
A93: Всего по муниципальному образованию "Молчановский район" | B93: =B91+B92 -> 77.3 | C93: =C91+C92 -> 77.3 | D93: =F93/40339*100 -> 97.573239 | E93: ='[13]Ф2 2019'!$IR$106 -> 39360.01 | F93: =(F91*C91+F92*C92)/C93 -> 39360.069 | G93: ='[13]Ф2 2019'!$IR$106 -> 39360.01 | H93: =F93-G93 -> 0.058930995
A94: Парабельский район
A95: ОГУ 1
A96: ОГУ 2
A97: Всего по ОГУ, подведомственным Департаменту
A98: Муниципальное бюджетное учреждение культуры "Межпоселенческая библиотека" | B98: ='[13]Ф2 2019'!$IQ$110 -> 32.5 | C98: ='[10]УК расш(к)'!$F$80 -> 32.5 | D98: =F98/40339*100 -> 120.21769 | E98: =G98 -> 47720.366 | F98: ='[10]УК расш(к)'!$Q$80 -> 48494.615 | G98: ='[13]Ф2 2019'!$IR$110 -> 47720.366 | H98: =F98-G98 -> 774.24948
A99: Муниципальное бюджетное учреждение культуры "Муниципальный музей" | B99: ='[13]Ф2 2019'!$IQ$111 -> 10 | C99: ='[10]УК расш(к)'!$F$81 -> 10 | D99: =F99/40339*100 -> 108.78637 | E99: =G99 -> 42924.498 | F99: ='[10]УК расш(к)'!$Q$81 -> 43883.333 | G99: ='[13]Ф2 2019'!$IR$111 -> 42924.498 | H99: =F99-G99 -> 958.83513
A100: Муниципальное казенное учреждение культуры муниципального образования "Заводское сельское поселение" "Заводской сельский Дом культуры" | D100: =F100/40339*100 -> 0 | E100: =G100 -> 0 | H100: =F100-G100 -> 0
A101: Муниципальное бюджетное учреждение культуры "Районный Дом культуры" | B101: ='[13]Ф2 2019'!$IQ$117 -> 36.2 | C101: ='[10]УК расш(к)'!$F$83 -> 42 | D101: =F101/40339*100 -> 106.92467 | E101: =G101 -> 44757.154 | F101: ='[10]УК расш(к)'!$Q$83 -> 43132.341 | G101: ='[13]Ф2 2019'!$IR$117 -> 44757.154 | H101: =F101-G101 -> -1624.8123
A102: Муниципальное казённое учреждение культуры муниципального образования "Новосельцевское сельское поселение" "Новосельцевский сельский Дом культуры" | D102: =F102/40339*100 -> 0 | E102: =G102 -> 0 | H102: =F102-G102 -> 0
...

Sheet приложение 2 культура 
E1: Приложение № 2
B2: к письму от __________№_________
A4: Мониторинг целевых показателей, установленных в плане мероприятий "дорожной карте"
A5: за 2020 год (данные ведомственной статистики)
A7: Наименование МУ | B7: Среднесписочная численность, чел. | C7: ФОТ, тыс.руб | D7: Среднемесячная заработная плата по категориям персонала, руб. | E7: Доля ФОТ АУП и вспомогательного персонала в общем ФОТ, % | F7: Доля фонда оплаты труда в общем фонде оплаты труда, %
A8: 1 | B8: 2 | C8: 3 | E8: 4 | F8: 5
A9: Работники учреждений культуры
A10: ОГУ
A11: ОГАУК "ТОУНБ им.А.С. Пушкина" | E11: =(C14+C16)/C12 -> 0.28324766
A12: ФОТ , всего: | B12: =B14+B15+B16 -> 139 | C12: =C14+C15+C16 -> 58344.7 | D12: =C12/B12/12*1000 -> 34978.837 | F12: =C12/C12*100 -> 100
A13: в том числе по группам персонала:
A14: Административно-управленческий персонал | B14: 5 | C14: 4831.4 | D14: =C14/B14/12*1000 -> 80523.333 | F14: =C14*100/C12 -> 8.2807864
A15: Основной персонал | B15: 97.6 | C15: 41818.7 | D15: =C15/B15/12*1000 -> 35705.857 | F15: =C15*100/C12 -> 71.675234
A16: Прочий персонал (вспомогательный) | B16: 36.4 | C16: 11694.6 | D16: =C16/B16/12*1000 -> 26773.352 | F16: =C16/C12*100 -> 20.04398
A17: ОГАУК "ТОДЮБ" | E17: =(C20+C22)/C18 -> 0.34122492
A18: ФОТ, всего: | B18: =B20+B21+B22 -> 49.6 | C18: =C20+C21+C22 -> 21732 | D18: =C18/B18/12*1000 -> 36512.097 | F18: =C18/C18*100 -> 100
A19: в том числе по группам персонала:
A20: Административно-управленческий персонал | B20: 4 | C20: 2996.3 | D20: =C20/B20/12*1000 -> 62422.917 | F20: =C20*100/C18 -> 13.787502
A21: Основной персонал | B21: 32.5 | C21: 14316.5 | D21: =C21/B21/12*1000 -> 36708.974 | F21: =C21*100/C18 -> 65.877508
A22: Прочий персонал (вспомогательный) | B22: 13.1 | C22: 4419.2 | D22: =C22/B22/12*1000 -> 28111.959 | F22: =C22/C18*100 -> 20.33499
A23: ОГАУК «ДНТ «Авангард» | E23: =(C26+C28)/C24 -> 0.41250115
A24: ФОТ, всего: | B24: =B26+B27+B28 -> 88.5 | C24: =C26+C27+C28 -> 39218.8 | D24: =C24/B24/12*1000 -> 36929.19 | F24: =C24/C24*100 -> 100
A25: в том числе по группам персонала:
A26: Административно-управленческий персонал | B26: 4 | C26: 3065.1 | D26: =C26/B26/12*1000 -> 63856.25 | F26: =C26*100/C24 -> 7.8153845
A27: Основной персонал | B27: 50.5 | C27: 23041 | D27: =C27/B27/12*1000 -> 38021.452 | F27: =C27*100/C24 -> 58.749885
A28: Прочий персонал (вспомогательный) | B28: 34 | C28: 13112.7 | D28: =C28/B28/12*1000 -> 32138.971 | F28: =C28/C24*100 -> 33.43473
A29: ОГАУК «ТО РНД» | E29: =(C32+C34)/C30 -> 0.52453653
A30: ФОТ , всего: | B30: =B32+B33+B34 -> 13.8 | C30: =C32+C33+C34 -> 5593.7 | D30: =C30/B30/12*1000 -> 33778.382 | F30: =C30/C30*100 -> 100
A31: в том числе по группам персонала:
A32: Административно-управленческий персонал | B32: 3 | C32: 1876.3 | D32: =C32/B32/12*1000 -> 52119.444 | F32: =C32*100/C30 -> 33.543093
A33: Основной персонал | B33: 7 | C33: 2659.6 | D33: =C33/B33/12*1000 -> 31661.905 | F33: =C33*100/C30 -> 47.546347
A34: Прочий персонал (вспомогательный) | B34: 3.8 | C34: 1057.8 | D34: =C34/B34/12*1000 -> 23197.368 | F34: =C34/C30*100 -> 18.91056
A35: ОГАУК «ЦТК» | E35: =(C38+C40)/C36 -> 0.43413159
A36: ФОТ, всего: | B36: =B38+B39+B40 -> 9.8 | C36: =C38+C39+C40 -> 4000.4 | D36: =C36/B36/12*1000 -> 34017.007 | F36: =C36/C36*100 -> 100
A37: в том числе по группам персонала:
A38: Административно-управленческий персонал | B38: 2 | C38: 1179.4 | D38: =C38/B38/12*1000 -> 49141.667 | F38: =C38*100/C36 -> 29.482052
A39: Основной персонал | B39: 5.5 | C39: 2263.7 | D39: =C39/B39/12*1000 -> 34298.485 | F39: =C39*100/C36 -> 56.586841
A40: Прочий персонал (вспомогательный) | B40: 2.3 | C40: 557.3 | D40: =C40/B40/12*1000 -> 20192.029 | F40: =C40/C36*100 -> 13.931107
A41: ОГАУК «Дом искусств» | E41: =(C44+C46)/C42 -> 0.55715519
A42: ФОТ , всего: | B42: =B44+B45+B46 -> 12.7 | C42: =C44+C45+C46 -> 4285.7 | D42: =C42/B42/12*1000 -> 28121.391 | F42: =C42/C42*100 -> 100
A43: в том числе по группам персонала:
A44: Административно-управленческий персонал | B44: 1 | C44: 655.2 | D44: =C44/B44/12*1000 -> 54600 | F44: =C44*100/C42 -> 15.288051
A45: Основной персонал | B45: 4.2 | C45: 1897.9 | D45: =C45/B45/12*1000 -> 37656.746 | F45: =C45*100/C42 -> 44.284481
A46: Прочий персонал (вспомогательный) | B46: 7.5 | C46: 1732.6 | D46: =C46/B46/12*1000 -> 19251.111 | F46: =C46/C42*100 -> 40.427468
A47: ОГАУК "ТОКМ им.М.Б. Шатилова" | E47: =(C50+C52)/C48 -> 0.45837654
A48: ФОТ , всего: | B48: =B50+B51+B52 -> 160.3 | C48: =C50+C51+C52 -> 56611.1 | D48: =C48/B48/12*1000 -> 29429.767 | F48: =C48/C48*100 -> 100
A49: в том числе по группам персонала:
A50: Административно-управленческий персонал | B50: 6 | C50: 4775.1 | D50: =C50/B50/12*1000 -> 66320.833 | F50: =C50*100/C48 -> 8.4349182
A51: Основной персонал | B51: 91.4 | C51: 30661.9 | D51: =C51/B51/12*1000 -> 27955.78 | F51: =C51*100/C48 -> 54.162346
A52: Прочий персонал (вспомогательный) | B52: 62.9 | C52: 21174.1 | D52: =C52/B52/12*1000 -> 28052.597 | F52: =C52/C48*100 -> 37.402736
A53: ОГАУК "ТОХМ" | E53: =(C56+C58)/C54 -> 0.36552204
A54: ФОТ, всего: | B54: =B56+B57+B58 -> 69.1 | C54: =C56+C57+C58 -> 27875.2 | D54: =C54/B54/12*1000 -> 33616.98 | F54: =C54/C54*100 -> 100
A55: в том числе по группам персонала:
A56: Административно-управленческий персонал | B56: 4 | C56: 3426.5 | D56: =C56/B56/12*1000 -> 71385.417 | F56: =C56*100/C54 -> 12.292288
A57: Основной персонал | B57: 46.8 | C57: 17686.2 | D57: =C57/B57/12*1000 -> 31492.521 | F57: =C57*100/C54 -> 63.447796
A58: Прочий персонал (вспомогательный) | B58: 18.3 | C58: 6762.5 | D58: =C58/B58/12*1000 -> 30794.627 | F58: =C58/C54*100 -> 24.259916
A59: ОГАУК «Театр драмы» | E59: =(C62+C64)/C60 -> 0.44403984
A60: ФОТ , всего: | B60: =B62+B63+B64 -> 137.1 | C60: =C62+C63+C64 -> 68627.4 | D60: =C60/B60/12*1000 -> 41713.713 | F60: =C60/C60*100 -> 100
A61: в том числе по группам персонала:
A62: Административно-управленческий персонал | B62: 2.9 | C62: 3686.7 | D62: =C62/B62/12*1000 -> 105939.66 | F62: =C62*100/C60 -> 5.3720526
A63: Основной персонал | B63: 67.8 | C63: 38154.1 | D63: =C63/B63/12*1000 -> 46895.403 | F63: =C63*100/C60 -> 55.596016
A64: Прочий персонал (вспомогательный) | B64: 66.4 | C64: 26786.6 | D64: =C64/B64/12*1000 -> 33617.721 | F64: =C64/C60*100 -> 39.031932
A65: ОГАУК ТО ТЮЗ | E65: =(C68+C70)/C66 -> 0.44997486
A66: ФОТ, всего: | B66: =B68+B69+B70 -> 105.3 | C66: =C68+C69+C70 -> 42160.8 | D66: =C66/B66/12*1000 -> 33365.622 | F66: =C66/C66*100 -> 100
A67: в том числе по группам персонала:
A68: Административно-управленческий персонал | B68: 3.6 | C68: 3191 | D68: =C68/B68/12*1000 -> 73865.741 | F68: =C68*100/C66 -> 7.568642
A69: Основной персонал | B69: 56.5 | C69: 23189.5 | D69: =C69/B69/12*1000 -> 34202.802 | F69: =C69*100/C66 -> 55.002514
A70: Прочий персонал (вспомогательный) | B70: 45.2 | C70: 15780.3 | D70: =C70/B70/12*1000 -> 29093.473 | F70: =C70/C66*100 -> 37.428844
A71: ОГАУК ТОТК и А «Скоморох» им. Р. Виндермана | E71: =(C74+C76)/C72 -> 0.3410228
A72: ФОТ, всего: | B72: =B74+B75+B76 -> 63.8 | C72: =C74+C75+C76 -> 27721.9 | D72: =C72/B72/12*1000 -> 36209.378 | F72: =C72/C72*100 -> 100
A73: в том числе по группам персонала:
A74: Административно-управленческий персонал | B74: 3.5 | C74: 2931.5 | D74: =C74/B74/12*1000 -> 69797.619 | F74: =C74*100/C72 -> 10.574672
A75: Основной персонал | B75: 41 | C75: 18268.1 | D75: =C75/B75/12*1000 -> 37130.285 | F75: =C75*100/C72 -> 65.89772
A76: Прочий персонал (вспомогательный) | B76: 19.3 | C76: 6522.3 | D76: =C76/B76/12*1000 -> 28161.917 | F76: =C76/C72*100 -> 23.527608
A77: ОГАУК «Томская областная государственная филармония» | E77: =(C80+C82)/C78 -> 0.25443163
A78: ФОТ, всего: | B78: =B80+B81+B82 -> 164.2 | C78: =C80+C81+C82 -> 123509.8 | D78: =C78/B78/12*1000 -> 62682.603 | F78: =C78/C78*100 -> 100
A79: в том числе по группам персонала:
A80: Административно-управленческий персонал | B80: 4.1 | C80: 4503.6 | D80: =C80/B80/12*1000 -> 91536.585 | F80: =C80*100/C78 -> 3.6463503
A81: Основной персонал | B81: 102.3 | C81: 92085 | D81: =C81/B81/12*1000 -> 75012.219 | F81: =C81*100/C78 -> 74.556837
A82: Прочий персонал (вспомогательный) | B82: 57.8 | C82: 26921.2 | D82: =C82/B82/12*1000 -> 38813.725 | F82: =C82/C78*100 -> 21.796813
A83: ОГКУ "ГАТО" | E83: =(C86+C88)/C84 -> 0.2501879
A84: ФОТ , всего: | B84: =B86+B87+B88 -> 69.5 | C84: =C86+C87+C88 -> 31665 | D84: =C84/B84/12*1000 -> 37967.626 | F84: =C84/C84*100 -> 100
A85: в том числе по группам персонала:
A86: Административно-управленческий персонал | B86: 4 | C86: 2785.1 | D86: =C86/B86/12*1000 -> 58022.917 | F86: =C86*100/C84 -> 8.7955156
A87: Основной персонал | B87: 49 | C87: 23742.8 | D87: =C87/B87/12*1000 -> 40378.912 | F87: =C87*100/C84 -> 74.98121
A88: Прочий персонал (вспомогательный) | B88: 16.5 | C88: 5137.1 | D88: =C88/B88/12*1000 -> 25944.949 | F88: =C88/C84*100 -> 16.223275
A89: ОГКУ "ЦДНИ ТО" | E89: =(C92+C94)/C90 -> 0.32092272
A90: ФОТ, всего: | B90: =B92+B93+B94 -> 39.7 | C90: =C92+C93+C94 -> 19182.5 | D90: =C90/B90/12*1000 -> 40265.533 | F90: =C90/C90*100 -> 100
A91: в том числе по группам персонала:
A92: Административно-управленческий персонал | B92: 4 | C92: 2707 | D92: =C92/B92/12*1000 -> 56395.833 | F92: =C92*100/C90 -> 14.111821
A93: Основной персонал | B93: 26 | C93: 13026.4 | D93: =C93/B93/12*1000 -> 41751.282 | F93: =C93*100/C90 -> 67.907728
A94: Прочий персонал (вспомогательный) | B94: 9.7 | C94: 3449.1 | D94: =C94/B94/12*1000 -> 29631.443 | F94: =C94/C90*100 -> 17.980451
A95: ОГАУК "ЦОП" | E95: =(C98+C100)/C96 -> 0.93656815
A96: ФОТ, всего: | B96: =B98+B99+B100 -> 12 | C96: =C98+C99+C100 -> 6036.4 | D96: =C96/B96/12*1000 -> 41919.444 | F96: =C96/C96*100 -> 100
A97: в том числе по группам персонала:
A98: Административно-управленческий персонал | B98: 2 | C98: 1782.8 | D98: =C98/B98/12*1000 -> 74283.333 | F98: =C98*100/C96 -> 29.534159
A99: Основной персонал | B99: 1 | C99: 382.9 | D99: =C99/B99/12*1000 -> 31908.333 | F99: =C99*100/C96 -> 6.3431847
A100: Прочий персонал (вспомогательный) | B100: 9 | C100: 3870.7 | D100: =C100/B100/12*1000 -> 35839.815 | F100: =C100/C96*100 -> 64.122656
A101: ИТОГО ФОТ по ОГУ - всего: | E101: =(C104+C106)/C102 -> 0.36038682
A102: ФОТ всего: | B102: =B12+B18+B24+B30+B36+B42+B48+B54+B60+B66+B72+B78+B84+B90+B96 -> 1134.4 | C102: =C12+C18+C24+C30+C36+C42+C48+C54+C60+C66+C72+C78+C84+C90+C96 -> 536565.4 | D102: =C102/B102/12*1000 -> 39416.241 | F102: =C102/C102*100 -> 100
...

Sheet приложение 3 культура 
C1: Приложение № 3
C2: к письму от ________________№__________
A4: Мониторинг целевых показателей, установленных в плане мероприятий "дорожной карте"
A5: за 2020 год (данные ведомственной статистики)
A7: Наименование МУ | B7: Среднесписочная численность работников, чел. | C7: Среднемесячная заработная плата по категориям персонала, руб. | D7: ФОТ, тыс.руб | E7: Отношение среднемесячной заработной платы категорий персонала к среднемесячной заработной плате основного персонала учреждений, раз
A8: 1 | B8: 2 | C8: 3 | E8: 3
A9: Работники культуры
A10: ВСЕГО (МО+ОГУ): | B10: ='приложение 2 культура '!B795 -> 3765.4 | C10: =D10/B10/12*1000 -> 37941.502 | D10: ='приложение 2 культура '!C795 -> 1714379.2 | E10: =C10/C10*100 -> 100
A11: в том числе по группам персонала:
A12: АУП | B12: ='приложение 2 культура '!B797 -> 192.5 | C12: =D12/B12/12*1000 -> 65309.61 | D12: ='приложение 2 культура '!C797 -> 150865.2 | E12: =C12/C13 -> 1.5692357
A13: основной | B13: ='приложение 2 культура '!B798 -> 2369.4 | C13: =D13/B13/12*1000 -> 41618.74 | D13: ='приложение 2 культура '!C798 -> 1183337.3 | E13: =C13/C13 -> 1
A14: вспомогательный | B14: ='приложение 2 культура '!B799 -> 1203.5 | C14: =D14/B14/12*1000 -> 26324.38 | D14: ='приложение 2 культура '!C799 -> 380176.7 | E14: =C14/C13 -> 0.63251267
A15: ОГУ
A16: Областные государственные учреждения, повведомственные Департаменту по культуре ТО, в том числе:
A17: АУП | B17: ='приложение 2 культура '!B104 -> 53.1 | C17: =D17/B17/12*1000 -> 69668.864 | D17: ='приложение 2 культура '!C104 -> 44393 | E17: =C17/C18 -> 1.6542976 | F17: =B21+B33+B53+B65+#REF!+B86+#REF! -> #REF! | G17: =H17/F17/12*1000 -> #REF! | H17: =D21+D33+D53+D65+#REF!+D86+#REF! -> #REF!
A18: основной | B18: ='приложение 2 культура '!B105 -> 679.1 | C18: =D18/B18/12*1000 -> 42113.864 | D18: ='приложение 2 культура '!C105 -> 343194.3 | E18: =C18/C18 -> 1 | F18: =B22+B34+B54+B66+#REF!+B87+#REF! -> #REF! | G18: =H18/F18/12*1000 -> #REF! | H18: =D22+D34+D54+D66+#REF!+D87+#REF! -> #REF!
A19: вспомогательный | B19: ='приложение 2 культура '!B106 -> 402.2 | C19: =D19/B19/12*1000 -> 30867.334 | D19: ='приложение 2 культура '!C106 -> 148978.1 | E19: =C19/C18 -> 0.73294946 | F19: =B23+B35+B55+B67+#REF!+B88+#REF! -> #REF! | G19: =H19/F19/12*1000 -> #REF! | H19: =D23+D35+D55+D67+#REF!+D88+#REF! -> #REF!
A20: Библиотеки
A21: АУП | B21: ='приложение 2 культура '!B14+'приложение 2 культура '!B20 -> 9 | C21: =D21/B21/12*1000 -> 72478.704 | D21: ='приложение 2 культура '!C14+'приложение 2 культура '!C20 -> 7827.7 | E21: =C21/C22 -> 2.0157362 | F21: =B25+B29 -> 9 | G21: =H21/F21/12*1000 -> 72478.704 | H21: =D25+D29 -> 7827.7
A22: основной | B22: ='приложение 2 культура '!B15+'приложение 2 культура '!B21 -> 130.1 | C22: =D22/B22/12*1000 -> 35956.444 | D22: ='приложение 2 культура '!C15+'приложение 2 культура '!C21 -> 56135.2 | E22: =C22/C22 -> 1 | F22: =B26+B30 -> 130.1 | G22: =H22/F22/12*1000 -> 35956.444 | H22: =D26+D30 -> 56135.2
A23: вспомогательный | B23: ='приложение 2 культура '!B16+'приложение 2 культура '!B22 -> 49.5 | C23: =D23/B23/12*1000 -> 27127.609 | D23: ='приложение 2 культура '!C16+'приложение 2 культура '!C22 -> 16113.8 | E23: =C23/C22 -> 0.75445752 | F23: =B27+B31 -> 49.5 | G23: =H23/F23/12*1000 -> 27127.609 | H23: =D27+D31 -> 16113.8
A24: ОГАУК "ТОУНБ им.А.С. Пушкина"
A25: АУП | B25: ='приложение 2 культура '!B14 -> 5 | C25: =D25/B25/12*1000 -> 80523.333 | D25: ='приложение 2 культура '!C14 -> 4831.4 | E25: =C25/C26 -> 2.2551856
A26: основной | B26: ='приложение 2 культура '!B15 -> 97.6 | C26: =D26/B26/12*1000 -> 35705.857 | D26: ='приложение 2 культура '!C15 -> 41818.7 | E26: =C26/C26 -> 1
A27: вспомогательный | B27: ='приложение 2 культура '!B16 -> 36.4 | C27: =D27/B27/12*1000 -> 26773.352 | D27: ='приложение 2 культура '!C16 -> 11694.6 | E27: =C27/C26 -> 0.7498308
A28: ОГАУК "ТОДЮБ"
A29: АУП | B29: ='приложение 2 культура '!B20 -> 4 | C29: =D29/B29/12*1000 -> 62422.917 | D29: ='приложение 2 культура '!C20 -> 2996.3 | E29: =C29/C30 -> 1.7004811
A30: основной | B30: ='приложение 2 культура '!B21 -> 32.5 | C30: =D30/B30/12*1000 -> 36708.974 | D30: ='приложение 2 культура '!C21 -> 14316.5 | E30: =C30/C30 -> 1
A31: вспомогательный | B31: ='приложение 2 культура '!B22 -> 13.1 | C31: =D31/B31/12*1000 -> 28111.959 | D31: ='приложение 2 культура '!C22 -> 4419.2 | E31: =C31/C30 -> 0.76580618
A32: Культурно-досуговые учреждения
A33: АУП | B33: ='приложение 2 культура '!B26+'приложение 2 культура '!B32+'приложение 2 культура '!B38+'приложение 2 культура '!B44 -> 10 | C33: =D33/B33/12*1000 -> 56466.667 | D33: ='приложение 2 культура '!C26+'приложение 2 культура '!C32+'приложение 2 культура '!C38+'приложение 2 культура '!C44 -> 6776 | E33: =C33/C34 -> 1.524828 | F33: =B37+B41+B45+B49 -> 10 | G33: =H33/F33/12*1000 -> 56466.667 | H33: =D37+D41+D45+D49 -> 6776
A34: основной | B34: ='приложение 2 культура '!B27+'приложение 2 культура '!B33+'приложение 2 культура '!B39+'приложение 2 культура '!B45 -> 67.2 | C34: =D34/B34/12*1000 -> 37031.498 | D34: ='приложение 2 культура '!C27+'приложение 2 культура '!C33+'приложение 2 культура '!C39+'приложение 2 культура '!C45 -> 29862.2 | E34: =C34/C34 -> 1 | F34: =B38+B42+B46+B50 -> 67.2 | G34: =H34/F34/12*1000 -> 37031.498 | H34: =D38+D42+D46+D50 -> 29862.2
A35: вспомогательный | B35: ='приложение 2 культура '!B28+'приложение 2 культура '!B34+'приложение 2 культура '!B40+'приложение 2 культура '!B46 -> 47.6 | C35: =D35/B35/12*1000 -> 28817.227 | D35: ='приложение 2 культура '!C28+'приложение 2 культура '!C34+'приложение 2 культура '!C40+'приложение 2 культура '!C46 -> 16460.4 | E35: =C35/C34 -> 0.77818151 | F35: =B39+B43+B47+B51 -> 47.6 | G35: =H35/F35/12*1000 -> 28817.227 | H35: =D39+D43+D47+D51 -> 16460.4
A36: ОГАУК «ДНТ «Авангард»
A37: АУП | B37: ='приложение 2 культура '!B26 -> 4 | C37: =D37/B37/12*1000 -> 63856.25 | D37: ='приложение 2 культура '!C26 -> 3065.1 | E37: =C37/C38 -> 1.6794795
A38: основной | B38: ='приложение 2 культура '!B27 -> 50.5 | C38: =D38/B38/12*1000 -> 38021.452 | D38: ='приложение 2 культура '!C27 -> 23041 | E38: =C38/C38 -> 1
A39: вспомогательный | B39: ='приложение 2 культура '!B28 -> 34 | C39: =D39/B39/12*1000 -> 32138.971 | D39: ='приложение 2 культура '!C28 -> 13112.7 | E39: =C39/C38 -> 0.84528519
A40: ОГАУК «ТО РНД»
A41: АУП | B41: ='приложение 2 культура '!B32 -> 3 | C41: =D41/B41/12*1000 -> 52119.444 | D41: ='приложение 2 культура '!C32 -> 1876.3 | E41: =C41/C42 -> 1.6461247
A42: основной | B42: ='приложение 2 культура '!B33 -> 7 | C42: =D42/B42/12*1000 -> 31661.905 | D42: ='приложение 2 культура '!C33 -> 2659.6 | E42: =C42/C42 -> 1
A43: вспомогательный | B43: ='приложение 2 культура '!B34 -> 3.8 | C43: =D43/B43/12*1000 -> 23197.368 | D43: ='приложение 2 культура '!C34 -> 1057.8 | E43: =C43/C42 -> 0.73265865
A44: ОГАУК «ЦТК»
A45: АУП | B45: ='приложение 2 культура '!B38 -> 2 | C45: =D45/B45/12*1000 -> 49141.667 | D45: ='приложение 2 культура '!C38 -> 1179.4 | E45: =C45/C46 -> 1.4327649
A46: основной | B46: ='приложение 2 культура '!B39 -> 5.5 | C46: =D46/B46/12*1000 -> 34298.485 | D46: ='приложение 2 культура '!C39 -> 2263.7 | E46: =C46/C46 -> 1
A47: вспомогательный | B47: ='приложение 2 культура '!B40 -> 2.3 | C47: =D47/B47/12*1000 -> 20192.029 | D47: ='приложение 2 культура '!C40 -> 557.3 | E47: =C47/C46 -> 0.5887149
A48: ОГАУК «Дом искусств»
A49: АУП | B49: ='приложение 2 культура '!B44 -> 1 | C49: =D49/B49/12*1000 -> 54600 | D49: ='приложение 2 культура '!C44 -> 655.2 | E49: =C49/C50 -> 1.4499394
A50: основной | B50: ='приложение 2 культура '!B45 -> 4.2 | C50: =D50/B50/12*1000 -> 37656.746 | D50: ='приложение 2 культура '!C45 -> 1897.9 | E50: =C50/C50 -> 1
A51: вспомогательный | B51: ='приложение 2 культура '!B46 -> 7.5 | C51: =D51/B51/12*1000 -> 19251.111 | D51: ='приложение 2 культура '!C46 -> 1732.6 | E51: =C51/C50 -> 0.51122609
A52: Музеи
A53: АУП | B53: ='приложение 2 культура '!B50+'приложение 2 культура '!B56 -> 10 | C53: =D53/B53/12*1000 -> 68346.667 | D53: ='приложение 2 культура '!C50+'приложение 2 культура '!C56 -> 8201.6 | E53: =C53/C54 -> 2.3443757 | F53: =B57+B61 -> 10 | G53: =H53/F53/12*1000 -> 68346.667 | H53: =D57+D61 -> 8201.6
A54: основной | B54: ='приложение 2 культура '!B51+'приложение 2 культура '!B57 -> 138.2 | C54: =D54/B54/12*1000 -> 29153.461 | D54: ='приложение 2 культура '!C51+'приложение 2 культура '!C57 -> 48348.1 | E54: =C54/C54 -> 1 | F54: =B58+B62 -> 138.2 | G54: =H54/F54/12*1000 -> 29153.461 | H54: =D58+D62 -> 48348.1
A55: вспомогательный | B55: ='приложение 2 культура '!B52+'приложение 2 культура '!B58 -> 81.2 | C55: =D55/B55/12*1000 -> 28670.567 | D55: ='приложение 2 культура '!C52+'приложение 2 культура '!C58 -> 27936.6 | E55: =C55/C54 -> 0.98343611 | F55: =B59+B63 -> 81.2 | G55: =H55/F55/12*1000 -> 28670.567 | H55: =D59+D63 -> 27936.6
A56: ОГАУК "ТОКМ им.М.Б. Шатилова"
A57: АУП | B57: ='приложение 2 культура '!B50 -> 6 | C57: =D57/B57/12*1000 -> 66320.833 | D57: ='приложение 2 культура '!C50 -> 4775.1 | E57: =C57/C58 -> 2.3723478
A58: основной | B58: ='приложение 2 культура '!B51 -> 91.4 | C58: =D58/B58/12*1000 -> 27955.78 | D58: ='приложение 2 культура '!C51 -> 30661.9 | E58: =C58/C58 -> 1
A59: вспомогательный | B59: ='приложение 2 культура '!B52 -> 62.9 | C59: =D59/B59/12*1000 -> 28052.597 | D59: ='приложение 2 культура '!C52 -> 21174.1 | E59: =C59/C58 -> 1.0034632
A60: ОГАУК "ТОХМ"
A61: АУП | B61: ='приложение 2 культура '!B56 -> 4 | C61: =D61/B61/12*1000 -> 71385.417 | D61: ='приложение 2 культура '!C56 -> 3426.5 | E61: =C61/C62 -> 2.2667419
A62: основной | B62: ='приложение 2 культура '!B57 -> 46.8 | C62: =D62/B62/12*1000 -> 31492.521 | D62: ='приложение 2 культура '!C57 -> 17686.2 | E62: =C62/C62 -> 1
A63: вспомогательный | B63: ='приложение 2 культура '!B58 -> 18.3 | C63: =D63/B63/12*1000 -> 30794.627 | D63: ='приложение 2 культура '!C58 -> 6762.5 | E63: =C63/C62 -> 0.97783935
A64: Театрально-зрелищные учреждения
A65: АУП | B65: ='приложение 2 культура '!B62+'приложение 2 культура '!B68+'приложение 2 культура '!B74 -> 10 | C65: =D65/B65/12*1000 -> 81743.333 | D65: ='приложение 2 культура '!C62+'приложение 2 культура '!C68+'приложение 2 культура '!C74 -> 9809.2 | E65: =C65/C66 -> 2.0367116 | F65: =B69+B73+B77 -> 10 | G65: =H65/F65/12*1000 -> 81743.333 | H65: =D69+D73+D77 -> 9809.2
A66: основной | B66: ='приложение 2 культура '!B63+'приложение 2 культура '!B69+'приложение 2 культура '!B75 -> 165.3 | C66: =D66/B66/12*1000 -> 40134.957 | D66: ='приложение 2 культура '!C63+'приложение 2 культура '!C69+'приложение 2 культура '!C75 -> 79611.7 | E66: =C66/C66 -> 1 | F66: =B70+B74+B78 -> 165.3 | G66: =H66/F66/12*1000 -> 40134.957 | H66: =D70+D74+D78 -> 79611.7
A67: вспомогательный | B67: ='приложение 2 культура '!B64+'приложение 2 культура '!B70+'приложение 2 культура '!B76 -> 130.9 | C67: =D67/B67/12*1000 -> 31251.082 | D67: ='приложение 2 культура '!C64+'приложение 2 культура '!C70+'приложение 2 культура '!C76 -> 49089.2 | E67: =C67/C66 -> 0.77864996 | F67: =B71+B75+B79 -> 130.9 | G67: =H67/F67/12*1000 -> 31251.082 | H67: =D71+D75+D79 -> 49089.2
A68: ОГАУК «Театр драмы»
A69: АУП | B69: ='приложение 2 культура '!B62 -> 2.9 | C69: =D69/B69/12*1000 -> 105939.66 | D69: ='приложение 2 культура '!C62 -> 3686.7 | E69: =C69/C70 -> 2.2590627
A70: основной | B70: ='приложение 2 культура '!B63 -> 67.8 | C70: =D70/B70/12*1000 -> 46895.403 | D70: ='приложение 2 культура '!C63 -> 38154.1 | E70: =C70/C70 -> 1
A71: вспомогательный | B71: ='приложение 2 культура '!B64 -> 66.4 | C71: =D71/B71/12*1000 -> 33617.721 | D71: ='приложение 2 культура '!C64 -> 26786.6 | E71: =C71/C70 -> 0.71686602
A72: ОГАУК ТО ТЮЗ
A73: АУП | B73: ='приложение 2 культура '!B68 -> 3.6 | C73: =D73/B73/12*1000 -> 73865.741 | D73: ='приложение 2 культура '!C68 -> 3191 | E73: =C73/C74 -> 2.15964
A74: основной | B74: ='приложение 2 культура '!B69 -> 56.5 | C74: =D74/B74/12*1000 -> 34202.802 | D74: ='приложение 2 культура '!C69 -> 23189.5 | E74: =C74/C74 -> 1
A75: вспомогательный | B75: ='приложение 2 культура '!B70 -> 45.2 | C75: =D75/B75/12*1000 -> 29093.473 | D75: ='приложение 2 культура '!C70 -> 15780.3 | E75: =C75/C74 -> 0.85061666
A76: ОГАУК ТОТК и А «Скоморох» им. Р. Виндермана
A77: АУП | B77: ='приложение 2 культура '!B74 -> 3.5 | C77: =D77/B77/12*1000 -> 69797.619 | D77: ='приложение 2 культура '!C74 -> 2931.5 | E77: =C77/C78 -> 1.879803
A78: основной | B78: ='приложение 2 культура '!B75 -> 41 | C78: =D78/B78/12*1000 -> 37130.285 | D78: ='приложение 2 культура '!C75 -> 18268.1 | E78: =C78/C78 -> 1
A79: вспомогательный | B79: ='приложение 2 культура '!B76 -> 19.3 | C79: =D79/B79/12*1000 -> 28161.917 | D79: ='приложение 2 культура '!C76 -> 6522.3 | E79: =C79/C78 -> 0.75846219
A80: Концертные организации
A81: ОГАУК «Томская областная государственная филармония»
A82: АУП | B82: ='приложение 2 культура '!B80 -> 4.1 | C82: =D82/B82/12*1000 -> 91536.585 | D82: ='приложение 2 культура '!C80 -> 4503.6 | E82: =C82/C83 -> 1.220289
A83: основной | B83: ='приложение 2 культура '!B81 -> 102.3 | C83: =D83/B83/12*1000 -> 75012.219 | D83: ='приложение 2 культура '!C81 -> 92085 | E83: =C83/C83 -> 1
A84: вспомогательный | B84: ='приложение 2 культура '!B82 -> 57.8 | C84: =D84/B84/12*1000 -> 38813.725 | D84: ='приложение 2 культура '!C82 -> 26921.2 | E84: =C84/C83 -> 0.51743204
A85: Архивы
A86: АУП | B86: ='приложение 2 культура '!B86+'приложение 2 культура '!B92 -> 8 | C86: =D86/B86/12*1000 -> 57209.375 | D86: ='приложение 2 культура '!C86+'приложение 2 культура '!C92 -> 5492.1 | E86: =C86/C87 -> 1.4003143 | F86: =B90+B94 -> 8 | G86: =H86/F86/12*1000 -> 57209.375 | H86: =D90+D94 -> 5492.1
A87: основной | B87: ='приложение 2 культура '!B87+'приложение 2 культура '!B93 -> 75 | C87: =D87/B87/12*1000 -> 40854.667 | D87: ='приложение 2 культура '!C87+'приложение 2 культура '!C93 -> 36769.2 | E87: =C87/C87 -> 1 | F87: =B91+B95 -> 75 | G87: =H87/F87/12*1000 -> 40854.667 | H87: =D91+D95 -> 36769.2
A88: вспомогательный | B88: ='приложение 2 культура '!B88+'приложение 2 культура '!B94 -> 26.2 | C88: =D88/B88/12*1000 -> 27309.796 | D88: ='приложение 2 культура '!C88+'приложение 2 культура '!C94 -> 8586.2 | E88: =C88/C87 -> 0.6684621 | F88: =B92+B96 -> 26.2 | G88: =H88/F88/12*1000 -> 27309.796 | H88: =D92+D96 -> 8586.2
A89: ОГКУ "ГАТО"
A90: АУП | B90: ='приложение 2 культура '!B86 -> 4 | C90: =D90/B90/12*1000 -> 58022.917 | D90: ='приложение 2 культура '!C86 -> 2785.1 | E90: =C90/C91 -> 1.4369609
A91: основной | B91: ='приложение 2 культура '!B87 -> 49 | C91: =D91/B91/12*1000 -> 40378.912 | D91: ='приложение 2 культура '!C87 -> 23742.8 | E91: =C91/C91 -> 1
A92: вспомогательный | B92: ='приложение 2 культура '!B88 -> 16.5 | C92: =D92/B92/12*1000 -> 25944.949 | D92: ='приложение 2 культура '!C88 -> 5137.1 | E92: =C92/C91 -> 0.64253712
A93: ОГКУ "ЦДНИ ТО"
A94: АУП | B94: ='приложение 2 культура '!B92 -> 4 | C94: =D94/B94/12*1000 -> 56395.833 | D94: ='приложение 2 культура '!C92 -> 2707 | E94: =C94/C95 -> 1.3507569
A95: основной | B95: ='приложение 2 культура '!B93 -> 26 | C95: =D95/B95/12*1000 -> 41751.282 | D95: ='приложение 2 культура '!C93 -> 13026.4 | E95: =C95/C95 -> 1
A96: вспомогательный | B96: ='приложение 2 культура '!B94 -> 9.7 | C96: =D96/B96/12*1000 -> 29631.443 | D96: ='приложение 2 культура '!C94 -> 3449.1 | E96: =C96/C95 -> 0.70971338
A97: Прочее
A98: ОГАУК "ЦОП"
A99: АУП | B99: ='приложение 2 культура '!B98 -> 2 | C99: =D99/B99/12*1000 -> 74283.333 | D99: ='приложение 2 культура '!C98 -> 1782.8 | E99: =C99/C100 -> 2.328023
A100: основной | B100: ='приложение 2 культура '!B99 -> 1 | C100: =D100/B100/12*1000 -> 31908.333 | D100: ='приложение 2 культура '!C99 -> 382.9 | E100: =C100/C100 -> 1
A101: вспомогательный | B101: ='приложение 2 культура '!B100 -> 9 | C101: =D101/B101/12*1000 -> 35839.815 | D101: ='приложение 2 культура '!C100 -> 3870.7 | E101: =C101/C100 -> 1.1232117
A102: Муниципальные образования (в разрезе муниципальных учреждения), всего:
...
